BEGIN:VCALENDAR
VERSION:2.0
PRODID:-//PFH Pickering &amp; Ferens Homes - ECPv6.15.20//NONSGML v1.0//EN
CALSCALE:GREGORIAN
METHOD:PUBLISH
X-ORIGINAL-URL:https://www.pfh.org.uk
X-WR-CALDESC:Events for PFH Pickering &amp; Ferens Homes
REFRESH-INTERVAL;VALUE=DURATION:PT1H
X-Robots-Tag:noindex
X-PUBLISHED-TTL:PT1H
BEGIN:VTIMEZONE
TZID:Europe/London
BEGIN:DAYLIGHT
TZOFFSETFROM:+0000
TZOFFSETTO:+0100
TZNAME:BST
DTSTART:20240331T010000
END:DAYLIGHT
BEGIN:STANDARD
TZOFFSETFROM:+0100
TZOFFSETTO:+0000
TZNAME:GMT
DTSTART:20241027T010000
END:STANDARD
BEGIN:DAYLIGHT
TZOFFSETFROM:+0000
TZOFFSETTO:+0100
TZNAME:BST
DTSTART:20250330T010000
END:DAYLIGHT
BEGIN:STANDARD
TZOFFSETFROM:+0100
TZOFFSETTO:+0000
TZNAME:GMT
DTSTART:20251026T010000
END:STANDARD
BEGIN:DAYLIGHT
TZOFFSETFROM:+0000
TZOFFSETTO:+0100
TZNAME:BST
DTSTART:20260329T010000
END:DAYLIGHT
BEGIN:STANDARD
TZOFFSETFROM:+0100
TZOFFSETTO:+0000
TZNAME:GMT
DTSTART:20261025T010000
END:STANDARD
END:VTIMEZONE
BEGIN:VEVENT
DTSTART;TZID=Europe/London:20250806T103000
DTEND;TZID=Europe/London:20250806T133000
DTSTAMP:20260420T082816
CREATED:20250722T133608Z
LAST-MODIFIED:20250722T133608Z
UID:10016923-1754476200-1754487000@www.pfh.org.uk
SUMMARY:Health and wellbeing information event – Orchard Garth
DESCRIPTION:The event is to bring local services and information/advice to the PFH villages.  \nThis provides opportunity for people to find out more about services that may be able to support them live independently and well in their own homes and manage health conditions with support. Also find out about local support groups and social groups within their local area.  \nCome and see us and get some freebies and useful information. Everyone welcome. 
URL:https://www.pfh.org.uk/event/health-and-wellbeing-information-event-orchard-garth/
LOCATION:Orchard Garth & Appletree Apartments\, Orchard Garth & Appletree Apartments\, United Kingdom
CATEGORIES:Open to Everyone,Resident Events
ATTACH;FMTTYPE=image/jpeg:https://www.pfh.org.uk/wp-content/uploads/2025/07/Mental-health.jpg
END:VEVENT
END:VCALENDAR