BEGIN:VCALENDAR
VERSION:2.0
PRODID:-//PFH Pickering &amp; Ferens Homes - ECPv6.15.20//NONSGML v1.0//EN
CALSCALE:GREGORIAN
METHOD:PUBLISH
X-ORIGINAL-URL:https://www.pfh.org.uk
X-WR-CALDESC:Events for PFH Pickering &amp; Ferens Homes
REFRESH-INTERVAL;VALUE=DURATION:PT1H
X-Robots-Tag:noindex
X-PUBLISHED-TTL:PT1H
BEGIN:VTIMEZONE
TZID:Europe/London
BEGIN:DAYLIGHT
TZOFFSETFROM:+0000
TZOFFSETTO:+0100
TZNAME:BST
DTSTART:20270328T010000
END:DAYLIGHT
BEGIN:STANDARD
TZOFFSETFROM:+0100
TZOFFSETTO:+0000
TZNAME:GMT
DTSTART:20271031T010000
END:STANDARD
BEGIN:DAYLIGHT
TZOFFSETFROM:+0000
TZOFFSETTO:+0100
TZNAME:BST
DTSTART:20280326T010000
END:DAYLIGHT
BEGIN:STANDARD
TZOFFSETFROM:+0100
TZOFFSETTO:+0000
TZNAME:GMT
DTSTART:20281029T010000
END:STANDARD
BEGIN:DAYLIGHT
TZOFFSETFROM:+0000
TZOFFSETTO:+0100
TZNAME:BST
DTSTART:20290325T010000
END:DAYLIGHT
BEGIN:STANDARD
TZOFFSETFROM:+0100
TZOFFSETTO:+0000
TZNAME:GMT
DTSTART:20291028T010000
END:STANDARD
END:VTIMEZONE
BEGIN:VEVENT
DTSTART;TZID=Europe/London:20280310T103000
DTEND;TZID=Europe/London:20280310T120000
DTSTAMP:20260423T022239
CREATED:20260119T152927Z
LAST-MODIFIED:20260119T152927Z
UID:10022989-1836297000-1836302400@www.pfh.org.uk
SUMMARY:Scheme Managers Coffee Morning and Quiz
DESCRIPTION:
URL:https://www.pfh.org.uk/event/scheme-managers-coffee-morning-and-quiz/2028-03-10/
LOCATION:Humber View\, Camilla Cl\, Hull\, HU9 1UE\, United Kingdom
CATEGORIES:Resident Events,Residents
ATTACH;FMTTYPE=image/jpeg:https://www.pfh.org.uk/wp-content/uploads/2024/02/coffee.jpg
GEO:53.7391243;-0.3273038
X-APPLE-STRUCTURED-LOCATION;VALUE=URI;X-ADDRESS=Humber View Camilla Cl Hull HU9 1UE United Kingdom;X-APPLE-RADIUS=500;X-TITLE=Camilla Cl:geo:-0.3273038,53.7391243
END:VEVENT
BEGIN:VEVENT
DTSTART;TZID=Europe/London:20280314T090000
DTEND;TZID=Europe/London:20280314T100000
DTSTAMP:20260423T022239
CREATED:20260119T153403Z
LAST-MODIFIED:20260119T153403Z
UID:10023767-1836637200-1836640800@www.pfh.org.uk
SUMMARY:Hairdressers
DESCRIPTION:Contact Scheme Manager for Appointments
URL:https://www.pfh.org.uk/event/hairdressers-2/2028-03-14/
LOCATION:Malin Lodge\, Malin Lodge\, Hull\, HU9 3LH\, United Kingdom
CATEGORIES:Resident Events,Residents
ATTACH;FMTTYPE=image/jpeg:https://www.pfh.org.uk/wp-content/uploads/2024/02/blonde-woman-getting-her-hair-done.jpg
GEO:53.7657778;-0.284267
X-APPLE-STRUCTURED-LOCATION;VALUE=URI;X-ADDRESS=Malin Lodge Malin Lodge Hull HU9 3LH United Kingdom;X-APPLE-RADIUS=500;X-TITLE=Malin Lodge:geo:-0.284267,53.7657778
END:VEVENT
BEGIN:VEVENT
DTSTART;TZID=Europe/London:20280314T190000
DTEND;TZID=Europe/London:20280314T210000
DTSTAMP:20260423T022239
CREATED:20260119T152645Z
LAST-MODIFIED:20260119T152645Z
UID:10022323-1836673200-1836680400@www.pfh.org.uk
SUMMARY:Scrabble
DESCRIPTION:Tuesday and Thursday 7pm – 9pm
URL:https://www.pfh.org.uk/event/scrabble/2028-03-14/
LOCATION:Humber View\, Camilla Cl\, Hull\, HU9 1UE\, United Kingdom
CATEGORIES:Resident Events,Residents
ATTACH;FMTTYPE=image/jpeg:https://www.pfh.org.uk/wp-content/uploads/2026/01/shutterstock_2386784097-scaled.jpg
GEO:53.7391243;-0.3273038
X-APPLE-STRUCTURED-LOCATION;VALUE=URI;X-ADDRESS=Humber View Camilla Cl Hull HU9 1UE United Kingdom;X-APPLE-RADIUS=500;X-TITLE=Camilla Cl:geo:-0.3273038,53.7391243
END:VEVENT
BEGIN:VEVENT
DTSTART;TZID=Europe/London:20280316T103000
DTEND;TZID=Europe/London:20280316T113000
DTSTAMP:20260423T022239
CREATED:20260119T142033Z
LAST-MODIFIED:20260119T142805Z
UID:10004400-1836815400-1836819000@www.pfh.org.uk
SUMMARY:Exercise to Music with Janine
DESCRIPTION:£3\nThursday 10:30am – 11:30am\nFREE – contact Janine at 07986 963 485
URL:https://www.pfh.org.uk/event/exercise-to-music-inc-pilates-with-janine-2/2028-03-16/
LOCATION:Broadway Pavilion\, Hull\, HU9 3PB\, United Kingdom
CATEGORIES:Open to Everyone,Resident Events,Residents
ATTACH;FMTTYPE=image/jpeg:https://www.pfh.org.uk/wp-content/uploads/2024/03/man-wearing-black-jacket-and-black-pants-3693131-1024x683.jpg
GEO:53.7646305;-0.2850302
END:VEVENT
BEGIN:VEVENT
DTSTART;TZID=Europe/London:20280316T190000
DTEND;TZID=Europe/London:20280316T210000
DTSTAMP:20260423T022239
CREATED:20260119T152645Z
LAST-MODIFIED:20260119T152645Z
UID:10022324-1836846000-1836853200@www.pfh.org.uk
SUMMARY:Scrabble
DESCRIPTION:Tuesday and Thursday 7pm – 9pm
URL:https://www.pfh.org.uk/event/scrabble/2028-03-16/
LOCATION:Humber View\, Camilla Cl\, Hull\, HU9 1UE\, United Kingdom
CATEGORIES:Resident Events,Residents
ATTACH;FMTTYPE=image/jpeg:https://www.pfh.org.uk/wp-content/uploads/2026/01/shutterstock_2386784097-scaled.jpg
GEO:53.7391243;-0.3273038
X-APPLE-STRUCTURED-LOCATION;VALUE=URI;X-ADDRESS=Humber View Camilla Cl Hull HU9 1UE United Kingdom;X-APPLE-RADIUS=500;X-TITLE=Camilla Cl:geo:-0.3273038,53.7391243
END:VEVENT
BEGIN:VEVENT
DTSTART;TZID=Europe/London:20280317T103000
DTEND;TZID=Europe/London:20280317T120000
DTSTAMP:20260423T022239
CREATED:20260119T152927Z
LAST-MODIFIED:20260119T152927Z
UID:10022990-1836901800-1836907200@www.pfh.org.uk
SUMMARY:Scheme Managers Coffee Morning and Quiz
DESCRIPTION:
URL:https://www.pfh.org.uk/event/scheme-managers-coffee-morning-and-quiz/2028-03-17/
LOCATION:Humber View\, Camilla Cl\, Hull\, HU9 1UE\, United Kingdom
CATEGORIES:Resident Events,Residents
ATTACH;FMTTYPE=image/jpeg:https://www.pfh.org.uk/wp-content/uploads/2024/02/coffee.jpg
GEO:53.7391243;-0.3273038
X-APPLE-STRUCTURED-LOCATION;VALUE=URI;X-ADDRESS=Humber View Camilla Cl Hull HU9 1UE United Kingdom;X-APPLE-RADIUS=500;X-TITLE=Camilla Cl:geo:-0.3273038,53.7391243
END:VEVENT
BEGIN:VEVENT
DTSTART;TZID=Europe/London:20280321T090000
DTEND;TZID=Europe/London:20280321T100000
DTSTAMP:20260423T022239
CREATED:20260119T153403Z
LAST-MODIFIED:20260119T153403Z
UID:10023768-1837242000-1837245600@www.pfh.org.uk
SUMMARY:Hairdressers
DESCRIPTION:Contact Scheme Manager for Appointments
URL:https://www.pfh.org.uk/event/hairdressers-2/2028-03-21/
LOCATION:Malin Lodge\, Malin Lodge\, Hull\, HU9 3LH\, United Kingdom
CATEGORIES:Resident Events,Residents
ATTACH;FMTTYPE=image/jpeg:https://www.pfh.org.uk/wp-content/uploads/2024/02/blonde-woman-getting-her-hair-done.jpg
GEO:53.7657778;-0.284267
X-APPLE-STRUCTURED-LOCATION;VALUE=URI;X-ADDRESS=Malin Lodge Malin Lodge Hull HU9 3LH United Kingdom;X-APPLE-RADIUS=500;X-TITLE=Malin Lodge:geo:-0.284267,53.7657778
END:VEVENT
BEGIN:VEVENT
DTSTART;TZID=Europe/London:20280321T190000
DTEND;TZID=Europe/London:20280321T210000
DTSTAMP:20260423T022239
CREATED:20260119T152645Z
LAST-MODIFIED:20260119T152645Z
UID:10022325-1837278000-1837285200@www.pfh.org.uk
SUMMARY:Scrabble
DESCRIPTION:Tuesday and Thursday 7pm – 9pm
URL:https://www.pfh.org.uk/event/scrabble/2028-03-21/
LOCATION:Humber View\, Camilla Cl\, Hull\, HU9 1UE\, United Kingdom
CATEGORIES:Resident Events,Residents
ATTACH;FMTTYPE=image/jpeg:https://www.pfh.org.uk/wp-content/uploads/2026/01/shutterstock_2386784097-scaled.jpg
GEO:53.7391243;-0.3273038
X-APPLE-STRUCTURED-LOCATION;VALUE=URI;X-ADDRESS=Humber View Camilla Cl Hull HU9 1UE United Kingdom;X-APPLE-RADIUS=500;X-TITLE=Camilla Cl:geo:-0.3273038,53.7391243
END:VEVENT
BEGIN:VEVENT
DTSTART;TZID=Europe/London:20280323T103000
DTEND;TZID=Europe/London:20280323T113000
DTSTAMP:20260423T022239
CREATED:20260119T142033Z
LAST-MODIFIED:20260119T142805Z
UID:10004401-1837420200-1837423800@www.pfh.org.uk
SUMMARY:Exercise to Music with Janine
DESCRIPTION:£3\nThursday 10:30am – 11:30am\nFREE – contact Janine at 07986 963 485
URL:https://www.pfh.org.uk/event/exercise-to-music-inc-pilates-with-janine-2/2028-03-23/
LOCATION:Broadway Pavilion\, Hull\, HU9 3PB\, United Kingdom
CATEGORIES:Open to Everyone,Resident Events,Residents
ATTACH;FMTTYPE=image/jpeg:https://www.pfh.org.uk/wp-content/uploads/2024/03/man-wearing-black-jacket-and-black-pants-3693131-1024x683.jpg
GEO:53.7646305;-0.2850302
END:VEVENT
BEGIN:VEVENT
DTSTART;TZID=Europe/London:20280323T190000
DTEND;TZID=Europe/London:20280323T210000
DTSTAMP:20260423T022239
CREATED:20260119T152645Z
LAST-MODIFIED:20260119T152645Z
UID:10022326-1837450800-1837458000@www.pfh.org.uk
SUMMARY:Scrabble
DESCRIPTION:Tuesday and Thursday 7pm – 9pm
URL:https://www.pfh.org.uk/event/scrabble/2028-03-23/
LOCATION:Humber View\, Camilla Cl\, Hull\, HU9 1UE\, United Kingdom
CATEGORIES:Resident Events,Residents
ATTACH;FMTTYPE=image/jpeg:https://www.pfh.org.uk/wp-content/uploads/2026/01/shutterstock_2386784097-scaled.jpg
GEO:53.7391243;-0.3273038
X-APPLE-STRUCTURED-LOCATION;VALUE=URI;X-ADDRESS=Humber View Camilla Cl Hull HU9 1UE United Kingdom;X-APPLE-RADIUS=500;X-TITLE=Camilla Cl:geo:-0.3273038,53.7391243
END:VEVENT
BEGIN:VEVENT
DTSTART;TZID=Europe/London:20280324T103000
DTEND;TZID=Europe/London:20280324T120000
DTSTAMP:20260423T022239
CREATED:20260119T152927Z
LAST-MODIFIED:20260119T152927Z
UID:10022991-1837506600-1837512000@www.pfh.org.uk
SUMMARY:Scheme Managers Coffee Morning and Quiz
DESCRIPTION:
URL:https://www.pfh.org.uk/event/scheme-managers-coffee-morning-and-quiz/2028-03-24/
LOCATION:Humber View\, Camilla Cl\, Hull\, HU9 1UE\, United Kingdom
CATEGORIES:Resident Events,Residents
ATTACH;FMTTYPE=image/jpeg:https://www.pfh.org.uk/wp-content/uploads/2024/02/coffee.jpg
GEO:53.7391243;-0.3273038
X-APPLE-STRUCTURED-LOCATION;VALUE=URI;X-ADDRESS=Humber View Camilla Cl Hull HU9 1UE United Kingdom;X-APPLE-RADIUS=500;X-TITLE=Camilla Cl:geo:-0.3273038,53.7391243
END:VEVENT
BEGIN:VEVENT
DTSTART;TZID=Europe/London:20280328T090000
DTEND;TZID=Europe/London:20280328T100000
DTSTAMP:20260423T022239
CREATED:20260119T153403Z
LAST-MODIFIED:20260119T153403Z
UID:10023769-1837846800-1837850400@www.pfh.org.uk
SUMMARY:Hairdressers
DESCRIPTION:Contact Scheme Manager for Appointments
URL:https://www.pfh.org.uk/event/hairdressers-2/2028-03-28/
LOCATION:Malin Lodge\, Malin Lodge\, Hull\, HU9 3LH\, United Kingdom
CATEGORIES:Resident Events,Residents
ATTACH;FMTTYPE=image/jpeg:https://www.pfh.org.uk/wp-content/uploads/2024/02/blonde-woman-getting-her-hair-done.jpg
GEO:53.7657778;-0.284267
X-APPLE-STRUCTURED-LOCATION;VALUE=URI;X-ADDRESS=Malin Lodge Malin Lodge Hull HU9 3LH United Kingdom;X-APPLE-RADIUS=500;X-TITLE=Malin Lodge:geo:-0.284267,53.7657778
END:VEVENT
BEGIN:VEVENT
DTSTART;TZID=Europe/London:20280328T190000
DTEND;TZID=Europe/London:20280328T210000
DTSTAMP:20260423T022239
CREATED:20260119T152645Z
LAST-MODIFIED:20260119T152645Z
UID:10022327-1837882800-1837890000@www.pfh.org.uk
SUMMARY:Scrabble
DESCRIPTION:Tuesday and Thursday 7pm – 9pm
URL:https://www.pfh.org.uk/event/scrabble/2028-03-28/
LOCATION:Humber View\, Camilla Cl\, Hull\, HU9 1UE\, United Kingdom
CATEGORIES:Resident Events,Residents
ATTACH;FMTTYPE=image/jpeg:https://www.pfh.org.uk/wp-content/uploads/2026/01/shutterstock_2386784097-scaled.jpg
GEO:53.7391243;-0.3273038
X-APPLE-STRUCTURED-LOCATION;VALUE=URI;X-ADDRESS=Humber View Camilla Cl Hull HU9 1UE United Kingdom;X-APPLE-RADIUS=500;X-TITLE=Camilla Cl:geo:-0.3273038,53.7391243
END:VEVENT
BEGIN:VEVENT
DTSTART;TZID=Europe/London:20280330T103000
DTEND;TZID=Europe/London:20280330T113000
DTSTAMP:20260423T022239
CREATED:20260119T142033Z
LAST-MODIFIED:20260119T142805Z
UID:10004402-1838025000-1838028600@www.pfh.org.uk
SUMMARY:Exercise to Music with Janine
DESCRIPTION:£3\nThursday 10:30am – 11:30am\nFREE – contact Janine at 07986 963 485
URL:https://www.pfh.org.uk/event/exercise-to-music-inc-pilates-with-janine-2/2028-03-30/
LOCATION:Broadway Pavilion\, Hull\, HU9 3PB\, United Kingdom
CATEGORIES:Open to Everyone,Resident Events,Residents
ATTACH;FMTTYPE=image/jpeg:https://www.pfh.org.uk/wp-content/uploads/2024/03/man-wearing-black-jacket-and-black-pants-3693131-1024x683.jpg
GEO:53.7646305;-0.2850302
END:VEVENT
BEGIN:VEVENT
DTSTART;TZID=Europe/London:20280330T190000
DTEND;TZID=Europe/London:20280330T210000
DTSTAMP:20260423T022239
CREATED:20260119T152645Z
LAST-MODIFIED:20260119T152645Z
UID:10022328-1838055600-1838062800@www.pfh.org.uk
SUMMARY:Scrabble
DESCRIPTION:Tuesday and Thursday 7pm – 9pm
URL:https://www.pfh.org.uk/event/scrabble/2028-03-30/
LOCATION:Humber View\, Camilla Cl\, Hull\, HU9 1UE\, United Kingdom
CATEGORIES:Resident Events,Residents
ATTACH;FMTTYPE=image/jpeg:https://www.pfh.org.uk/wp-content/uploads/2026/01/shutterstock_2386784097-scaled.jpg
GEO:53.7391243;-0.3273038
X-APPLE-STRUCTURED-LOCATION;VALUE=URI;X-ADDRESS=Humber View Camilla Cl Hull HU9 1UE United Kingdom;X-APPLE-RADIUS=500;X-TITLE=Camilla Cl:geo:-0.3273038,53.7391243
END:VEVENT
BEGIN:VEVENT
DTSTART;TZID=Europe/London:20280331T103000
DTEND;TZID=Europe/London:20280331T120000
DTSTAMP:20260423T022239
CREATED:20260119T152927Z
LAST-MODIFIED:20260119T152927Z
UID:10022992-1838111400-1838116800@www.pfh.org.uk
SUMMARY:Scheme Managers Coffee Morning and Quiz
DESCRIPTION:
URL:https://www.pfh.org.uk/event/scheme-managers-coffee-morning-and-quiz/2028-03-31/
LOCATION:Humber View\, Camilla Cl\, Hull\, HU9 1UE\, United Kingdom
CATEGORIES:Resident Events,Residents
ATTACH;FMTTYPE=image/jpeg:https://www.pfh.org.uk/wp-content/uploads/2024/02/coffee.jpg
GEO:53.7391243;-0.3273038
X-APPLE-STRUCTURED-LOCATION;VALUE=URI;X-ADDRESS=Humber View Camilla Cl Hull HU9 1UE United Kingdom;X-APPLE-RADIUS=500;X-TITLE=Camilla Cl:geo:-0.3273038,53.7391243
END:VEVENT
BEGIN:VEVENT
DTSTART;TZID=Europe/London:20280404T090000
DTEND;TZID=Europe/London:20280404T100000
DTSTAMP:20260423T022239
CREATED:20260119T153403Z
LAST-MODIFIED:20260119T153403Z
UID:10023770-1838451600-1838455200@www.pfh.org.uk
SUMMARY:Hairdressers
DESCRIPTION:Contact Scheme Manager for Appointments
URL:https://www.pfh.org.uk/event/hairdressers-2/2028-04-04/
LOCATION:Malin Lodge\, Malin Lodge\, Hull\, HU9 3LH\, United Kingdom
CATEGORIES:Resident Events,Residents
ATTACH;FMTTYPE=image/jpeg:https://www.pfh.org.uk/wp-content/uploads/2024/02/blonde-woman-getting-her-hair-done.jpg
GEO:53.7657778;-0.284267
X-APPLE-STRUCTURED-LOCATION;VALUE=URI;X-ADDRESS=Malin Lodge Malin Lodge Hull HU9 3LH United Kingdom;X-APPLE-RADIUS=500;X-TITLE=Malin Lodge:geo:-0.284267,53.7657778
END:VEVENT
BEGIN:VEVENT
DTSTART;TZID=Europe/London:20280404T190000
DTEND;TZID=Europe/London:20280404T210000
DTSTAMP:20260423T022239
CREATED:20260119T152645Z
LAST-MODIFIED:20260119T152645Z
UID:10022329-1838487600-1838494800@www.pfh.org.uk
SUMMARY:Scrabble
DESCRIPTION:Tuesday and Thursday 7pm – 9pm
URL:https://www.pfh.org.uk/event/scrabble/2028-04-04/
LOCATION:Humber View\, Camilla Cl\, Hull\, HU9 1UE\, United Kingdom
CATEGORIES:Resident Events,Residents
ATTACH;FMTTYPE=image/jpeg:https://www.pfh.org.uk/wp-content/uploads/2026/01/shutterstock_2386784097-scaled.jpg
GEO:53.7391243;-0.3273038
X-APPLE-STRUCTURED-LOCATION;VALUE=URI;X-ADDRESS=Humber View Camilla Cl Hull HU9 1UE United Kingdom;X-APPLE-RADIUS=500;X-TITLE=Camilla Cl:geo:-0.3273038,53.7391243
END:VEVENT
BEGIN:VEVENT
DTSTART;TZID=Europe/London:20280406T103000
DTEND;TZID=Europe/London:20280406T113000
DTSTAMP:20260423T022239
CREATED:20260119T142033Z
LAST-MODIFIED:20260119T142805Z
UID:10004403-1838629800-1838633400@www.pfh.org.uk
SUMMARY:Exercise to Music with Janine
DESCRIPTION:£3\nThursday 10:30am – 11:30am\nFREE – contact Janine at 07986 963 485
URL:https://www.pfh.org.uk/event/exercise-to-music-inc-pilates-with-janine-2/2028-04-06/
LOCATION:Broadway Pavilion\, Hull\, HU9 3PB\, United Kingdom
CATEGORIES:Open to Everyone,Resident Events,Residents
ATTACH;FMTTYPE=image/jpeg:https://www.pfh.org.uk/wp-content/uploads/2024/03/man-wearing-black-jacket-and-black-pants-3693131-1024x683.jpg
GEO:53.7646305;-0.2850302
END:VEVENT
BEGIN:VEVENT
DTSTART;TZID=Europe/London:20280406T190000
DTEND;TZID=Europe/London:20280406T210000
DTSTAMP:20260423T022239
CREATED:20260119T152645Z
LAST-MODIFIED:20260119T152645Z
UID:10022330-1838660400-1838667600@www.pfh.org.uk
SUMMARY:Scrabble
DESCRIPTION:Tuesday and Thursday 7pm – 9pm
URL:https://www.pfh.org.uk/event/scrabble/2028-04-06/
LOCATION:Humber View\, Camilla Cl\, Hull\, HU9 1UE\, United Kingdom
CATEGORIES:Resident Events,Residents
ATTACH;FMTTYPE=image/jpeg:https://www.pfh.org.uk/wp-content/uploads/2026/01/shutterstock_2386784097-scaled.jpg
GEO:53.7391243;-0.3273038
X-APPLE-STRUCTURED-LOCATION;VALUE=URI;X-ADDRESS=Humber View Camilla Cl Hull HU9 1UE United Kingdom;X-APPLE-RADIUS=500;X-TITLE=Camilla Cl:geo:-0.3273038,53.7391243
END:VEVENT
BEGIN:VEVENT
DTSTART;TZID=Europe/London:20280407T103000
DTEND;TZID=Europe/London:20280407T120000
DTSTAMP:20260423T022239
CREATED:20260119T152927Z
LAST-MODIFIED:20260119T152927Z
UID:10022993-1838716200-1838721600@www.pfh.org.uk
SUMMARY:Scheme Managers Coffee Morning and Quiz
DESCRIPTION:
URL:https://www.pfh.org.uk/event/scheme-managers-coffee-morning-and-quiz/2028-04-07/
LOCATION:Humber View\, Camilla Cl\, Hull\, HU9 1UE\, United Kingdom
CATEGORIES:Resident Events,Residents
ATTACH;FMTTYPE=image/jpeg:https://www.pfh.org.uk/wp-content/uploads/2024/02/coffee.jpg
GEO:53.7391243;-0.3273038
X-APPLE-STRUCTURED-LOCATION;VALUE=URI;X-ADDRESS=Humber View Camilla Cl Hull HU9 1UE United Kingdom;X-APPLE-RADIUS=500;X-TITLE=Camilla Cl:geo:-0.3273038,53.7391243
END:VEVENT
BEGIN:VEVENT
DTSTART;TZID=Europe/London:20280411T090000
DTEND;TZID=Europe/London:20280411T100000
DTSTAMP:20260423T022239
CREATED:20260119T153403Z
LAST-MODIFIED:20260119T153403Z
UID:10023771-1839056400-1839060000@www.pfh.org.uk
SUMMARY:Hairdressers
DESCRIPTION:Contact Scheme Manager for Appointments
URL:https://www.pfh.org.uk/event/hairdressers-2/2028-04-11/
LOCATION:Malin Lodge\, Malin Lodge\, Hull\, HU9 3LH\, United Kingdom
CATEGORIES:Resident Events,Residents
ATTACH;FMTTYPE=image/jpeg:https://www.pfh.org.uk/wp-content/uploads/2024/02/blonde-woman-getting-her-hair-done.jpg
GEO:53.7657778;-0.284267
X-APPLE-STRUCTURED-LOCATION;VALUE=URI;X-ADDRESS=Malin Lodge Malin Lodge Hull HU9 3LH United Kingdom;X-APPLE-RADIUS=500;X-TITLE=Malin Lodge:geo:-0.284267,53.7657778
END:VEVENT
BEGIN:VEVENT
DTSTART;TZID=Europe/London:20280411T190000
DTEND;TZID=Europe/London:20280411T210000
DTSTAMP:20260423T022239
CREATED:20260119T152645Z
LAST-MODIFIED:20260119T152645Z
UID:10022331-1839092400-1839099600@www.pfh.org.uk
SUMMARY:Scrabble
DESCRIPTION:Tuesday and Thursday 7pm – 9pm
URL:https://www.pfh.org.uk/event/scrabble/2028-04-11/
LOCATION:Humber View\, Camilla Cl\, Hull\, HU9 1UE\, United Kingdom
CATEGORIES:Resident Events,Residents
ATTACH;FMTTYPE=image/jpeg:https://www.pfh.org.uk/wp-content/uploads/2026/01/shutterstock_2386784097-scaled.jpg
GEO:53.7391243;-0.3273038
X-APPLE-STRUCTURED-LOCATION;VALUE=URI;X-ADDRESS=Humber View Camilla Cl Hull HU9 1UE United Kingdom;X-APPLE-RADIUS=500;X-TITLE=Camilla Cl:geo:-0.3273038,53.7391243
END:VEVENT
BEGIN:VEVENT
DTSTART;TZID=Europe/London:20280413T103000
DTEND;TZID=Europe/London:20280413T113000
DTSTAMP:20260423T022239
CREATED:20260119T142033Z
LAST-MODIFIED:20260119T142805Z
UID:10004404-1839234600-1839238200@www.pfh.org.uk
SUMMARY:Exercise to Music with Janine
DESCRIPTION:£3\nThursday 10:30am – 11:30am\nFREE – contact Janine at 07986 963 485
URL:https://www.pfh.org.uk/event/exercise-to-music-inc-pilates-with-janine-2/2028-04-13/
LOCATION:Broadway Pavilion\, Hull\, HU9 3PB\, United Kingdom
CATEGORIES:Open to Everyone,Resident Events,Residents
ATTACH;FMTTYPE=image/jpeg:https://www.pfh.org.uk/wp-content/uploads/2024/03/man-wearing-black-jacket-and-black-pants-3693131-1024x683.jpg
GEO:53.7646305;-0.2850302
END:VEVENT
BEGIN:VEVENT
DTSTART;TZID=Europe/London:20280413T190000
DTEND;TZID=Europe/London:20280413T210000
DTSTAMP:20260423T022239
CREATED:20260119T152645Z
LAST-MODIFIED:20260119T152645Z
UID:10022332-1839265200-1839272400@www.pfh.org.uk
SUMMARY:Scrabble
DESCRIPTION:Tuesday and Thursday 7pm – 9pm
URL:https://www.pfh.org.uk/event/scrabble/2028-04-13/
LOCATION:Humber View\, Camilla Cl\, Hull\, HU9 1UE\, United Kingdom
CATEGORIES:Resident Events,Residents
ATTACH;FMTTYPE=image/jpeg:https://www.pfh.org.uk/wp-content/uploads/2026/01/shutterstock_2386784097-scaled.jpg
GEO:53.7391243;-0.3273038
X-APPLE-STRUCTURED-LOCATION;VALUE=URI;X-ADDRESS=Humber View Camilla Cl Hull HU9 1UE United Kingdom;X-APPLE-RADIUS=500;X-TITLE=Camilla Cl:geo:-0.3273038,53.7391243
END:VEVENT
BEGIN:VEVENT
DTSTART;TZID=Europe/London:20280414T103000
DTEND;TZID=Europe/London:20280414T120000
DTSTAMP:20260423T022239
CREATED:20260119T152927Z
LAST-MODIFIED:20260119T152927Z
UID:10022994-1839321000-1839326400@www.pfh.org.uk
SUMMARY:Scheme Managers Coffee Morning and Quiz
DESCRIPTION:
URL:https://www.pfh.org.uk/event/scheme-managers-coffee-morning-and-quiz/2028-04-14/
LOCATION:Humber View\, Camilla Cl\, Hull\, HU9 1UE\, United Kingdom
CATEGORIES:Resident Events,Residents
ATTACH;FMTTYPE=image/jpeg:https://www.pfh.org.uk/wp-content/uploads/2024/02/coffee.jpg
GEO:53.7391243;-0.3273038
X-APPLE-STRUCTURED-LOCATION;VALUE=URI;X-ADDRESS=Humber View Camilla Cl Hull HU9 1UE United Kingdom;X-APPLE-RADIUS=500;X-TITLE=Camilla Cl:geo:-0.3273038,53.7391243
END:VEVENT
BEGIN:VEVENT
DTSTART;TZID=Europe/London:20280418T090000
DTEND;TZID=Europe/London:20280418T100000
DTSTAMP:20260423T022239
CREATED:20260119T153403Z
LAST-MODIFIED:20260119T153403Z
UID:10023772-1839661200-1839664800@www.pfh.org.uk
SUMMARY:Hairdressers
DESCRIPTION:Contact Scheme Manager for Appointments
URL:https://www.pfh.org.uk/event/hairdressers-2/2028-04-18/
LOCATION:Malin Lodge\, Malin Lodge\, Hull\, HU9 3LH\, United Kingdom
CATEGORIES:Resident Events,Residents
ATTACH;FMTTYPE=image/jpeg:https://www.pfh.org.uk/wp-content/uploads/2024/02/blonde-woman-getting-her-hair-done.jpg
GEO:53.7657778;-0.284267
X-APPLE-STRUCTURED-LOCATION;VALUE=URI;X-ADDRESS=Malin Lodge Malin Lodge Hull HU9 3LH United Kingdom;X-APPLE-RADIUS=500;X-TITLE=Malin Lodge:geo:-0.284267,53.7657778
END:VEVENT
BEGIN:VEVENT
DTSTART;TZID=Europe/London:20280418T190000
DTEND;TZID=Europe/London:20280418T210000
DTSTAMP:20260423T022239
CREATED:20260119T152645Z
LAST-MODIFIED:20260119T152645Z
UID:10022333-1839697200-1839704400@www.pfh.org.uk
SUMMARY:Scrabble
DESCRIPTION:Tuesday and Thursday 7pm – 9pm
URL:https://www.pfh.org.uk/event/scrabble/2028-04-18/
LOCATION:Humber View\, Camilla Cl\, Hull\, HU9 1UE\, United Kingdom
CATEGORIES:Resident Events,Residents
ATTACH;FMTTYPE=image/jpeg:https://www.pfh.org.uk/wp-content/uploads/2026/01/shutterstock_2386784097-scaled.jpg
GEO:53.7391243;-0.3273038
X-APPLE-STRUCTURED-LOCATION;VALUE=URI;X-ADDRESS=Humber View Camilla Cl Hull HU9 1UE United Kingdom;X-APPLE-RADIUS=500;X-TITLE=Camilla Cl:geo:-0.3273038,53.7391243
END:VEVENT
BEGIN:VEVENT
DTSTART;TZID=Europe/London:20280420T103000
DTEND;TZID=Europe/London:20280420T113000
DTSTAMP:20260423T022239
CREATED:20260119T142033Z
LAST-MODIFIED:20260119T142805Z
UID:10004405-1839839400-1839843000@www.pfh.org.uk
SUMMARY:Exercise to Music with Janine
DESCRIPTION:£3\nThursday 10:30am – 11:30am\nFREE – contact Janine at 07986 963 485
URL:https://www.pfh.org.uk/event/exercise-to-music-inc-pilates-with-janine-2/2028-04-20/
LOCATION:Broadway Pavilion\, Hull\, HU9 3PB\, United Kingdom
CATEGORIES:Open to Everyone,Resident Events,Residents
ATTACH;FMTTYPE=image/jpeg:https://www.pfh.org.uk/wp-content/uploads/2024/03/man-wearing-black-jacket-and-black-pants-3693131-1024x683.jpg
GEO:53.7646305;-0.2850302
END:VEVENT
BEGIN:VEVENT
DTSTART;TZID=Europe/London:20280420T190000
DTEND;TZID=Europe/London:20280420T210000
DTSTAMP:20260423T022239
CREATED:20260119T152645Z
LAST-MODIFIED:20260119T152645Z
UID:10022334-1839870000-1839877200@www.pfh.org.uk
SUMMARY:Scrabble
DESCRIPTION:Tuesday and Thursday 7pm – 9pm
URL:https://www.pfh.org.uk/event/scrabble/2028-04-20/
LOCATION:Humber View\, Camilla Cl\, Hull\, HU9 1UE\, United Kingdom
CATEGORIES:Resident Events,Residents
ATTACH;FMTTYPE=image/jpeg:https://www.pfh.org.uk/wp-content/uploads/2026/01/shutterstock_2386784097-scaled.jpg
GEO:53.7391243;-0.3273038
X-APPLE-STRUCTURED-LOCATION;VALUE=URI;X-ADDRESS=Humber View Camilla Cl Hull HU9 1UE United Kingdom;X-APPLE-RADIUS=500;X-TITLE=Camilla Cl:geo:-0.3273038,53.7391243
END:VEVENT
END:VCALENDAR