BEGIN:VCALENDAR
VERSION:2.0
PRODID:-//PFH Pickering &amp; Ferens Homes - ECPv6.15.20//NONSGML v1.0//EN
CALSCALE:GREGORIAN
METHOD:PUBLISH
X-WR-CALNAME:PFH Pickering &amp; Ferens Homes
X-ORIGINAL-URL:https://www.pfh.org.uk
X-WR-CALDESC:Events for PFH Pickering &amp; Ferens Homes
REFRESH-INTERVAL;VALUE=DURATION:PT1H
X-Robots-Tag:noindex
X-PUBLISHED-TTL:PT1H
BEGIN:VTIMEZONE
TZID:Europe/London
BEGIN:DAYLIGHT
TZOFFSETFROM:+0000
TZOFFSETTO:+0100
TZNAME:BST
DTSTART:20250330T010000
END:DAYLIGHT
BEGIN:STANDARD
TZOFFSETFROM:+0100
TZOFFSETTO:+0000
TZNAME:GMT
DTSTART:20251026T010000
END:STANDARD
BEGIN:DAYLIGHT
TZOFFSETFROM:+0000
TZOFFSETTO:+0100
TZNAME:BST
DTSTART:20260329T010000
END:DAYLIGHT
BEGIN:STANDARD
TZOFFSETFROM:+0100
TZOFFSETTO:+0000
TZNAME:GMT
DTSTART:20261025T010000
END:STANDARD
BEGIN:DAYLIGHT
TZOFFSETFROM:+0000
TZOFFSETTO:+0100
TZNAME:BST
DTSTART:20270328T010000
END:DAYLIGHT
BEGIN:STANDARD
TZOFFSETFROM:+0100
TZOFFSETTO:+0000
TZNAME:GMT
DTSTART:20271031T010000
END:STANDARD
END:VTIMEZONE
BEGIN:VEVENT
DTSTART;TZID=Europe/London:20260423T190000
DTEND;TZID=Europe/London:20260423T210000
DTSTAMP:20260422T202718
CREATED:20260119T152645Z
LAST-MODIFIED:20260119T152645Z
UID:10022126-1776970800-1776978000@www.pfh.org.uk
SUMMARY:Scrabble
DESCRIPTION:Tuesday and Thursday 7pm – 9pm
URL:https://www.pfh.org.uk/event/scrabble/2026-04-23/
LOCATION:Humber View\, Camilla Cl\, Hull\, HU9 1UE\, United Kingdom
CATEGORIES:Resident Events,Residents
ATTACH;FMTTYPE=image/jpeg:https://www.pfh.org.uk/wp-content/uploads/2026/01/shutterstock_2386784097-scaled.jpg
GEO:53.7391243;-0.3273038
X-APPLE-STRUCTURED-LOCATION;VALUE=URI;X-ADDRESS=Humber View Camilla Cl Hull HU9 1UE United Kingdom;X-APPLE-RADIUS=500;X-TITLE=Camilla Cl:geo:-0.3273038,53.7391243
END:VEVENT
BEGIN:VEVENT
DTSTART;TZID=Europe/London:20260428T190000
DTEND;TZID=Europe/London:20260428T210000
DTSTAMP:20260422T202718
CREATED:20260119T152645Z
LAST-MODIFIED:20260119T152645Z
UID:10022127-1777402800-1777410000@www.pfh.org.uk
SUMMARY:Scrabble
DESCRIPTION:Tuesday and Thursday 7pm – 9pm
URL:https://www.pfh.org.uk/event/scrabble/2026-04-28/
LOCATION:Humber View\, Camilla Cl\, Hull\, HU9 1UE\, United Kingdom
CATEGORIES:Resident Events,Residents
ATTACH;FMTTYPE=image/jpeg:https://www.pfh.org.uk/wp-content/uploads/2026/01/shutterstock_2386784097-scaled.jpg
GEO:53.7391243;-0.3273038
X-APPLE-STRUCTURED-LOCATION;VALUE=URI;X-ADDRESS=Humber View Camilla Cl Hull HU9 1UE United Kingdom;X-APPLE-RADIUS=500;X-TITLE=Camilla Cl:geo:-0.3273038,53.7391243
END:VEVENT
BEGIN:VEVENT
DTSTART;TZID=Europe/London:20260430T190000
DTEND;TZID=Europe/London:20260430T210000
DTSTAMP:20260422T202718
CREATED:20260119T152645Z
LAST-MODIFIED:20260119T152645Z
UID:10022128-1777575600-1777582800@www.pfh.org.uk
SUMMARY:Scrabble
DESCRIPTION:Tuesday and Thursday 7pm – 9pm
URL:https://www.pfh.org.uk/event/scrabble/2026-04-30/
LOCATION:Humber View\, Camilla Cl\, Hull\, HU9 1UE\, United Kingdom
CATEGORIES:Resident Events,Residents
ATTACH;FMTTYPE=image/jpeg:https://www.pfh.org.uk/wp-content/uploads/2026/01/shutterstock_2386784097-scaled.jpg
GEO:53.7391243;-0.3273038
X-APPLE-STRUCTURED-LOCATION;VALUE=URI;X-ADDRESS=Humber View Camilla Cl Hull HU9 1UE United Kingdom;X-APPLE-RADIUS=500;X-TITLE=Camilla Cl:geo:-0.3273038,53.7391243
END:VEVENT
BEGIN:VEVENT
DTSTART;TZID=Europe/London:20260505T190000
DTEND;TZID=Europe/London:20260505T210000
DTSTAMP:20260422T202718
CREATED:20260119T152645Z
LAST-MODIFIED:20260119T152645Z
UID:10022129-1778007600-1778014800@www.pfh.org.uk
SUMMARY:Scrabble
DESCRIPTION:Tuesday and Thursday 7pm – 9pm
URL:https://www.pfh.org.uk/event/scrabble/2026-05-05/
LOCATION:Humber View\, Camilla Cl\, Hull\, HU9 1UE\, United Kingdom
CATEGORIES:Resident Events,Residents
ATTACH;FMTTYPE=image/jpeg:https://www.pfh.org.uk/wp-content/uploads/2026/01/shutterstock_2386784097-scaled.jpg
GEO:53.7391243;-0.3273038
X-APPLE-STRUCTURED-LOCATION;VALUE=URI;X-ADDRESS=Humber View Camilla Cl Hull HU9 1UE United Kingdom;X-APPLE-RADIUS=500;X-TITLE=Camilla Cl:geo:-0.3273038,53.7391243
END:VEVENT
BEGIN:VEVENT
DTSTART;TZID=Europe/London:20260507T190000
DTEND;TZID=Europe/London:20260507T210000
DTSTAMP:20260422T202718
CREATED:20260119T152645Z
LAST-MODIFIED:20260119T152645Z
UID:10022130-1778180400-1778187600@www.pfh.org.uk
SUMMARY:Scrabble
DESCRIPTION:Tuesday and Thursday 7pm – 9pm
URL:https://www.pfh.org.uk/event/scrabble/2026-05-07/
LOCATION:Humber View\, Camilla Cl\, Hull\, HU9 1UE\, United Kingdom
CATEGORIES:Resident Events,Residents
ATTACH;FMTTYPE=image/jpeg:https://www.pfh.org.uk/wp-content/uploads/2026/01/shutterstock_2386784097-scaled.jpg
GEO:53.7391243;-0.3273038
X-APPLE-STRUCTURED-LOCATION;VALUE=URI;X-ADDRESS=Humber View Camilla Cl Hull HU9 1UE United Kingdom;X-APPLE-RADIUS=500;X-TITLE=Camilla Cl:geo:-0.3273038,53.7391243
END:VEVENT
BEGIN:VEVENT
DTSTART;TZID=Europe/London:20260512T190000
DTEND;TZID=Europe/London:20260512T210000
DTSTAMP:20260422T202718
CREATED:20260119T152645Z
LAST-MODIFIED:20260119T152645Z
UID:10022131-1778612400-1778619600@www.pfh.org.uk
SUMMARY:Scrabble
DESCRIPTION:Tuesday and Thursday 7pm – 9pm
URL:https://www.pfh.org.uk/event/scrabble/2026-05-12/
LOCATION:Humber View\, Camilla Cl\, Hull\, HU9 1UE\, United Kingdom
CATEGORIES:Resident Events,Residents
ATTACH;FMTTYPE=image/jpeg:https://www.pfh.org.uk/wp-content/uploads/2026/01/shutterstock_2386784097-scaled.jpg
GEO:53.7391243;-0.3273038
X-APPLE-STRUCTURED-LOCATION;VALUE=URI;X-ADDRESS=Humber View Camilla Cl Hull HU9 1UE United Kingdom;X-APPLE-RADIUS=500;X-TITLE=Camilla Cl:geo:-0.3273038,53.7391243
END:VEVENT
BEGIN:VEVENT
DTSTART;TZID=Europe/London:20260514T190000
DTEND;TZID=Europe/London:20260514T210000
DTSTAMP:20260422T202718
CREATED:20260119T152645Z
LAST-MODIFIED:20260119T152645Z
UID:10022132-1778785200-1778792400@www.pfh.org.uk
SUMMARY:Scrabble
DESCRIPTION:Tuesday and Thursday 7pm – 9pm
URL:https://www.pfh.org.uk/event/scrabble/2026-05-14/
LOCATION:Humber View\, Camilla Cl\, Hull\, HU9 1UE\, United Kingdom
CATEGORIES:Resident Events,Residents
ATTACH;FMTTYPE=image/jpeg:https://www.pfh.org.uk/wp-content/uploads/2026/01/shutterstock_2386784097-scaled.jpg
GEO:53.7391243;-0.3273038
X-APPLE-STRUCTURED-LOCATION;VALUE=URI;X-ADDRESS=Humber View Camilla Cl Hull HU9 1UE United Kingdom;X-APPLE-RADIUS=500;X-TITLE=Camilla Cl:geo:-0.3273038,53.7391243
END:VEVENT
BEGIN:VEVENT
DTSTART;TZID=Europe/London:20260519T190000
DTEND;TZID=Europe/London:20260519T210000
DTSTAMP:20260422T202718
CREATED:20260119T152645Z
LAST-MODIFIED:20260119T152645Z
UID:10022133-1779217200-1779224400@www.pfh.org.uk
SUMMARY:Scrabble
DESCRIPTION:Tuesday and Thursday 7pm – 9pm
URL:https://www.pfh.org.uk/event/scrabble/2026-05-19/
LOCATION:Humber View\, Camilla Cl\, Hull\, HU9 1UE\, United Kingdom
CATEGORIES:Resident Events,Residents
ATTACH;FMTTYPE=image/jpeg:https://www.pfh.org.uk/wp-content/uploads/2026/01/shutterstock_2386784097-scaled.jpg
GEO:53.7391243;-0.3273038
X-APPLE-STRUCTURED-LOCATION;VALUE=URI;X-ADDRESS=Humber View Camilla Cl Hull HU9 1UE United Kingdom;X-APPLE-RADIUS=500;X-TITLE=Camilla Cl:geo:-0.3273038,53.7391243
END:VEVENT
BEGIN:VEVENT
DTSTART;TZID=Europe/London:20260521T190000
DTEND;TZID=Europe/London:20260521T210000
DTSTAMP:20260422T202718
CREATED:20260119T152645Z
LAST-MODIFIED:20260119T152645Z
UID:10022134-1779390000-1779397200@www.pfh.org.uk
SUMMARY:Scrabble
DESCRIPTION:Tuesday and Thursday 7pm – 9pm
URL:https://www.pfh.org.uk/event/scrabble/2026-05-21/
LOCATION:Humber View\, Camilla Cl\, Hull\, HU9 1UE\, United Kingdom
CATEGORIES:Resident Events,Residents
ATTACH;FMTTYPE=image/jpeg:https://www.pfh.org.uk/wp-content/uploads/2026/01/shutterstock_2386784097-scaled.jpg
GEO:53.7391243;-0.3273038
X-APPLE-STRUCTURED-LOCATION;VALUE=URI;X-ADDRESS=Humber View Camilla Cl Hull HU9 1UE United Kingdom;X-APPLE-RADIUS=500;X-TITLE=Camilla Cl:geo:-0.3273038,53.7391243
END:VEVENT
BEGIN:VEVENT
DTSTART;TZID=Europe/London:20260526T190000
DTEND;TZID=Europe/London:20260526T210000
DTSTAMP:20260422T202718
CREATED:20260119T152645Z
LAST-MODIFIED:20260119T152645Z
UID:10022135-1779822000-1779829200@www.pfh.org.uk
SUMMARY:Scrabble
DESCRIPTION:Tuesday and Thursday 7pm – 9pm
URL:https://www.pfh.org.uk/event/scrabble/2026-05-26/
LOCATION:Humber View\, Camilla Cl\, Hull\, HU9 1UE\, United Kingdom
CATEGORIES:Resident Events,Residents
ATTACH;FMTTYPE=image/jpeg:https://www.pfh.org.uk/wp-content/uploads/2026/01/shutterstock_2386784097-scaled.jpg
GEO:53.7391243;-0.3273038
X-APPLE-STRUCTURED-LOCATION;VALUE=URI;X-ADDRESS=Humber View Camilla Cl Hull HU9 1UE United Kingdom;X-APPLE-RADIUS=500;X-TITLE=Camilla Cl:geo:-0.3273038,53.7391243
END:VEVENT
BEGIN:VEVENT
DTSTART;TZID=Europe/London:20260528T190000
DTEND;TZID=Europe/London:20260528T210000
DTSTAMP:20260422T202718
CREATED:20260119T152645Z
LAST-MODIFIED:20260119T152645Z
UID:10022136-1779994800-1780002000@www.pfh.org.uk
SUMMARY:Scrabble
DESCRIPTION:Tuesday and Thursday 7pm – 9pm
URL:https://www.pfh.org.uk/event/scrabble/2026-05-28/
LOCATION:Humber View\, Camilla Cl\, Hull\, HU9 1UE\, United Kingdom
CATEGORIES:Resident Events,Residents
ATTACH;FMTTYPE=image/jpeg:https://www.pfh.org.uk/wp-content/uploads/2026/01/shutterstock_2386784097-scaled.jpg
GEO:53.7391243;-0.3273038
X-APPLE-STRUCTURED-LOCATION;VALUE=URI;X-ADDRESS=Humber View Camilla Cl Hull HU9 1UE United Kingdom;X-APPLE-RADIUS=500;X-TITLE=Camilla Cl:geo:-0.3273038,53.7391243
END:VEVENT
BEGIN:VEVENT
DTSTART;TZID=Europe/London:20260602T190000
DTEND;TZID=Europe/London:20260602T210000
DTSTAMP:20260422T202718
CREATED:20260119T152645Z
LAST-MODIFIED:20260119T152645Z
UID:10022137-1780426800-1780434000@www.pfh.org.uk
SUMMARY:Scrabble
DESCRIPTION:Tuesday and Thursday 7pm – 9pm
URL:https://www.pfh.org.uk/event/scrabble/2026-06-02/
LOCATION:Humber View\, Camilla Cl\, Hull\, HU9 1UE\, United Kingdom
CATEGORIES:Resident Events,Residents
ATTACH;FMTTYPE=image/jpeg:https://www.pfh.org.uk/wp-content/uploads/2026/01/shutterstock_2386784097-scaled.jpg
GEO:53.7391243;-0.3273038
X-APPLE-STRUCTURED-LOCATION;VALUE=URI;X-ADDRESS=Humber View Camilla Cl Hull HU9 1UE United Kingdom;X-APPLE-RADIUS=500;X-TITLE=Camilla Cl:geo:-0.3273038,53.7391243
END:VEVENT
BEGIN:VEVENT
DTSTART;TZID=Europe/London:20260604T190000
DTEND;TZID=Europe/London:20260604T210000
DTSTAMP:20260422T202718
CREATED:20260119T152645Z
LAST-MODIFIED:20260119T152645Z
UID:10022138-1780599600-1780606800@www.pfh.org.uk
SUMMARY:Scrabble
DESCRIPTION:Tuesday and Thursday 7pm – 9pm
URL:https://www.pfh.org.uk/event/scrabble/2026-06-04/
LOCATION:Humber View\, Camilla Cl\, Hull\, HU9 1UE\, United Kingdom
CATEGORIES:Resident Events,Residents
ATTACH;FMTTYPE=image/jpeg:https://www.pfh.org.uk/wp-content/uploads/2026/01/shutterstock_2386784097-scaled.jpg
GEO:53.7391243;-0.3273038
X-APPLE-STRUCTURED-LOCATION;VALUE=URI;X-ADDRESS=Humber View Camilla Cl Hull HU9 1UE United Kingdom;X-APPLE-RADIUS=500;X-TITLE=Camilla Cl:geo:-0.3273038,53.7391243
END:VEVENT
BEGIN:VEVENT
DTSTART;TZID=Europe/London:20260609T190000
DTEND;TZID=Europe/London:20260609T210000
DTSTAMP:20260422T202718
CREATED:20260119T152645Z
LAST-MODIFIED:20260119T152645Z
UID:10022139-1781031600-1781038800@www.pfh.org.uk
SUMMARY:Scrabble
DESCRIPTION:Tuesday and Thursday 7pm – 9pm
URL:https://www.pfh.org.uk/event/scrabble/2026-06-09/
LOCATION:Humber View\, Camilla Cl\, Hull\, HU9 1UE\, United Kingdom
CATEGORIES:Resident Events,Residents
ATTACH;FMTTYPE=image/jpeg:https://www.pfh.org.uk/wp-content/uploads/2026/01/shutterstock_2386784097-scaled.jpg
GEO:53.7391243;-0.3273038
X-APPLE-STRUCTURED-LOCATION;VALUE=URI;X-ADDRESS=Humber View Camilla Cl Hull HU9 1UE United Kingdom;X-APPLE-RADIUS=500;X-TITLE=Camilla Cl:geo:-0.3273038,53.7391243
END:VEVENT
BEGIN:VEVENT
DTSTART;TZID=Europe/London:20260611T190000
DTEND;TZID=Europe/London:20260611T210000
DTSTAMP:20260422T202718
CREATED:20260119T152645Z
LAST-MODIFIED:20260119T152645Z
UID:10022140-1781204400-1781211600@www.pfh.org.uk
SUMMARY:Scrabble
DESCRIPTION:Tuesday and Thursday 7pm – 9pm
URL:https://www.pfh.org.uk/event/scrabble/2026-06-11/
LOCATION:Humber View\, Camilla Cl\, Hull\, HU9 1UE\, United Kingdom
CATEGORIES:Resident Events,Residents
ATTACH;FMTTYPE=image/jpeg:https://www.pfh.org.uk/wp-content/uploads/2026/01/shutterstock_2386784097-scaled.jpg
GEO:53.7391243;-0.3273038
X-APPLE-STRUCTURED-LOCATION;VALUE=URI;X-ADDRESS=Humber View Camilla Cl Hull HU9 1UE United Kingdom;X-APPLE-RADIUS=500;X-TITLE=Camilla Cl:geo:-0.3273038,53.7391243
END:VEVENT
BEGIN:VEVENT
DTSTART;TZID=Europe/London:20260616T190000
DTEND;TZID=Europe/London:20260616T210000
DTSTAMP:20260422T202718
CREATED:20260119T152645Z
LAST-MODIFIED:20260119T152645Z
UID:10022141-1781636400-1781643600@www.pfh.org.uk
SUMMARY:Scrabble
DESCRIPTION:Tuesday and Thursday 7pm – 9pm
URL:https://www.pfh.org.uk/event/scrabble/2026-06-16/
LOCATION:Humber View\, Camilla Cl\, Hull\, HU9 1UE\, United Kingdom
CATEGORIES:Resident Events,Residents
ATTACH;FMTTYPE=image/jpeg:https://www.pfh.org.uk/wp-content/uploads/2026/01/shutterstock_2386784097-scaled.jpg
GEO:53.7391243;-0.3273038
X-APPLE-STRUCTURED-LOCATION;VALUE=URI;X-ADDRESS=Humber View Camilla Cl Hull HU9 1UE United Kingdom;X-APPLE-RADIUS=500;X-TITLE=Camilla Cl:geo:-0.3273038,53.7391243
END:VEVENT
BEGIN:VEVENT
DTSTART;TZID=Europe/London:20260618T190000
DTEND;TZID=Europe/London:20260618T210000
DTSTAMP:20260422T202718
CREATED:20260119T152645Z
LAST-MODIFIED:20260119T152645Z
UID:10022142-1781809200-1781816400@www.pfh.org.uk
SUMMARY:Scrabble
DESCRIPTION:Tuesday and Thursday 7pm – 9pm
URL:https://www.pfh.org.uk/event/scrabble/2026-06-18/
LOCATION:Humber View\, Camilla Cl\, Hull\, HU9 1UE\, United Kingdom
CATEGORIES:Resident Events,Residents
ATTACH;FMTTYPE=image/jpeg:https://www.pfh.org.uk/wp-content/uploads/2026/01/shutterstock_2386784097-scaled.jpg
GEO:53.7391243;-0.3273038
X-APPLE-STRUCTURED-LOCATION;VALUE=URI;X-ADDRESS=Humber View Camilla Cl Hull HU9 1UE United Kingdom;X-APPLE-RADIUS=500;X-TITLE=Camilla Cl:geo:-0.3273038,53.7391243
END:VEVENT
BEGIN:VEVENT
DTSTART;TZID=Europe/London:20260623T190000
DTEND;TZID=Europe/London:20260623T210000
DTSTAMP:20260422T202718
CREATED:20260119T152645Z
LAST-MODIFIED:20260119T152645Z
UID:10022143-1782241200-1782248400@www.pfh.org.uk
SUMMARY:Scrabble
DESCRIPTION:Tuesday and Thursday 7pm – 9pm
URL:https://www.pfh.org.uk/event/scrabble/2026-06-23/
LOCATION:Humber View\, Camilla Cl\, Hull\, HU9 1UE\, United Kingdom
CATEGORIES:Resident Events,Residents
ATTACH;FMTTYPE=image/jpeg:https://www.pfh.org.uk/wp-content/uploads/2026/01/shutterstock_2386784097-scaled.jpg
GEO:53.7391243;-0.3273038
X-APPLE-STRUCTURED-LOCATION;VALUE=URI;X-ADDRESS=Humber View Camilla Cl Hull HU9 1UE United Kingdom;X-APPLE-RADIUS=500;X-TITLE=Camilla Cl:geo:-0.3273038,53.7391243
END:VEVENT
BEGIN:VEVENT
DTSTART;TZID=Europe/London:20260625T190000
DTEND;TZID=Europe/London:20260625T210000
DTSTAMP:20260422T202718
CREATED:20260119T152645Z
LAST-MODIFIED:20260119T152645Z
UID:10022144-1782414000-1782421200@www.pfh.org.uk
SUMMARY:Scrabble
DESCRIPTION:Tuesday and Thursday 7pm – 9pm
URL:https://www.pfh.org.uk/event/scrabble/2026-06-25/
LOCATION:Humber View\, Camilla Cl\, Hull\, HU9 1UE\, United Kingdom
CATEGORIES:Resident Events,Residents
ATTACH;FMTTYPE=image/jpeg:https://www.pfh.org.uk/wp-content/uploads/2026/01/shutterstock_2386784097-scaled.jpg
GEO:53.7391243;-0.3273038
X-APPLE-STRUCTURED-LOCATION;VALUE=URI;X-ADDRESS=Humber View Camilla Cl Hull HU9 1UE United Kingdom;X-APPLE-RADIUS=500;X-TITLE=Camilla Cl:geo:-0.3273038,53.7391243
END:VEVENT
BEGIN:VEVENT
DTSTART;TZID=Europe/London:20260630T190000
DTEND;TZID=Europe/London:20260630T210000
DTSTAMP:20260422T202718
CREATED:20260119T152645Z
LAST-MODIFIED:20260119T152645Z
UID:10022145-1782846000-1782853200@www.pfh.org.uk
SUMMARY:Scrabble
DESCRIPTION:Tuesday and Thursday 7pm – 9pm
URL:https://www.pfh.org.uk/event/scrabble/2026-06-30/
LOCATION:Humber View\, Camilla Cl\, Hull\, HU9 1UE\, United Kingdom
CATEGORIES:Resident Events,Residents
ATTACH;FMTTYPE=image/jpeg:https://www.pfh.org.uk/wp-content/uploads/2026/01/shutterstock_2386784097-scaled.jpg
GEO:53.7391243;-0.3273038
X-APPLE-STRUCTURED-LOCATION;VALUE=URI;X-ADDRESS=Humber View Camilla Cl Hull HU9 1UE United Kingdom;X-APPLE-RADIUS=500;X-TITLE=Camilla Cl:geo:-0.3273038,53.7391243
END:VEVENT
BEGIN:VEVENT
DTSTART;TZID=Europe/London:20260702T190000
DTEND;TZID=Europe/London:20260702T210000
DTSTAMP:20260422T202718
CREATED:20260119T152645Z
LAST-MODIFIED:20260119T152645Z
UID:10022146-1783018800-1783026000@www.pfh.org.uk
SUMMARY:Scrabble
DESCRIPTION:Tuesday and Thursday 7pm – 9pm
URL:https://www.pfh.org.uk/event/scrabble/2026-07-02/
LOCATION:Humber View\, Camilla Cl\, Hull\, HU9 1UE\, United Kingdom
CATEGORIES:Resident Events,Residents
ATTACH;FMTTYPE=image/jpeg:https://www.pfh.org.uk/wp-content/uploads/2026/01/shutterstock_2386784097-scaled.jpg
GEO:53.7391243;-0.3273038
X-APPLE-STRUCTURED-LOCATION;VALUE=URI;X-ADDRESS=Humber View Camilla Cl Hull HU9 1UE United Kingdom;X-APPLE-RADIUS=500;X-TITLE=Camilla Cl:geo:-0.3273038,53.7391243
END:VEVENT
BEGIN:VEVENT
DTSTART;TZID=Europe/London:20260707T190000
DTEND;TZID=Europe/London:20260707T210000
DTSTAMP:20260422T202718
CREATED:20260119T152645Z
LAST-MODIFIED:20260119T152645Z
UID:10022147-1783450800-1783458000@www.pfh.org.uk
SUMMARY:Scrabble
DESCRIPTION:Tuesday and Thursday 7pm – 9pm
URL:https://www.pfh.org.uk/event/scrabble/2026-07-07/
LOCATION:Humber View\, Camilla Cl\, Hull\, HU9 1UE\, United Kingdom
CATEGORIES:Resident Events,Residents
ATTACH;FMTTYPE=image/jpeg:https://www.pfh.org.uk/wp-content/uploads/2026/01/shutterstock_2386784097-scaled.jpg
GEO:53.7391243;-0.3273038
X-APPLE-STRUCTURED-LOCATION;VALUE=URI;X-ADDRESS=Humber View Camilla Cl Hull HU9 1UE United Kingdom;X-APPLE-RADIUS=500;X-TITLE=Camilla Cl:geo:-0.3273038,53.7391243
END:VEVENT
BEGIN:VEVENT
DTSTART;TZID=Europe/London:20260709T190000
DTEND;TZID=Europe/London:20260709T210000
DTSTAMP:20260422T202718
CREATED:20260119T152645Z
LAST-MODIFIED:20260119T152645Z
UID:10022148-1783623600-1783630800@www.pfh.org.uk
SUMMARY:Scrabble
DESCRIPTION:Tuesday and Thursday 7pm – 9pm
URL:https://www.pfh.org.uk/event/scrabble/2026-07-09/
LOCATION:Humber View\, Camilla Cl\, Hull\, HU9 1UE\, United Kingdom
CATEGORIES:Resident Events,Residents
ATTACH;FMTTYPE=image/jpeg:https://www.pfh.org.uk/wp-content/uploads/2026/01/shutterstock_2386784097-scaled.jpg
GEO:53.7391243;-0.3273038
X-APPLE-STRUCTURED-LOCATION;VALUE=URI;X-ADDRESS=Humber View Camilla Cl Hull HU9 1UE United Kingdom;X-APPLE-RADIUS=500;X-TITLE=Camilla Cl:geo:-0.3273038,53.7391243
END:VEVENT
BEGIN:VEVENT
DTSTART;TZID=Europe/London:20260714T190000
DTEND;TZID=Europe/London:20260714T210000
DTSTAMP:20260422T202718
CREATED:20260119T152645Z
LAST-MODIFIED:20260119T152645Z
UID:10022149-1784055600-1784062800@www.pfh.org.uk
SUMMARY:Scrabble
DESCRIPTION:Tuesday and Thursday 7pm – 9pm
URL:https://www.pfh.org.uk/event/scrabble/2026-07-14/
LOCATION:Humber View\, Camilla Cl\, Hull\, HU9 1UE\, United Kingdom
CATEGORIES:Resident Events,Residents
ATTACH;FMTTYPE=image/jpeg:https://www.pfh.org.uk/wp-content/uploads/2026/01/shutterstock_2386784097-scaled.jpg
GEO:53.7391243;-0.3273038
X-APPLE-STRUCTURED-LOCATION;VALUE=URI;X-ADDRESS=Humber View Camilla Cl Hull HU9 1UE United Kingdom;X-APPLE-RADIUS=500;X-TITLE=Camilla Cl:geo:-0.3273038,53.7391243
END:VEVENT
BEGIN:VEVENT
DTSTART;TZID=Europe/London:20260716T190000
DTEND;TZID=Europe/London:20260716T210000
DTSTAMP:20260422T202718
CREATED:20260119T152645Z
LAST-MODIFIED:20260119T152645Z
UID:10022150-1784228400-1784235600@www.pfh.org.uk
SUMMARY:Scrabble
DESCRIPTION:Tuesday and Thursday 7pm – 9pm
URL:https://www.pfh.org.uk/event/scrabble/2026-07-16/
LOCATION:Humber View\, Camilla Cl\, Hull\, HU9 1UE\, United Kingdom
CATEGORIES:Resident Events,Residents
ATTACH;FMTTYPE=image/jpeg:https://www.pfh.org.uk/wp-content/uploads/2026/01/shutterstock_2386784097-scaled.jpg
GEO:53.7391243;-0.3273038
X-APPLE-STRUCTURED-LOCATION;VALUE=URI;X-ADDRESS=Humber View Camilla Cl Hull HU9 1UE United Kingdom;X-APPLE-RADIUS=500;X-TITLE=Camilla Cl:geo:-0.3273038,53.7391243
END:VEVENT
BEGIN:VEVENT
DTSTART;TZID=Europe/London:20260721T190000
DTEND;TZID=Europe/London:20260721T210000
DTSTAMP:20260422T202718
CREATED:20260119T152645Z
LAST-MODIFIED:20260119T152645Z
UID:10022151-1784660400-1784667600@www.pfh.org.uk
SUMMARY:Scrabble
DESCRIPTION:Tuesday and Thursday 7pm – 9pm
URL:https://www.pfh.org.uk/event/scrabble/2026-07-21/
LOCATION:Humber View\, Camilla Cl\, Hull\, HU9 1UE\, United Kingdom
CATEGORIES:Resident Events,Residents
ATTACH;FMTTYPE=image/jpeg:https://www.pfh.org.uk/wp-content/uploads/2026/01/shutterstock_2386784097-scaled.jpg
GEO:53.7391243;-0.3273038
X-APPLE-STRUCTURED-LOCATION;VALUE=URI;X-ADDRESS=Humber View Camilla Cl Hull HU9 1UE United Kingdom;X-APPLE-RADIUS=500;X-TITLE=Camilla Cl:geo:-0.3273038,53.7391243
END:VEVENT
BEGIN:VEVENT
DTSTART;TZID=Europe/London:20260723T190000
DTEND;TZID=Europe/London:20260723T210000
DTSTAMP:20260422T202718
CREATED:20260119T152645Z
LAST-MODIFIED:20260119T152645Z
UID:10022152-1784833200-1784840400@www.pfh.org.uk
SUMMARY:Scrabble
DESCRIPTION:Tuesday and Thursday 7pm – 9pm
URL:https://www.pfh.org.uk/event/scrabble/2026-07-23/
LOCATION:Humber View\, Camilla Cl\, Hull\, HU9 1UE\, United Kingdom
CATEGORIES:Resident Events,Residents
ATTACH;FMTTYPE=image/jpeg:https://www.pfh.org.uk/wp-content/uploads/2026/01/shutterstock_2386784097-scaled.jpg
GEO:53.7391243;-0.3273038
X-APPLE-STRUCTURED-LOCATION;VALUE=URI;X-ADDRESS=Humber View Camilla Cl Hull HU9 1UE United Kingdom;X-APPLE-RADIUS=500;X-TITLE=Camilla Cl:geo:-0.3273038,53.7391243
END:VEVENT
BEGIN:VEVENT
DTSTART;TZID=Europe/London:20260728T190000
DTEND;TZID=Europe/London:20260728T210000
DTSTAMP:20260422T202718
CREATED:20260119T152645Z
LAST-MODIFIED:20260119T152645Z
UID:10022153-1785265200-1785272400@www.pfh.org.uk
SUMMARY:Scrabble
DESCRIPTION:Tuesday and Thursday 7pm – 9pm
URL:https://www.pfh.org.uk/event/scrabble/2026-07-28/
LOCATION:Humber View\, Camilla Cl\, Hull\, HU9 1UE\, United Kingdom
CATEGORIES:Resident Events,Residents
ATTACH;FMTTYPE=image/jpeg:https://www.pfh.org.uk/wp-content/uploads/2026/01/shutterstock_2386784097-scaled.jpg
GEO:53.7391243;-0.3273038
X-APPLE-STRUCTURED-LOCATION;VALUE=URI;X-ADDRESS=Humber View Camilla Cl Hull HU9 1UE United Kingdom;X-APPLE-RADIUS=500;X-TITLE=Camilla Cl:geo:-0.3273038,53.7391243
END:VEVENT
BEGIN:VEVENT
DTSTART;TZID=Europe/London:20260730T190000
DTEND;TZID=Europe/London:20260730T210000
DTSTAMP:20260422T202718
CREATED:20260119T152645Z
LAST-MODIFIED:20260119T152645Z
UID:10022154-1785438000-1785445200@www.pfh.org.uk
SUMMARY:Scrabble
DESCRIPTION:Tuesday and Thursday 7pm – 9pm
URL:https://www.pfh.org.uk/event/scrabble/2026-07-30/
LOCATION:Humber View\, Camilla Cl\, Hull\, HU9 1UE\, United Kingdom
CATEGORIES:Resident Events,Residents
ATTACH;FMTTYPE=image/jpeg:https://www.pfh.org.uk/wp-content/uploads/2026/01/shutterstock_2386784097-scaled.jpg
GEO:53.7391243;-0.3273038
X-APPLE-STRUCTURED-LOCATION;VALUE=URI;X-ADDRESS=Humber View Camilla Cl Hull HU9 1UE United Kingdom;X-APPLE-RADIUS=500;X-TITLE=Camilla Cl:geo:-0.3273038,53.7391243
END:VEVENT
BEGIN:VEVENT
DTSTART;TZID=Europe/London:20260804T190000
DTEND;TZID=Europe/London:20260804T210000
DTSTAMP:20260422T202718
CREATED:20260119T152645Z
LAST-MODIFIED:20260119T152645Z
UID:10022155-1785870000-1785877200@www.pfh.org.uk
SUMMARY:Scrabble
DESCRIPTION:Tuesday and Thursday 7pm – 9pm
URL:https://www.pfh.org.uk/event/scrabble/2026-08-04/
LOCATION:Humber View\, Camilla Cl\, Hull\, HU9 1UE\, United Kingdom
CATEGORIES:Resident Events,Residents
ATTACH;FMTTYPE=image/jpeg:https://www.pfh.org.uk/wp-content/uploads/2026/01/shutterstock_2386784097-scaled.jpg
GEO:53.7391243;-0.3273038
X-APPLE-STRUCTURED-LOCATION;VALUE=URI;X-ADDRESS=Humber View Camilla Cl Hull HU9 1UE United Kingdom;X-APPLE-RADIUS=500;X-TITLE=Camilla Cl:geo:-0.3273038,53.7391243
END:VEVENT
END:VCALENDAR