BEGIN:VCALENDAR
VERSION:2.0
PRODID:-//PFH Pickering &amp; Ferens Homes - ECPv6.15.20//NONSGML v1.0//EN
CALSCALE:GREGORIAN
METHOD:PUBLISH
X-ORIGINAL-URL:https://www.pfh.org.uk
X-WR-CALDESC:Events for PFH Pickering &amp; Ferens Homes
REFRESH-INTERVAL;VALUE=DURATION:PT1H
X-Robots-Tag:noindex
X-PUBLISHED-TTL:PT1H
BEGIN:VTIMEZONE
TZID:Europe/London
BEGIN:DAYLIGHT
TZOFFSETFROM:+0000
TZOFFSETTO:+0100
TZNAME:BST
DTSTART:20240331T010000
END:DAYLIGHT
BEGIN:STANDARD
TZOFFSETFROM:+0100
TZOFFSETTO:+0000
TZNAME:GMT
DTSTART:20241027T010000
END:STANDARD
BEGIN:DAYLIGHT
TZOFFSETFROM:+0000
TZOFFSETTO:+0100
TZNAME:BST
DTSTART:20250330T010000
END:DAYLIGHT
BEGIN:STANDARD
TZOFFSETFROM:+0100
TZOFFSETTO:+0000
TZNAME:GMT
DTSTART:20251026T010000
END:STANDARD
BEGIN:DAYLIGHT
TZOFFSETFROM:+0000
TZOFFSETTO:+0100
TZNAME:BST
DTSTART:20260329T010000
END:DAYLIGHT
BEGIN:STANDARD
TZOFFSETFROM:+0100
TZOFFSETTO:+0000
TZNAME:GMT
DTSTART:20261025T010000
END:STANDARD
END:VTIMEZONE
BEGIN:VEVENT
DTSTART;TZID=Europe/London:20250301T190000
DTEND;TZID=Europe/London:20250301T210000
DTSTAMP:20260423T002137
CREATED:20240529T125348Z
LAST-MODIFIED:20240815T131742Z
UID:10004502-1740855600-1740862800@www.pfh.org.uk
SUMMARY:Saturday Night Pop In social night
DESCRIPTION:Saturday from 7pm\nContact Sue at the pop in 07946 549241
URL:https://www.pfh.org.uk/event/saturday-night-pop-in-social-night/2025-03-01/
LOCATION:Broadway Pavilion\, Hull\, HU9 3PB\, United Kingdom
CATEGORIES:Resident Events
ATTACH;FMTTYPE=image/jpeg:https://www.pfh.org.uk/wp-content/uploads/2024/02/group-of-friends.jpg
GEO:53.7646305;-0.2850302
END:VEVENT
BEGIN:VEVENT
DTSTART;TZID=Europe/London:20250303T093000
DTEND;TZID=Europe/London:20250303T113000
DTSTAMP:20260423T002137
CREATED:20240221T153809Z
LAST-MODIFIED:20240815T142407Z
UID:10010398-1740994200-1741001400@www.pfh.org.uk
SUMMARY:Coffee Morning
DESCRIPTION:
URL:https://www.pfh.org.uk/event/coffee-morning-4/2025-03-03/
LOCATION:Broadway Manor\, The Broadway\, Hull\, HU9 3PN\, United Kingdom
CATEGORIES:Resident Events
ATTACH;FMTTYPE=image/jpeg:https://www.pfh.org.uk/wp-content/uploads/2024/02/coffee.jpg
GEO:53.7651389;-0.2888096
X-APPLE-STRUCTURED-LOCATION;VALUE=URI;X-ADDRESS=Broadway Manor The Broadway Hull HU9 3PN United Kingdom;X-APPLE-RADIUS=500;X-TITLE=The Broadway:geo:-0.2888096,53.7651389
END:VEVENT
BEGIN:VEVENT
DTSTART;TZID=Europe/London:20250303T093000
DTEND;TZID=Europe/London:20250303T113000
DTSTAMP:20260423T002137
CREATED:20250113T090056Z
LAST-MODIFIED:20250113T090056Z
UID:10016171-1740994200-1741001400@www.pfh.org.uk
SUMMARY:Breakfast Club
DESCRIPTION:Breakfast sandwich\, toast\, porridge plus\, hot cuppa and games dominoes\, board games or quiz. £2 per person.
URL:https://www.pfh.org.uk/event/breakfast-club-2/2025-03-03/
LOCATION:Priory Road\, Arden Ct\, Hull\, HU5 5SQ\, United Kingdom
ATTACH;FMTTYPE=image/jpeg:https://www.pfh.org.uk/wp-content/uploads/2024/08/pexels-almapapi-2402506-scaled.jpg
GEO:53.7630646;-0.4022564
X-APPLE-STRUCTURED-LOCATION;VALUE=URI;X-ADDRESS=Priory Road Arden Ct Hull HU5 5SQ United Kingdom;X-APPLE-RADIUS=500;X-TITLE=Arden Ct:geo:-0.4022564,53.7630646
END:VEVENT
BEGIN:VEVENT
DTSTART;TZID=Europe/London:20250303T133000
DTEND;TZID=Europe/London:20250303T150000
DTSTAMP:20260423T002137
CREATED:20240815T143111Z
LAST-MODIFIED:20240815T143111Z
UID:10011160-1741008600-1741014000@www.pfh.org.uk
SUMMARY:Bingo Monday Afternoon
DESCRIPTION:PFH residents\, Broadway Village and Friends
URL:https://www.pfh.org.uk/event/bingo-monday-afternoon/2025-03-03/
LOCATION:Broadway Manor\, The Broadway\, Hull\, HU9 3PN\, United Kingdom
CATEGORIES:Resident Events
ATTACH;FMTTYPE=image/jpeg:https://www.pfh.org.uk/wp-content/uploads/2024/02/people-playing-bingo.jpg
GEO:53.7651389;-0.2888096
X-APPLE-STRUCTURED-LOCATION;VALUE=URI;X-ADDRESS=Broadway Manor The Broadway Hull HU9 3PN United Kingdom;X-APPLE-RADIUS=500;X-TITLE=The Broadway:geo:-0.2888096,53.7651389
END:VEVENT
BEGIN:VEVENT
DTSTART;TZID=Europe/London:20250303T190000
DTEND;TZID=Europe/London:20250303T220000
DTSTAMP:20260423T002137
CREATED:20240221T110549Z
LAST-MODIFIED:20240815T131203Z
UID:10007772-1741028400-1741039200@www.pfh.org.uk
SUMMARY:Ladies in Red
DESCRIPTION:Singing group rehearsals – Contact Elaine 07871 080 810
URL:https://www.pfh.org.uk/event/ladies-in-red/2025-03-03/
LOCATION:Florence Nightingale Court\, Florence Nightingale Ct\, Hull\, HU5 4BW\, United Kingdom
CATEGORIES:Resident Events
ATTACH;FMTTYPE=image/jpeg:https://www.pfh.org.uk/wp-content/uploads/2024/02/ladies-singing-group.jpg
ORGANIZER;CN="PFH":MAILTO:info@pfh.org.uk
GEO:53.7691182;-0.3807095
X-APPLE-STRUCTURED-LOCATION;VALUE=URI;X-ADDRESS=Florence Nightingale Court Florence Nightingale Ct Hull HU5 4BW United Kingdom;X-APPLE-RADIUS=500;X-TITLE=Florence Nightingale Ct:geo:-0.3807095,53.7691182
END:VEVENT
BEGIN:VEVENT
DTSTART;TZID=Europe/London:20250304T133000
DTEND;TZID=Europe/London:20250304T153000
DTSTAMP:20260423T002137
CREATED:20240529T144807Z
LAST-MODIFIED:20240815T145936Z
UID:10014386-1741095000-1741102200@www.pfh.org.uk
SUMMARY:Quiz afternoon
DESCRIPTION:Wednesday 1.30pm\nScheme manager Maria – 01482 313 501
URL:https://www.pfh.org.uk/event/quiz-afternoon/2025-03-04/
LOCATION:Malin Lodge\, Malin Lodge\, Hull\, HU9 3LH\, United Kingdom
CATEGORIES:Resident Events
ATTACH;FMTTYPE=image/jpeg:https://www.pfh.org.uk/wp-content/uploads/2024/05/young-woman-in-casual-clothes-helping-senior-man-in-formal-shirt-with-paying-credit-card-in-internet-using-laptop-while-sitting-at-table-3823488-scaled.jpg
GEO:53.7657778;-0.284267
X-APPLE-STRUCTURED-LOCATION;VALUE=URI;X-ADDRESS=Malin Lodge Malin Lodge Hull HU9 3LH United Kingdom;X-APPLE-RADIUS=500;X-TITLE=Malin Lodge:geo:-0.284267,53.7657778
END:VEVENT
BEGIN:VEVENT
DTSTART;TZID=Europe/London:20250304T134500
DTEND;TZID=Europe/London:20250304T153000
DTSTAMP:20260423T002137
CREATED:20240221T140805Z
LAST-MODIFIED:20240815T134736Z
UID:10008836-1741095900-1741102200@www.pfh.org.uk
SUMMARY:Bingo
DESCRIPTION:Contact Paul at the pop in on 07701 347 706
URL:https://www.pfh.org.uk/event/bingo/2025-03-04/
LOCATION:Priory Road\, Arden Ct\, Hull\, HU5 5SQ\, United Kingdom
CATEGORIES:Resident Events
ATTACH;FMTTYPE=image/jpeg:https://www.pfh.org.uk/wp-content/uploads/2024/02/people-playing-bingo.jpg
ORGANIZER;CN="PFH":MAILTO:info@pfh.org.uk
GEO:53.7630646;-0.4022564
X-APPLE-STRUCTURED-LOCATION;VALUE=URI;X-ADDRESS=Priory Road Arden Ct Hull HU5 5SQ United Kingdom;X-APPLE-RADIUS=500;X-TITLE=Arden Ct:geo:-0.4022564,53.7630646
END:VEVENT
BEGIN:VEVENT
DTSTART;TZID=Europe/London:20250304T190000
DTEND;TZID=Europe/London:20250304T210000
DTSTAMP:20260423T002137
CREATED:20240221T154720Z
LAST-MODIFIED:20240815T143224Z
UID:10011415-1741114800-1741122000@www.pfh.org.uk
SUMMARY:Dominoes
DESCRIPTION:Join in on the fun with our Dominoes night \nContact the office 01482 223 783
URL:https://www.pfh.org.uk/event/dominoes-2/2025-03-04/
LOCATION:Broadway Manor\, The Broadway\, Hull\, HU9 3PN\, United Kingdom
CATEGORIES:Resident Events
ATTACH;FMTTYPE=image/jpeg:https://www.pfh.org.uk/wp-content/uploads/2024/02/dominoes.jpg
GEO:53.7651389;-0.2888096
X-APPLE-STRUCTURED-LOCATION;VALUE=URI;X-ADDRESS=Broadway Manor The Broadway Hull HU9 3PN United Kingdom;X-APPLE-RADIUS=500;X-TITLE=The Broadway:geo:-0.2888096,53.7651389
END:VEVENT
BEGIN:VEVENT
DTSTART;TZID=Europe/London:20250305T090000
DTEND;TZID=Europe/London:20250305T103000
DTSTAMP:20260423T002137
CREATED:20240815T142522Z
LAST-MODIFIED:20240815T142522Z
UID:10010906-1741165200-1741170600@www.pfh.org.uk
SUMMARY:Coffee Morning
DESCRIPTION:
URL:https://www.pfh.org.uk/event/coffee-morning-6/2025-03-05/
LOCATION:Broadway Manor\, The Broadway\, Hull\, HU9 3PN\, United Kingdom
CATEGORIES:Resident Events
ATTACH;FMTTYPE=image/jpeg:https://www.pfh.org.uk/wp-content/uploads/2024/02/coffee.jpg
GEO:53.7651389;-0.2888096
X-APPLE-STRUCTURED-LOCATION;VALUE=URI;X-ADDRESS=Broadway Manor The Broadway Hull HU9 3PN United Kingdom;X-APPLE-RADIUS=500;X-TITLE=The Broadway:geo:-0.2888096,53.7651389
END:VEVENT
BEGIN:VEVENT
DTSTART;TZID=Europe/London:20250305T100000
DTEND;TZID=Europe/London:20250305T120000
DTSTAMP:20260423T002137
CREATED:20240815T133406Z
LAST-MODIFIED:20240815T133406Z
UID:10008559-1741168800-1741176000@www.pfh.org.uk
SUMMARY:Breakfast Club
DESCRIPTION:Includes a breakfast sandwich and a cuppa | £2\nContact Jean at the pop in or call the office for more information
URL:https://www.pfh.org.uk/event/breakfast-club/2025-03-05/
LOCATION:Hebrides Close\, Hebrides Close\, Hull\, HU9 3LF\, United Kingdom
CATEGORIES:Resident Events
ATTACH;FMTTYPE=image/jpeg:https://www.pfh.org.uk/wp-content/uploads/2024/08/pexels-almapapi-2402506-scaled.jpg
GEO:53.7656312;-0.2858951
X-APPLE-STRUCTURED-LOCATION;VALUE=URI;X-ADDRESS=Hebrides Close Hebrides Close Hull HU9 3LF United Kingdom;X-APPLE-RADIUS=500;X-TITLE=Hebrides Close:geo:-0.2858951,53.7656312
END:VEVENT
BEGIN:VEVENT
DTSTART;TZID=Europe/London:20250305T140000
DTEND;TZID=Europe/London:20250305T160000
DTSTAMP:20260423T002137
CREATED:20240221T142537Z
LAST-MODIFIED:20240815T135223Z
UID:10009577-1741183200-1741190400@www.pfh.org.uk
SUMMARY:Social Afternoon and Bingo
DESCRIPTION:Contact Mary 07939 582 464
URL:https://www.pfh.org.uk/event/social-afternoon-and-bingo/2025-03-05/
LOCATION:Westgarth Avenue\, Westgarth Avenue\, Hull\, HU6 8LS\, United Kingdom
CATEGORIES:Resident Events
ATTACH;FMTTYPE=image/jpeg:https://www.pfh.org.uk/wp-content/uploads/2024/02/people-playing-bingo.jpg
GEO:53.7775159;-0.3787561
X-APPLE-STRUCTURED-LOCATION;VALUE=URI;X-ADDRESS=Westgarth Avenue Westgarth Avenue Hull HU6 8LS United Kingdom;X-APPLE-RADIUS=500;X-TITLE=Westgarth Avenue:geo:-0.3787561,53.7775159
END:VEVENT
BEGIN:VEVENT
DTSTART;TZID=Europe/London:20250306T100000
DTEND;TZID=Europe/London:20250327T120000
DTSTAMP:20260423T002137
CREATED:20250113T090322Z
LAST-MODIFIED:20250113T090322Z
UID:10016180-1741255200-1743076800@www.pfh.org.uk
SUMMARY:IT and Biscuits with Hull CVS
DESCRIPTION:Get help with social media\, sending email or text or even just how to work a device you have. Come and join us for a cuppa and a chat.
URL:https://www.pfh.org.uk/event/it-and-biscuits-with-hull-cvs-2/2025-03-06/
LOCATION:Westgarth Avenue\, Westgarth Avenue\, Hull\, HU6 8LS\, United Kingdom
ATTACH;FMTTYPE=image/jpeg:https://www.pfh.org.uk/wp-content/uploads/2025/01/shutterstock_1492696199-scaled.jpg
GEO:53.7775159;-0.3787561
X-APPLE-STRUCTURED-LOCATION;VALUE=URI;X-ADDRESS=Westgarth Avenue Westgarth Avenue Hull HU6 8LS United Kingdom;X-APPLE-RADIUS=500;X-TITLE=Westgarth Avenue:geo:-0.3787561,53.7775159
END:VEVENT
BEGIN:VEVENT
DTSTART;TZID=Europe/London:20250306T103000
DTEND;TZID=Europe/London:20250306T120000
DTSTAMP:20260423T002137
CREATED:20240221T154949Z
LAST-MODIFIED:20240815T140810Z
UID:10010087-1741257000-1741262400@www.pfh.org.uk
SUMMARY:Coffee Morning
DESCRIPTION:
URL:https://www.pfh.org.uk/event/coffee-morning-5/2025-03-06/
LOCATION:Ada Holmes\, Ada Holmes Cir\, Hull\, HU6 9PB\, United Kingdom
CATEGORIES:Resident Events
ATTACH;FMTTYPE=image/jpeg:https://www.pfh.org.uk/wp-content/uploads/2024/02/coffee.jpg
GEO:53.7823313;-0.3719218
X-APPLE-STRUCTURED-LOCATION;VALUE=URI;X-ADDRESS=Ada Holmes Ada Holmes Cir Hull HU6 9PB United Kingdom;X-APPLE-RADIUS=500;X-TITLE=Ada Holmes Cir:geo:-0.3719218,53.7823313
END:VEVENT
BEGIN:VEVENT
DTSTART;TZID=Europe/London:20250306T134500
DTEND;TZID=Europe/London:20250306T153000
DTSTAMP:20260423T002137
CREATED:20240221T140805Z
LAST-MODIFIED:20240815T134736Z
UID:10008837-1741268700-1741275000@www.pfh.org.uk
SUMMARY:Bingo
DESCRIPTION:Contact Paul at the pop in on 07701 347 706
URL:https://www.pfh.org.uk/event/bingo/2025-03-06/
LOCATION:Priory Road\, Arden Ct\, Hull\, HU5 5SQ\, United Kingdom
CATEGORIES:Resident Events
ATTACH;FMTTYPE=image/jpeg:https://www.pfh.org.uk/wp-content/uploads/2024/02/people-playing-bingo.jpg
ORGANIZER;CN="PFH":MAILTO:info@pfh.org.uk
GEO:53.7630646;-0.4022564
X-APPLE-STRUCTURED-LOCATION;VALUE=URI;X-ADDRESS=Priory Road Arden Ct Hull HU5 5SQ United Kingdom;X-APPLE-RADIUS=500;X-TITLE=Arden Ct:geo:-0.4022564,53.7630646
END:VEVENT
BEGIN:VEVENT
DTSTART;TZID=Europe/London:20250307T100000
DTEND;TZID=Europe/London:20250307T113000
DTSTAMP:20260423T002137
CREATED:20250113T095532Z
LAST-MODIFIED:20250113T095532Z
UID:10016371-1741341600-1741347000@www.pfh.org.uk
SUMMARY:Coffee Morning\, Chat & Quiz
DESCRIPTION:
URL:https://www.pfh.org.uk/event/coffee-morning-chat-quiz/2025-03-07/
LOCATION:Humber View\, Camilla Cl\, Hull\, HU9 1UE\, United Kingdom
ATTACH;FMTTYPE=image/jpeg:https://www.pfh.org.uk/wp-content/uploads/2025/01/shutterstock_2240036883-scaled.jpg
GEO:53.7391243;-0.3273038
X-APPLE-STRUCTURED-LOCATION;VALUE=URI;X-ADDRESS=Humber View Camilla Cl Hull HU9 1UE United Kingdom;X-APPLE-RADIUS=500;X-TITLE=Camilla Cl:geo:-0.3273038,53.7391243
END:VEVENT
BEGIN:VEVENT
DTSTART;TZID=Europe/London:20250307T103000
DTEND;TZID=Europe/London:20250307T113000
DTSTAMP:20260423T002137
CREATED:20240815T141530Z
LAST-MODIFIED:20240815T141530Z
UID:10010346-1741343400-1741347000@www.pfh.org.uk
SUMMARY:Hull City Senior Tigers Socials
DESCRIPTION:
URL:https://www.pfh.org.uk/event/hull-city-senior-tigers-socials/2025-03-07/
LOCATION:Ada Holmes\, Ada Holmes Cir\, Hull\, HU6 9PB\, United Kingdom
CATEGORIES:Resident Events
ATTACH;FMTTYPE=image/png:https://www.pfh.org.uk/wp-content/uploads/2024/08/STC-Logo-350x350-2.png
GEO:53.7823313;-0.3719218
X-APPLE-STRUCTURED-LOCATION;VALUE=URI;X-ADDRESS=Ada Holmes Ada Holmes Cir Hull HU6 9PB United Kingdom;X-APPLE-RADIUS=500;X-TITLE=Ada Holmes Cir:geo:-0.3719218,53.7823313
END:VEVENT
BEGIN:VEVENT
DTSTART;TZID=Europe/London:20250307T103000
DTEND;TZID=Europe/London:20250307T120000
DTSTAMP:20260423T002137
CREATED:20240815T145200Z
LAST-MODIFIED:20240815T145200Z
UID:10013578-1741343400-1741348800@www.pfh.org.uk
SUMMARY:Coffee Morning\, Quiz and chat
DESCRIPTION:Scheme manager Tara – 01482 313 524
URL:https://www.pfh.org.uk/event/coffee-morning-quiz-and-chat-2/2025-03-07/
LOCATION:Christopher Pickering Lodge\, Christopher Pickering Lodge\, Hull\, HU4 6RS\, United Kingdom
CATEGORIES:Resident Events
ATTACH;FMTTYPE=image/jpeg:https://www.pfh.org.uk/wp-content/uploads/2024/02/coffee.jpg
GEO:53.7296956;-0.3977067
X-APPLE-STRUCTURED-LOCATION;VALUE=URI;X-ADDRESS=Christopher Pickering Lodge Christopher Pickering Lodge Hull HU4 6RS United Kingdom;X-APPLE-RADIUS=500;X-TITLE=Christopher Pickering Lodge:geo:-0.3977067,53.7296956
END:VEVENT
BEGIN:VEVENT
DTSTART;TZID=Europe/London:20250307T130000
DTEND;TZID=Europe/London:20250307T160000
DTSTAMP:20260423T002137
CREATED:20240815T143708Z
LAST-MODIFIED:20240815T143708Z
UID:10011925-1741352400-1741363200@www.pfh.org.uk
SUMMARY:Bingo and Raffle
DESCRIPTION:PFH residents\, Broadway Village and Friends
URL:https://www.pfh.org.uk/event/bingo-and-raffle/2025-03-07/
LOCATION:Broadway Manor\, The Broadway\, Hull\, HU9 3PN\, United Kingdom
CATEGORIES:Resident Events
ATTACH;FMTTYPE=image/jpeg:https://www.pfh.org.uk/wp-content/uploads/2024/02/people-playing-bingo.jpg
GEO:53.7651389;-0.2888096
X-APPLE-STRUCTURED-LOCATION;VALUE=URI;X-ADDRESS=Broadway Manor The Broadway Hull HU9 3PN United Kingdom;X-APPLE-RADIUS=500;X-TITLE=The Broadway:geo:-0.2888096,53.7651389
END:VEVENT
BEGIN:VEVENT
DTSTART;TZID=Europe/London:20250307T190000
DTEND;TZID=Europe/London:20250307T210000
DTSTAMP:20260423T002137
CREATED:20240815T150322Z
LAST-MODIFIED:20260119T153551Z
UID:10015380-1741374000-1741381200@www.pfh.org.uk
SUMMARY:Bingo
DESCRIPTION:Scheme manager Maria – 01482 313 501
URL:https://www.pfh.org.uk/event/bingo-4/2025-03-07/
LOCATION:Malin Lodge\, Malin Lodge\, Hull\, HU9 3LH\, United Kingdom
CATEGORIES:Resident Events
ATTACH;FMTTYPE=image/jpeg:https://www.pfh.org.uk/wp-content/uploads/2024/02/people-playing-bingo.jpg
GEO:53.7657778;-0.284267
X-APPLE-STRUCTURED-LOCATION;VALUE=URI;X-ADDRESS=Malin Lodge Malin Lodge Hull HU9 3LH United Kingdom;X-APPLE-RADIUS=500;X-TITLE=Malin Lodge:geo:-0.284267,53.7657778
END:VEVENT
BEGIN:VEVENT
DTSTART;TZID=Europe/London:20250308T190000
DTEND;TZID=Europe/London:20250308T210000
DTSTAMP:20260423T002137
CREATED:20240529T125348Z
LAST-MODIFIED:20240815T131742Z
UID:10004503-1741460400-1741467600@www.pfh.org.uk
SUMMARY:Saturday Night Pop In social night
DESCRIPTION:Saturday from 7pm\nContact Sue at the pop in 07946 549241
URL:https://www.pfh.org.uk/event/saturday-night-pop-in-social-night/2025-03-08/
LOCATION:Broadway Pavilion\, Hull\, HU9 3PB\, United Kingdom
CATEGORIES:Resident Events
ATTACH;FMTTYPE=image/jpeg:https://www.pfh.org.uk/wp-content/uploads/2024/02/group-of-friends.jpg
GEO:53.7646305;-0.2850302
END:VEVENT
BEGIN:VEVENT
DTSTART;TZID=Europe/London:20250310T093000
DTEND;TZID=Europe/London:20250310T113000
DTSTAMP:20260423T002137
CREATED:20240221T153809Z
LAST-MODIFIED:20240815T142407Z
UID:10010399-1741599000-1741606200@www.pfh.org.uk
SUMMARY:Coffee Morning
DESCRIPTION:
URL:https://www.pfh.org.uk/event/coffee-morning-4/2025-03-10/
LOCATION:Broadway Manor\, The Broadway\, Hull\, HU9 3PN\, United Kingdom
CATEGORIES:Resident Events
ATTACH;FMTTYPE=image/jpeg:https://www.pfh.org.uk/wp-content/uploads/2024/02/coffee.jpg
GEO:53.7651389;-0.2888096
X-APPLE-STRUCTURED-LOCATION;VALUE=URI;X-ADDRESS=Broadway Manor The Broadway Hull HU9 3PN United Kingdom;X-APPLE-RADIUS=500;X-TITLE=The Broadway:geo:-0.2888096,53.7651389
END:VEVENT
BEGIN:VEVENT
DTSTART;TZID=Europe/London:20250310T093000
DTEND;TZID=Europe/London:20250310T113000
DTSTAMP:20260423T002137
CREATED:20250113T090056Z
LAST-MODIFIED:20250113T090056Z
UID:10016172-1741599000-1741606200@www.pfh.org.uk
SUMMARY:Breakfast Club
DESCRIPTION:Breakfast sandwich\, toast\, porridge plus\, hot cuppa and games dominoes\, board games or quiz. £2 per person.
URL:https://www.pfh.org.uk/event/breakfast-club-2/2025-03-10/
LOCATION:Priory Road\, Arden Ct\, Hull\, HU5 5SQ\, United Kingdom
ATTACH;FMTTYPE=image/jpeg:https://www.pfh.org.uk/wp-content/uploads/2024/08/pexels-almapapi-2402506-scaled.jpg
GEO:53.7630646;-0.4022564
X-APPLE-STRUCTURED-LOCATION;VALUE=URI;X-ADDRESS=Priory Road Arden Ct Hull HU5 5SQ United Kingdom;X-APPLE-RADIUS=500;X-TITLE=Arden Ct:geo:-0.4022564,53.7630646
END:VEVENT
BEGIN:VEVENT
DTSTART;TZID=Europe/London:20250310T133000
DTEND;TZID=Europe/London:20250310T150000
DTSTAMP:20260423T002137
CREATED:20240815T143111Z
LAST-MODIFIED:20240815T143111Z
UID:10011161-1741613400-1741618800@www.pfh.org.uk
SUMMARY:Bingo Monday Afternoon
DESCRIPTION:PFH residents\, Broadway Village and Friends
URL:https://www.pfh.org.uk/event/bingo-monday-afternoon/2025-03-10/
LOCATION:Broadway Manor\, The Broadway\, Hull\, HU9 3PN\, United Kingdom
CATEGORIES:Resident Events
ATTACH;FMTTYPE=image/jpeg:https://www.pfh.org.uk/wp-content/uploads/2024/02/people-playing-bingo.jpg
GEO:53.7651389;-0.2888096
X-APPLE-STRUCTURED-LOCATION;VALUE=URI;X-ADDRESS=Broadway Manor The Broadway Hull HU9 3PN United Kingdom;X-APPLE-RADIUS=500;X-TITLE=The Broadway:geo:-0.2888096,53.7651389
END:VEVENT
BEGIN:VEVENT
DTSTART;TZID=Europe/London:20250310T190000
DTEND;TZID=Europe/London:20250310T220000
DTSTAMP:20260423T002137
CREATED:20240221T110549Z
LAST-MODIFIED:20240815T131203Z
UID:10007773-1741633200-1741644000@www.pfh.org.uk
SUMMARY:Ladies in Red
DESCRIPTION:Singing group rehearsals – Contact Elaine 07871 080 810
URL:https://www.pfh.org.uk/event/ladies-in-red/2025-03-10/
LOCATION:Florence Nightingale Court\, Florence Nightingale Ct\, Hull\, HU5 4BW\, United Kingdom
CATEGORIES:Resident Events
ATTACH;FMTTYPE=image/jpeg:https://www.pfh.org.uk/wp-content/uploads/2024/02/ladies-singing-group.jpg
ORGANIZER;CN="PFH":MAILTO:info@pfh.org.uk
GEO:53.7691182;-0.3807095
X-APPLE-STRUCTURED-LOCATION;VALUE=URI;X-ADDRESS=Florence Nightingale Court Florence Nightingale Ct Hull HU5 4BW United Kingdom;X-APPLE-RADIUS=500;X-TITLE=Florence Nightingale Ct:geo:-0.3807095,53.7691182
END:VEVENT
BEGIN:VEVENT
DTSTART;TZID=Europe/London:20250311T133000
DTEND;TZID=Europe/London:20250311T153000
DTSTAMP:20260423T002137
CREATED:20240529T144807Z
LAST-MODIFIED:20240815T145936Z
UID:10014387-1741699800-1741707000@www.pfh.org.uk
SUMMARY:Quiz afternoon
DESCRIPTION:Wednesday 1.30pm\nScheme manager Maria – 01482 313 501
URL:https://www.pfh.org.uk/event/quiz-afternoon/2025-03-11/
LOCATION:Malin Lodge\, Malin Lodge\, Hull\, HU9 3LH\, United Kingdom
CATEGORIES:Resident Events
ATTACH;FMTTYPE=image/jpeg:https://www.pfh.org.uk/wp-content/uploads/2024/05/young-woman-in-casual-clothes-helping-senior-man-in-formal-shirt-with-paying-credit-card-in-internet-using-laptop-while-sitting-at-table-3823488-scaled.jpg
GEO:53.7657778;-0.284267
X-APPLE-STRUCTURED-LOCATION;VALUE=URI;X-ADDRESS=Malin Lodge Malin Lodge Hull HU9 3LH United Kingdom;X-APPLE-RADIUS=500;X-TITLE=Malin Lodge:geo:-0.284267,53.7657778
END:VEVENT
BEGIN:VEVENT
DTSTART;TZID=Europe/London:20250311T134500
DTEND;TZID=Europe/London:20250311T153000
DTSTAMP:20260423T002137
CREATED:20240221T140805Z
LAST-MODIFIED:20240815T134736Z
UID:10008838-1741700700-1741707000@www.pfh.org.uk
SUMMARY:Bingo
DESCRIPTION:Contact Paul at the pop in on 07701 347 706
URL:https://www.pfh.org.uk/event/bingo/2025-03-11/
LOCATION:Priory Road\, Arden Ct\, Hull\, HU5 5SQ\, United Kingdom
CATEGORIES:Resident Events
ATTACH;FMTTYPE=image/jpeg:https://www.pfh.org.uk/wp-content/uploads/2024/02/people-playing-bingo.jpg
ORGANIZER;CN="PFH":MAILTO:info@pfh.org.uk
GEO:53.7630646;-0.4022564
X-APPLE-STRUCTURED-LOCATION;VALUE=URI;X-ADDRESS=Priory Road Arden Ct Hull HU5 5SQ United Kingdom;X-APPLE-RADIUS=500;X-TITLE=Arden Ct:geo:-0.4022564,53.7630646
END:VEVENT
BEGIN:VEVENT
DTSTART;TZID=Europe/London:20250311T190000
DTEND;TZID=Europe/London:20250311T210000
DTSTAMP:20260423T002137
CREATED:20240221T154720Z
LAST-MODIFIED:20240815T143224Z
UID:10011416-1741719600-1741726800@www.pfh.org.uk
SUMMARY:Dominoes
DESCRIPTION:Join in on the fun with our Dominoes night \nContact the office 01482 223 783
URL:https://www.pfh.org.uk/event/dominoes-2/2025-03-11/
LOCATION:Broadway Manor\, The Broadway\, Hull\, HU9 3PN\, United Kingdom
CATEGORIES:Resident Events
ATTACH;FMTTYPE=image/jpeg:https://www.pfh.org.uk/wp-content/uploads/2024/02/dominoes.jpg
GEO:53.7651389;-0.2888096
X-APPLE-STRUCTURED-LOCATION;VALUE=URI;X-ADDRESS=Broadway Manor The Broadway Hull HU9 3PN United Kingdom;X-APPLE-RADIUS=500;X-TITLE=The Broadway:geo:-0.2888096,53.7651389
END:VEVENT
BEGIN:VEVENT
DTSTART;TZID=Europe/London:20250312T090000
DTEND;TZID=Europe/London:20250312T103000
DTSTAMP:20260423T002137
CREATED:20240815T142522Z
LAST-MODIFIED:20240815T142522Z
UID:10010907-1741770000-1741775400@www.pfh.org.uk
SUMMARY:Coffee Morning
DESCRIPTION:
URL:https://www.pfh.org.uk/event/coffee-morning-6/2025-03-12/
LOCATION:Broadway Manor\, The Broadway\, Hull\, HU9 3PN\, United Kingdom
CATEGORIES:Resident Events
ATTACH;FMTTYPE=image/jpeg:https://www.pfh.org.uk/wp-content/uploads/2024/02/coffee.jpg
GEO:53.7651389;-0.2888096
X-APPLE-STRUCTURED-LOCATION;VALUE=URI;X-ADDRESS=Broadway Manor The Broadway Hull HU9 3PN United Kingdom;X-APPLE-RADIUS=500;X-TITLE=The Broadway:geo:-0.2888096,53.7651389
END:VEVENT
BEGIN:VEVENT
DTSTART;TZID=Europe/London:20250312T100000
DTEND;TZID=Europe/London:20250312T120000
DTSTAMP:20260423T002137
CREATED:20240815T133406Z
LAST-MODIFIED:20240815T133406Z
UID:10008560-1741773600-1741780800@www.pfh.org.uk
SUMMARY:Breakfast Club
DESCRIPTION:Includes a breakfast sandwich and a cuppa | £2\nContact Jean at the pop in or call the office for more information
URL:https://www.pfh.org.uk/event/breakfast-club/2025-03-12/
LOCATION:Hebrides Close\, Hebrides Close\, Hull\, HU9 3LF\, United Kingdom
CATEGORIES:Resident Events
ATTACH;FMTTYPE=image/jpeg:https://www.pfh.org.uk/wp-content/uploads/2024/08/pexels-almapapi-2402506-scaled.jpg
GEO:53.7656312;-0.2858951
X-APPLE-STRUCTURED-LOCATION;VALUE=URI;X-ADDRESS=Hebrides Close Hebrides Close Hull HU9 3LF United Kingdom;X-APPLE-RADIUS=500;X-TITLE=Hebrides Close:geo:-0.2858951,53.7656312
END:VEVENT
BEGIN:VEVENT
DTSTART;TZID=Europe/London:20250312T140000
DTEND;TZID=Europe/London:20250312T160000
DTSTAMP:20260423T002137
CREATED:20240221T142537Z
LAST-MODIFIED:20240815T135223Z
UID:10009578-1741788000-1741795200@www.pfh.org.uk
SUMMARY:Social Afternoon and Bingo
DESCRIPTION:Contact Mary 07939 582 464
URL:https://www.pfh.org.uk/event/social-afternoon-and-bingo/2025-03-12/
LOCATION:Westgarth Avenue\, Westgarth Avenue\, Hull\, HU6 8LS\, United Kingdom
CATEGORIES:Resident Events
ATTACH;FMTTYPE=image/jpeg:https://www.pfh.org.uk/wp-content/uploads/2024/02/people-playing-bingo.jpg
GEO:53.7775159;-0.3787561
X-APPLE-STRUCTURED-LOCATION;VALUE=URI;X-ADDRESS=Westgarth Avenue Westgarth Avenue Hull HU6 8LS United Kingdom;X-APPLE-RADIUS=500;X-TITLE=Westgarth Avenue:geo:-0.3787561,53.7775159
END:VEVENT
END:VCALENDAR