BEGIN:VCALENDAR
VERSION:2.0
PRODID:-//PFH Pickering &amp; Ferens Homes - ECPv6.15.20//NONSGML v1.0//EN
CALSCALE:GREGORIAN
METHOD:PUBLISH
X-WR-CALNAME:PFH Pickering &amp; Ferens Homes
X-ORIGINAL-URL:https://www.pfh.org.uk
X-WR-CALDESC:Events for PFH Pickering &amp; Ferens Homes
REFRESH-INTERVAL;VALUE=DURATION:PT1H
X-Robots-Tag:noindex
X-PUBLISHED-TTL:PT1H
BEGIN:VTIMEZONE
TZID:Europe/London
BEGIN:DAYLIGHT
TZOFFSETFROM:+0000
TZOFFSETTO:+0100
TZNAME:BST
DTSTART:20240331T010000
END:DAYLIGHT
BEGIN:STANDARD
TZOFFSETFROM:+0100
TZOFFSETTO:+0000
TZNAME:GMT
DTSTART:20241027T010000
END:STANDARD
BEGIN:DAYLIGHT
TZOFFSETFROM:+0000
TZOFFSETTO:+0100
TZNAME:BST
DTSTART:20250330T010000
END:DAYLIGHT
BEGIN:STANDARD
TZOFFSETFROM:+0100
TZOFFSETTO:+0000
TZNAME:GMT
DTSTART:20251026T010000
END:STANDARD
BEGIN:DAYLIGHT
TZOFFSETFROM:+0000
TZOFFSETTO:+0100
TZNAME:BST
DTSTART:20260329T010000
END:DAYLIGHT
BEGIN:STANDARD
TZOFFSETFROM:+0100
TZOFFSETTO:+0000
TZNAME:GMT
DTSTART:20261025T010000
END:STANDARD
END:VTIMEZONE
BEGIN:VEVENT
DTSTART;TZID=Europe/London:20251202T083000
DTEND;TZID=Europe/London:20251202T140000
DTSTAMP:20260425T014042
CREATED:20240815T145319Z
LAST-MODIFIED:20240815T145319Z
UID:10014152-1764664200-1764684000@www.pfh.org.uk
SUMMARY:Hairdressers Service
DESCRIPTION:Contact scheme manager Tara – 01482 313 524
URL:https://www.pfh.org.uk/event/hairdressers-service-4/2025-12-02/
LOCATION:Humber View\, Camilla Cl\, Hull\, HU9 1UE\, United Kingdom
CATEGORIES:Resident Events
ATTACH;FMTTYPE=image/jpeg:https://www.pfh.org.uk/wp-content/uploads/2024/02/blonde-woman-getting-her-hair-done.jpg
GEO:53.7391243;-0.3273038
X-APPLE-STRUCTURED-LOCATION;VALUE=URI;X-ADDRESS=Humber View Camilla Cl Hull HU9 1UE United Kingdom;X-APPLE-RADIUS=500;X-TITLE=Camilla Cl:geo:-0.3273038,53.7391243
END:VEVENT
BEGIN:VEVENT
DTSTART;TZID=Europe/London:20251203T103000
DTEND;TZID=Europe/London:20251203T120000
DTSTAMP:20260425T014042
CREATED:20240221T145542Z
LAST-MODIFIED:20240807T080250Z
UID:10007273-1764757800-1764763200@www.pfh.org.uk
SUMMARY:Hairdressers Service
DESCRIPTION:Christopher Pickering Lodge\nHessle High Road HU4 6RS. Opposite Pickering Park\nScheme manager Sharon 01482 313 562 Ian 01482 313 563
URL:https://www.pfh.org.uk/event/hairdressers-service/2025-12-03/
LOCATION:Christopher Pickering Lodge\, Christopher Pickering Lodge\, Hull\, HU4 6RS\, United Kingdom
CATEGORIES:Resident Events
ATTACH;FMTTYPE=image/jpeg:https://www.pfh.org.uk/wp-content/uploads/2024/02/blonde-woman-getting-her-hair-done.jpg
GEO:53.7296956;-0.3977067
X-APPLE-STRUCTURED-LOCATION;VALUE=URI;X-ADDRESS=Christopher Pickering Lodge Christopher Pickering Lodge Hull HU4 6RS United Kingdom;X-APPLE-RADIUS=500;X-TITLE=Christopher Pickering Lodge:geo:-0.3977067,53.7296956
END:VEVENT
BEGIN:VEVENT
DTSTART;TZID=Europe/London:20251209T083000
DTEND;TZID=Europe/London:20251209T140000
DTSTAMP:20260425T014042
CREATED:20240815T145319Z
LAST-MODIFIED:20240815T145319Z
UID:10014153-1765269000-1765288800@www.pfh.org.uk
SUMMARY:Hairdressers Service
DESCRIPTION:Contact scheme manager Tara – 01482 313 524
URL:https://www.pfh.org.uk/event/hairdressers-service-4/2025-12-09/
LOCATION:Humber View\, Camilla Cl\, Hull\, HU9 1UE\, United Kingdom
CATEGORIES:Resident Events
ATTACH;FMTTYPE=image/jpeg:https://www.pfh.org.uk/wp-content/uploads/2024/02/blonde-woman-getting-her-hair-done.jpg
GEO:53.7391243;-0.3273038
X-APPLE-STRUCTURED-LOCATION;VALUE=URI;X-ADDRESS=Humber View Camilla Cl Hull HU9 1UE United Kingdom;X-APPLE-RADIUS=500;X-TITLE=Camilla Cl:geo:-0.3273038,53.7391243
END:VEVENT
BEGIN:VEVENT
DTSTART;TZID=Europe/London:20251210T103000
DTEND;TZID=Europe/London:20251210T120000
DTSTAMP:20260425T014042
CREATED:20240221T145542Z
LAST-MODIFIED:20240807T080250Z
UID:10007274-1765362600-1765368000@www.pfh.org.uk
SUMMARY:Hairdressers Service
DESCRIPTION:Christopher Pickering Lodge\nHessle High Road HU4 6RS. Opposite Pickering Park\nScheme manager Sharon 01482 313 562 Ian 01482 313 563
URL:https://www.pfh.org.uk/event/hairdressers-service/2025-12-10/
LOCATION:Christopher Pickering Lodge\, Christopher Pickering Lodge\, Hull\, HU4 6RS\, United Kingdom
CATEGORIES:Resident Events
ATTACH;FMTTYPE=image/jpeg:https://www.pfh.org.uk/wp-content/uploads/2024/02/blonde-woman-getting-her-hair-done.jpg
GEO:53.7296956;-0.3977067
X-APPLE-STRUCTURED-LOCATION;VALUE=URI;X-ADDRESS=Christopher Pickering Lodge Christopher Pickering Lodge Hull HU4 6RS United Kingdom;X-APPLE-RADIUS=500;X-TITLE=Christopher Pickering Lodge:geo:-0.3977067,53.7296956
END:VEVENT
BEGIN:VEVENT
DTSTART;TZID=Europe/London:20251216T083000
DTEND;TZID=Europe/London:20251216T140000
DTSTAMP:20260425T014042
CREATED:20240815T145319Z
LAST-MODIFIED:20240815T145319Z
UID:10014154-1765873800-1765893600@www.pfh.org.uk
SUMMARY:Hairdressers Service
DESCRIPTION:Contact scheme manager Tara – 01482 313 524
URL:https://www.pfh.org.uk/event/hairdressers-service-4/2025-12-16/
LOCATION:Humber View\, Camilla Cl\, Hull\, HU9 1UE\, United Kingdom
CATEGORIES:Resident Events
ATTACH;FMTTYPE=image/jpeg:https://www.pfh.org.uk/wp-content/uploads/2024/02/blonde-woman-getting-her-hair-done.jpg
GEO:53.7391243;-0.3273038
X-APPLE-STRUCTURED-LOCATION;VALUE=URI;X-ADDRESS=Humber View Camilla Cl Hull HU9 1UE United Kingdom;X-APPLE-RADIUS=500;X-TITLE=Camilla Cl:geo:-0.3273038,53.7391243
END:VEVENT
BEGIN:VEVENT
DTSTART;TZID=Europe/London:20251217T103000
DTEND;TZID=Europe/London:20251217T120000
DTSTAMP:20260425T014042
CREATED:20240221T145542Z
LAST-MODIFIED:20240807T080250Z
UID:10007275-1765967400-1765972800@www.pfh.org.uk
SUMMARY:Hairdressers Service
DESCRIPTION:Christopher Pickering Lodge\nHessle High Road HU4 6RS. Opposite Pickering Park\nScheme manager Sharon 01482 313 562 Ian 01482 313 563
URL:https://www.pfh.org.uk/event/hairdressers-service/2025-12-17/
LOCATION:Christopher Pickering Lodge\, Christopher Pickering Lodge\, Hull\, HU4 6RS\, United Kingdom
CATEGORIES:Resident Events
ATTACH;FMTTYPE=image/jpeg:https://www.pfh.org.uk/wp-content/uploads/2024/02/blonde-woman-getting-her-hair-done.jpg
GEO:53.7296956;-0.3977067
X-APPLE-STRUCTURED-LOCATION;VALUE=URI;X-ADDRESS=Christopher Pickering Lodge Christopher Pickering Lodge Hull HU4 6RS United Kingdom;X-APPLE-RADIUS=500;X-TITLE=Christopher Pickering Lodge:geo:-0.3977067,53.7296956
END:VEVENT
BEGIN:VEVENT
DTSTART;TZID=Europe/London:20251223T083000
DTEND;TZID=Europe/London:20251223T140000
DTSTAMP:20260425T014042
CREATED:20240815T145319Z
LAST-MODIFIED:20240815T145319Z
UID:10014155-1766478600-1766498400@www.pfh.org.uk
SUMMARY:Hairdressers Service
DESCRIPTION:Contact scheme manager Tara – 01482 313 524
URL:https://www.pfh.org.uk/event/hairdressers-service-4/2025-12-23/
LOCATION:Humber View\, Camilla Cl\, Hull\, HU9 1UE\, United Kingdom
CATEGORIES:Resident Events
ATTACH;FMTTYPE=image/jpeg:https://www.pfh.org.uk/wp-content/uploads/2024/02/blonde-woman-getting-her-hair-done.jpg
GEO:53.7391243;-0.3273038
X-APPLE-STRUCTURED-LOCATION;VALUE=URI;X-ADDRESS=Humber View Camilla Cl Hull HU9 1UE United Kingdom;X-APPLE-RADIUS=500;X-TITLE=Camilla Cl:geo:-0.3273038,53.7391243
END:VEVENT
BEGIN:VEVENT
DTSTART;TZID=Europe/London:20251224T103000
DTEND;TZID=Europe/London:20251224T120000
DTSTAMP:20260425T014042
CREATED:20240221T145542Z
LAST-MODIFIED:20240807T080250Z
UID:10007276-1766572200-1766577600@www.pfh.org.uk
SUMMARY:Hairdressers Service
DESCRIPTION:Christopher Pickering Lodge\nHessle High Road HU4 6RS. Opposite Pickering Park\nScheme manager Sharon 01482 313 562 Ian 01482 313 563
URL:https://www.pfh.org.uk/event/hairdressers-service/2025-12-24/
LOCATION:Christopher Pickering Lodge\, Christopher Pickering Lodge\, Hull\, HU4 6RS\, United Kingdom
CATEGORIES:Resident Events
ATTACH;FMTTYPE=image/jpeg:https://www.pfh.org.uk/wp-content/uploads/2024/02/blonde-woman-getting-her-hair-done.jpg
GEO:53.7296956;-0.3977067
X-APPLE-STRUCTURED-LOCATION;VALUE=URI;X-ADDRESS=Christopher Pickering Lodge Christopher Pickering Lodge Hull HU4 6RS United Kingdom;X-APPLE-RADIUS=500;X-TITLE=Christopher Pickering Lodge:geo:-0.3977067,53.7296956
END:VEVENT
BEGIN:VEVENT
DTSTART;TZID=Europe/London:20251230T083000
DTEND;TZID=Europe/London:20251230T140000
DTSTAMP:20260425T014042
CREATED:20240815T145319Z
LAST-MODIFIED:20240815T145319Z
UID:10014156-1767083400-1767103200@www.pfh.org.uk
SUMMARY:Hairdressers Service
DESCRIPTION:Contact scheme manager Tara – 01482 313 524
URL:https://www.pfh.org.uk/event/hairdressers-service-4/2025-12-30/
LOCATION:Humber View\, Camilla Cl\, Hull\, HU9 1UE\, United Kingdom
CATEGORIES:Resident Events
ATTACH;FMTTYPE=image/jpeg:https://www.pfh.org.uk/wp-content/uploads/2024/02/blonde-woman-getting-her-hair-done.jpg
GEO:53.7391243;-0.3273038
X-APPLE-STRUCTURED-LOCATION;VALUE=URI;X-ADDRESS=Humber View Camilla Cl Hull HU9 1UE United Kingdom;X-APPLE-RADIUS=500;X-TITLE=Camilla Cl:geo:-0.3273038,53.7391243
END:VEVENT
BEGIN:VEVENT
DTSTART;TZID=Europe/London:20251231T103000
DTEND;TZID=Europe/London:20251231T120000
DTSTAMP:20260425T014042
CREATED:20240221T145542Z
LAST-MODIFIED:20240807T080250Z
UID:10007277-1767177000-1767182400@www.pfh.org.uk
SUMMARY:Hairdressers Service
DESCRIPTION:Christopher Pickering Lodge\nHessle High Road HU4 6RS. Opposite Pickering Park\nScheme manager Sharon 01482 313 562 Ian 01482 313 563
URL:https://www.pfh.org.uk/event/hairdressers-service/2025-12-31/
LOCATION:Christopher Pickering Lodge\, Christopher Pickering Lodge\, Hull\, HU4 6RS\, United Kingdom
CATEGORIES:Resident Events
ATTACH;FMTTYPE=image/jpeg:https://www.pfh.org.uk/wp-content/uploads/2024/02/blonde-woman-getting-her-hair-done.jpg
GEO:53.7296956;-0.3977067
X-APPLE-STRUCTURED-LOCATION;VALUE=URI;X-ADDRESS=Christopher Pickering Lodge Christopher Pickering Lodge Hull HU4 6RS United Kingdom;X-APPLE-RADIUS=500;X-TITLE=Christopher Pickering Lodge:geo:-0.3977067,53.7296956
END:VEVENT
END:VCALENDAR