BEGIN:VCALENDAR
VERSION:2.0
PRODID:-//PFH Pickering &amp; Ferens Homes - ECPv6.15.20//NONSGML v1.0//EN
CALSCALE:GREGORIAN
METHOD:PUBLISH
X-WR-CALNAME:PFH Pickering &amp; Ferens Homes
X-ORIGINAL-URL:https://www.pfh.org.uk
X-WR-CALDESC:Events for PFH Pickering &amp; Ferens Homes
REFRESH-INTERVAL;VALUE=DURATION:PT1H
X-Robots-Tag:noindex
X-PUBLISHED-TTL:PT1H
BEGIN:VTIMEZONE
TZID:Europe/London
BEGIN:DAYLIGHT
TZOFFSETFROM:+0000
TZOFFSETTO:+0100
TZNAME:BST
DTSTART:20250330T010000
END:DAYLIGHT
BEGIN:STANDARD
TZOFFSETFROM:+0100
TZOFFSETTO:+0000
TZNAME:GMT
DTSTART:20251026T010000
END:STANDARD
BEGIN:DAYLIGHT
TZOFFSETFROM:+0000
TZOFFSETTO:+0100
TZNAME:BST
DTSTART:20260329T010000
END:DAYLIGHT
BEGIN:STANDARD
TZOFFSETFROM:+0100
TZOFFSETTO:+0000
TZNAME:GMT
DTSTART:20261025T010000
END:STANDARD
BEGIN:DAYLIGHT
TZOFFSETFROM:+0000
TZOFFSETTO:+0100
TZNAME:BST
DTSTART:20270328T010000
END:DAYLIGHT
BEGIN:STANDARD
TZOFFSETFROM:+0100
TZOFFSETTO:+0000
TZNAME:GMT
DTSTART:20271031T010000
END:STANDARD
BEGIN:DAYLIGHT
TZOFFSETFROM:+0000
TZOFFSETTO:+0100
TZNAME:BST
DTSTART:20280326T010000
END:DAYLIGHT
BEGIN:STANDARD
TZOFFSETFROM:+0100
TZOFFSETTO:+0000
TZNAME:GMT
DTSTART:20281029T010000
END:STANDARD
END:VTIMEZONE
BEGIN:VEVENT
DTSTART;TZID=Europe/London:20260818T110000
DTEND;TZID=Europe/London:20260818T123000
DTSTAMP:20260420T060000
CREATED:20240221T102955Z
LAST-MODIFIED:20240402T145131Z
UID:10001734-1787050800-1787056200@www.pfh.org.uk
SUMMARY:Singing for the Brain
DESCRIPTION:Contact Julie for places before attending
URL:https://www.pfh.org.uk/event/singing-for-the-brain/2026-08-18/
LOCATION:Florence Nightingale Court\, Florence Nightingale Ct\, Hull\, HU5 4BW\, United Kingdom
CATEGORIES:Resident Events
ATTACH;FMTTYPE=image/png:https://www.pfh.org.uk/wp-content/uploads/2024/02/Alzheimers_Society_logo.png
ORGANIZER;CN="Alzheimer's Society":MAILTO:hulleastriding@alzheimers.org.uk
GEO:53.7691182;-0.3807095
X-APPLE-STRUCTURED-LOCATION;VALUE=URI;X-ADDRESS=Florence Nightingale Court Florence Nightingale Ct Hull HU5 4BW United Kingdom;X-APPLE-RADIUS=500;X-TITLE=Florence Nightingale Ct:geo:-0.3807095,53.7691182
END:VEVENT
BEGIN:VEVENT
DTSTART;TZID=Europe/London:20260826T110000
DTEND;TZID=Europe/London:20260826T123000
DTSTAMP:20260420T060000
CREATED:20240221T104414Z
LAST-MODIFIED:20240815T130817Z
UID:10001828-1787742000-1787747400@www.pfh.org.uk
SUMMARY:Carers Support Group
DESCRIPTION:For carers supporting people living with Dementia – contact Julie on 07943 802 509 for places before attending.
URL:https://www.pfh.org.uk/event/carers-support-group/2026-08-26/
LOCATION:Florence Nightingale Court\, Florence Nightingale Ct\, Hull\, HU5 4BW\, United Kingdom
CATEGORIES:Resident Events
ATTACH;FMTTYPE=image/jpeg:https://www.pfh.org.uk/wp-content/uploads/2024/02/carer-support.jpg
ORGANIZER;CN="Alzheimer's Society":MAILTO:hulleastriding@alzheimers.org.uk
GEO:53.7691182;-0.3807095
X-APPLE-STRUCTURED-LOCATION;VALUE=URI;X-ADDRESS=Florence Nightingale Court Florence Nightingale Ct Hull HU5 4BW United Kingdom;X-APPLE-RADIUS=500;X-TITLE=Florence Nightingale Ct:geo:-0.3807095,53.7691182
END:VEVENT
BEGIN:VEVENT
DTSTART;TZID=Europe/London:20260901T110000
DTEND;TZID=Europe/London:20260901T123000
DTSTAMP:20260420T060000
CREATED:20240221T102955Z
LAST-MODIFIED:20240402T145131Z
UID:10001735-1788260400-1788265800@www.pfh.org.uk
SUMMARY:Singing for the Brain
DESCRIPTION:Contact Julie for places before attending
URL:https://www.pfh.org.uk/event/singing-for-the-brain/2026-09-01/
LOCATION:Florence Nightingale Court\, Florence Nightingale Ct\, Hull\, HU5 4BW\, United Kingdom
CATEGORIES:Resident Events
ATTACH;FMTTYPE=image/png:https://www.pfh.org.uk/wp-content/uploads/2024/02/Alzheimers_Society_logo.png
ORGANIZER;CN="Alzheimer's Society":MAILTO:hulleastriding@alzheimers.org.uk
GEO:53.7691182;-0.3807095
X-APPLE-STRUCTURED-LOCATION;VALUE=URI;X-ADDRESS=Florence Nightingale Court Florence Nightingale Ct Hull HU5 4BW United Kingdom;X-APPLE-RADIUS=500;X-TITLE=Florence Nightingale Ct:geo:-0.3807095,53.7691182
END:VEVENT
BEGIN:VEVENT
DTSTART;TZID=Europe/London:20260915T110000
DTEND;TZID=Europe/London:20260915T123000
DTSTAMP:20260420T060000
CREATED:20240221T102955Z
LAST-MODIFIED:20240402T145131Z
UID:10001736-1789470000-1789475400@www.pfh.org.uk
SUMMARY:Singing for the Brain
DESCRIPTION:Contact Julie for places before attending
URL:https://www.pfh.org.uk/event/singing-for-the-brain/2026-09-15/
LOCATION:Florence Nightingale Court\, Florence Nightingale Ct\, Hull\, HU5 4BW\, United Kingdom
CATEGORIES:Resident Events
ATTACH;FMTTYPE=image/png:https://www.pfh.org.uk/wp-content/uploads/2024/02/Alzheimers_Society_logo.png
ORGANIZER;CN="Alzheimer's Society":MAILTO:hulleastriding@alzheimers.org.uk
GEO:53.7691182;-0.3807095
X-APPLE-STRUCTURED-LOCATION;VALUE=URI;X-ADDRESS=Florence Nightingale Court Florence Nightingale Ct Hull HU5 4BW United Kingdom;X-APPLE-RADIUS=500;X-TITLE=Florence Nightingale Ct:geo:-0.3807095,53.7691182
END:VEVENT
BEGIN:VEVENT
DTSTART;TZID=Europe/London:20260929T110000
DTEND;TZID=Europe/London:20260929T123000
DTSTAMP:20260420T060000
CREATED:20240221T102955Z
LAST-MODIFIED:20240402T145131Z
UID:10001737-1790679600-1790685000@www.pfh.org.uk
SUMMARY:Singing for the Brain
DESCRIPTION:Contact Julie for places before attending
URL:https://www.pfh.org.uk/event/singing-for-the-brain/2026-09-29/
LOCATION:Florence Nightingale Court\, Florence Nightingale Ct\, Hull\, HU5 4BW\, United Kingdom
CATEGORIES:Resident Events
ATTACH;FMTTYPE=image/png:https://www.pfh.org.uk/wp-content/uploads/2024/02/Alzheimers_Society_logo.png
ORGANIZER;CN="Alzheimer's Society":MAILTO:hulleastriding@alzheimers.org.uk
GEO:53.7691182;-0.3807095
X-APPLE-STRUCTURED-LOCATION;VALUE=URI;X-ADDRESS=Florence Nightingale Court Florence Nightingale Ct Hull HU5 4BW United Kingdom;X-APPLE-RADIUS=500;X-TITLE=Florence Nightingale Ct:geo:-0.3807095,53.7691182
END:VEVENT
BEGIN:VEVENT
DTSTART;TZID=Europe/London:20260930T110000
DTEND;TZID=Europe/London:20260930T123000
DTSTAMP:20260420T060000
CREATED:20240221T104414Z
LAST-MODIFIED:20240815T130817Z
UID:10001829-1790766000-1790771400@www.pfh.org.uk
SUMMARY:Carers Support Group
DESCRIPTION:For carers supporting people living with Dementia – contact Julie on 07943 802 509 for places before attending.
URL:https://www.pfh.org.uk/event/carers-support-group/2026-09-30/
LOCATION:Florence Nightingale Court\, Florence Nightingale Ct\, Hull\, HU5 4BW\, United Kingdom
CATEGORIES:Resident Events
ATTACH;FMTTYPE=image/jpeg:https://www.pfh.org.uk/wp-content/uploads/2024/02/carer-support.jpg
ORGANIZER;CN="Alzheimer's Society":MAILTO:hulleastriding@alzheimers.org.uk
GEO:53.7691182;-0.3807095
X-APPLE-STRUCTURED-LOCATION;VALUE=URI;X-ADDRESS=Florence Nightingale Court Florence Nightingale Ct Hull HU5 4BW United Kingdom;X-APPLE-RADIUS=500;X-TITLE=Florence Nightingale Ct:geo:-0.3807095,53.7691182
END:VEVENT
BEGIN:VEVENT
DTSTART;TZID=Europe/London:20261013T110000
DTEND;TZID=Europe/London:20261013T123000
DTSTAMP:20260420T060000
CREATED:20240221T102955Z
LAST-MODIFIED:20240402T145131Z
UID:10001738-1791889200-1791894600@www.pfh.org.uk
SUMMARY:Singing for the Brain
DESCRIPTION:Contact Julie for places before attending
URL:https://www.pfh.org.uk/event/singing-for-the-brain/2026-10-13/
LOCATION:Florence Nightingale Court\, Florence Nightingale Ct\, Hull\, HU5 4BW\, United Kingdom
CATEGORIES:Resident Events
ATTACH;FMTTYPE=image/png:https://www.pfh.org.uk/wp-content/uploads/2024/02/Alzheimers_Society_logo.png
ORGANIZER;CN="Alzheimer's Society":MAILTO:hulleastriding@alzheimers.org.uk
GEO:53.7691182;-0.3807095
X-APPLE-STRUCTURED-LOCATION;VALUE=URI;X-ADDRESS=Florence Nightingale Court Florence Nightingale Ct Hull HU5 4BW United Kingdom;X-APPLE-RADIUS=500;X-TITLE=Florence Nightingale Ct:geo:-0.3807095,53.7691182
END:VEVENT
BEGIN:VEVENT
DTSTART;TZID=Europe/London:20261027T110000
DTEND;TZID=Europe/London:20261027T123000
DTSTAMP:20260420T060000
CREATED:20240221T102955Z
LAST-MODIFIED:20240402T145131Z
UID:10001739-1793098800-1793104200@www.pfh.org.uk
SUMMARY:Singing for the Brain
DESCRIPTION:Contact Julie for places before attending
URL:https://www.pfh.org.uk/event/singing-for-the-brain/2026-10-27/
LOCATION:Florence Nightingale Court\, Florence Nightingale Ct\, Hull\, HU5 4BW\, United Kingdom
CATEGORIES:Resident Events
ATTACH;FMTTYPE=image/png:https://www.pfh.org.uk/wp-content/uploads/2024/02/Alzheimers_Society_logo.png
ORGANIZER;CN="Alzheimer's Society":MAILTO:hulleastriding@alzheimers.org.uk
GEO:53.7691182;-0.3807095
X-APPLE-STRUCTURED-LOCATION;VALUE=URI;X-ADDRESS=Florence Nightingale Court Florence Nightingale Ct Hull HU5 4BW United Kingdom;X-APPLE-RADIUS=500;X-TITLE=Florence Nightingale Ct:geo:-0.3807095,53.7691182
END:VEVENT
BEGIN:VEVENT
DTSTART;TZID=Europe/London:20261028T110000
DTEND;TZID=Europe/London:20261028T123000
DTSTAMP:20260420T060000
CREATED:20240221T104414Z
LAST-MODIFIED:20240815T130817Z
UID:10001830-1793185200-1793190600@www.pfh.org.uk
SUMMARY:Carers Support Group
DESCRIPTION:For carers supporting people living with Dementia – contact Julie on 07943 802 509 for places before attending.
URL:https://www.pfh.org.uk/event/carers-support-group/2026-10-28/
LOCATION:Florence Nightingale Court\, Florence Nightingale Ct\, Hull\, HU5 4BW\, United Kingdom
CATEGORIES:Resident Events
ATTACH;FMTTYPE=image/jpeg:https://www.pfh.org.uk/wp-content/uploads/2024/02/carer-support.jpg
ORGANIZER;CN="Alzheimer's Society":MAILTO:hulleastriding@alzheimers.org.uk
GEO:53.7691182;-0.3807095
X-APPLE-STRUCTURED-LOCATION;VALUE=URI;X-ADDRESS=Florence Nightingale Court Florence Nightingale Ct Hull HU5 4BW United Kingdom;X-APPLE-RADIUS=500;X-TITLE=Florence Nightingale Ct:geo:-0.3807095,53.7691182
END:VEVENT
BEGIN:VEVENT
DTSTART;TZID=Europe/London:20261110T110000
DTEND;TZID=Europe/London:20261110T123000
DTSTAMP:20260420T060000
CREATED:20240221T102955Z
LAST-MODIFIED:20240402T145131Z
UID:10001740-1794308400-1794313800@www.pfh.org.uk
SUMMARY:Singing for the Brain
DESCRIPTION:Contact Julie for places before attending
URL:https://www.pfh.org.uk/event/singing-for-the-brain/2026-11-10/
LOCATION:Florence Nightingale Court\, Florence Nightingale Ct\, Hull\, HU5 4BW\, United Kingdom
CATEGORIES:Resident Events
ATTACH;FMTTYPE=image/png:https://www.pfh.org.uk/wp-content/uploads/2024/02/Alzheimers_Society_logo.png
ORGANIZER;CN="Alzheimer's Society":MAILTO:hulleastriding@alzheimers.org.uk
GEO:53.7691182;-0.3807095
X-APPLE-STRUCTURED-LOCATION;VALUE=URI;X-ADDRESS=Florence Nightingale Court Florence Nightingale Ct Hull HU5 4BW United Kingdom;X-APPLE-RADIUS=500;X-TITLE=Florence Nightingale Ct:geo:-0.3807095,53.7691182
END:VEVENT
BEGIN:VEVENT
DTSTART;TZID=Europe/London:20261124T110000
DTEND;TZID=Europe/London:20261124T123000
DTSTAMP:20260420T060000
CREATED:20240221T102955Z
LAST-MODIFIED:20240402T145131Z
UID:10001741-1795518000-1795523400@www.pfh.org.uk
SUMMARY:Singing for the Brain
DESCRIPTION:Contact Julie for places before attending
URL:https://www.pfh.org.uk/event/singing-for-the-brain/2026-11-24/
LOCATION:Florence Nightingale Court\, Florence Nightingale Ct\, Hull\, HU5 4BW\, United Kingdom
CATEGORIES:Resident Events
ATTACH;FMTTYPE=image/png:https://www.pfh.org.uk/wp-content/uploads/2024/02/Alzheimers_Society_logo.png
ORGANIZER;CN="Alzheimer's Society":MAILTO:hulleastriding@alzheimers.org.uk
GEO:53.7691182;-0.3807095
X-APPLE-STRUCTURED-LOCATION;VALUE=URI;X-ADDRESS=Florence Nightingale Court Florence Nightingale Ct Hull HU5 4BW United Kingdom;X-APPLE-RADIUS=500;X-TITLE=Florence Nightingale Ct:geo:-0.3807095,53.7691182
END:VEVENT
BEGIN:VEVENT
DTSTART;TZID=Europe/London:20261125T110000
DTEND;TZID=Europe/London:20261125T123000
DTSTAMP:20260420T060000
CREATED:20240221T104414Z
LAST-MODIFIED:20240815T130817Z
UID:10001831-1795604400-1795609800@www.pfh.org.uk
SUMMARY:Carers Support Group
DESCRIPTION:For carers supporting people living with Dementia – contact Julie on 07943 802 509 for places before attending.
URL:https://www.pfh.org.uk/event/carers-support-group/2026-11-25/
LOCATION:Florence Nightingale Court\, Florence Nightingale Ct\, Hull\, HU5 4BW\, United Kingdom
CATEGORIES:Resident Events
ATTACH;FMTTYPE=image/jpeg:https://www.pfh.org.uk/wp-content/uploads/2024/02/carer-support.jpg
ORGANIZER;CN="Alzheimer's Society":MAILTO:hulleastriding@alzheimers.org.uk
GEO:53.7691182;-0.3807095
X-APPLE-STRUCTURED-LOCATION;VALUE=URI;X-ADDRESS=Florence Nightingale Court Florence Nightingale Ct Hull HU5 4BW United Kingdom;X-APPLE-RADIUS=500;X-TITLE=Florence Nightingale Ct:geo:-0.3807095,53.7691182
END:VEVENT
BEGIN:VEVENT
DTSTART;TZID=Europe/London:20261208T110000
DTEND;TZID=Europe/London:20261208T123000
DTSTAMP:20260420T060000
CREATED:20240221T102955Z
LAST-MODIFIED:20240402T145131Z
UID:10001742-1796727600-1796733000@www.pfh.org.uk
SUMMARY:Singing for the Brain
DESCRIPTION:Contact Julie for places before attending
URL:https://www.pfh.org.uk/event/singing-for-the-brain/2026-12-08/
LOCATION:Florence Nightingale Court\, Florence Nightingale Ct\, Hull\, HU5 4BW\, United Kingdom
CATEGORIES:Resident Events
ATTACH;FMTTYPE=image/png:https://www.pfh.org.uk/wp-content/uploads/2024/02/Alzheimers_Society_logo.png
ORGANIZER;CN="Alzheimer's Society":MAILTO:hulleastriding@alzheimers.org.uk
GEO:53.7691182;-0.3807095
X-APPLE-STRUCTURED-LOCATION;VALUE=URI;X-ADDRESS=Florence Nightingale Court Florence Nightingale Ct Hull HU5 4BW United Kingdom;X-APPLE-RADIUS=500;X-TITLE=Florence Nightingale Ct:geo:-0.3807095,53.7691182
END:VEVENT
BEGIN:VEVENT
DTSTART;TZID=Europe/London:20261222T110000
DTEND;TZID=Europe/London:20261222T123000
DTSTAMP:20260420T060000
CREATED:20240221T102955Z
LAST-MODIFIED:20240402T145131Z
UID:10001743-1797937200-1797942600@www.pfh.org.uk
SUMMARY:Singing for the Brain
DESCRIPTION:Contact Julie for places before attending
URL:https://www.pfh.org.uk/event/singing-for-the-brain/2026-12-22/
LOCATION:Florence Nightingale Court\, Florence Nightingale Ct\, Hull\, HU5 4BW\, United Kingdom
CATEGORIES:Resident Events
ATTACH;FMTTYPE=image/png:https://www.pfh.org.uk/wp-content/uploads/2024/02/Alzheimers_Society_logo.png
ORGANIZER;CN="Alzheimer's Society":MAILTO:hulleastriding@alzheimers.org.uk
GEO:53.7691182;-0.3807095
X-APPLE-STRUCTURED-LOCATION;VALUE=URI;X-ADDRESS=Florence Nightingale Court Florence Nightingale Ct Hull HU5 4BW United Kingdom;X-APPLE-RADIUS=500;X-TITLE=Florence Nightingale Ct:geo:-0.3807095,53.7691182
END:VEVENT
BEGIN:VEVENT
DTSTART;TZID=Europe/London:20261230T110000
DTEND;TZID=Europe/London:20261230T123000
DTSTAMP:20260420T060000
CREATED:20240221T104414Z
LAST-MODIFIED:20240815T130817Z
UID:10001832-1798628400-1798633800@www.pfh.org.uk
SUMMARY:Carers Support Group
DESCRIPTION:For carers supporting people living with Dementia – contact Julie on 07943 802 509 for places before attending.
URL:https://www.pfh.org.uk/event/carers-support-group/2026-12-30/
LOCATION:Florence Nightingale Court\, Florence Nightingale Ct\, Hull\, HU5 4BW\, United Kingdom
CATEGORIES:Resident Events
ATTACH;FMTTYPE=image/jpeg:https://www.pfh.org.uk/wp-content/uploads/2024/02/carer-support.jpg
ORGANIZER;CN="Alzheimer's Society":MAILTO:hulleastriding@alzheimers.org.uk
GEO:53.7691182;-0.3807095
X-APPLE-STRUCTURED-LOCATION;VALUE=URI;X-ADDRESS=Florence Nightingale Court Florence Nightingale Ct Hull HU5 4BW United Kingdom;X-APPLE-RADIUS=500;X-TITLE=Florence Nightingale Ct:geo:-0.3807095,53.7691182
END:VEVENT
BEGIN:VEVENT
DTSTART;TZID=Europe/London:20270105T110000
DTEND;TZID=Europe/London:20270105T123000
DTSTAMP:20260420T060000
CREATED:20240221T102955Z
LAST-MODIFIED:20240402T145131Z
UID:10001744-1799146800-1799152200@www.pfh.org.uk
SUMMARY:Singing for the Brain
DESCRIPTION:Contact Julie for places before attending
URL:https://www.pfh.org.uk/event/singing-for-the-brain/2027-01-05/
LOCATION:Florence Nightingale Court\, Florence Nightingale Ct\, Hull\, HU5 4BW\, United Kingdom
CATEGORIES:Resident Events
ATTACH;FMTTYPE=image/png:https://www.pfh.org.uk/wp-content/uploads/2024/02/Alzheimers_Society_logo.png
ORGANIZER;CN="Alzheimer's Society":MAILTO:hulleastriding@alzheimers.org.uk
GEO:53.7691182;-0.3807095
X-APPLE-STRUCTURED-LOCATION;VALUE=URI;X-ADDRESS=Florence Nightingale Court Florence Nightingale Ct Hull HU5 4BW United Kingdom;X-APPLE-RADIUS=500;X-TITLE=Florence Nightingale Ct:geo:-0.3807095,53.7691182
END:VEVENT
BEGIN:VEVENT
DTSTART;TZID=Europe/London:20270119T110000
DTEND;TZID=Europe/London:20270119T123000
DTSTAMP:20260420T060000
CREATED:20240221T102955Z
LAST-MODIFIED:20240402T145131Z
UID:10001745-1800356400-1800361800@www.pfh.org.uk
SUMMARY:Singing for the Brain
DESCRIPTION:Contact Julie for places before attending
URL:https://www.pfh.org.uk/event/singing-for-the-brain/2027-01-19/
LOCATION:Florence Nightingale Court\, Florence Nightingale Ct\, Hull\, HU5 4BW\, United Kingdom
CATEGORIES:Resident Events
ATTACH;FMTTYPE=image/png:https://www.pfh.org.uk/wp-content/uploads/2024/02/Alzheimers_Society_logo.png
ORGANIZER;CN="Alzheimer's Society":MAILTO:hulleastriding@alzheimers.org.uk
GEO:53.7691182;-0.3807095
X-APPLE-STRUCTURED-LOCATION;VALUE=URI;X-ADDRESS=Florence Nightingale Court Florence Nightingale Ct Hull HU5 4BW United Kingdom;X-APPLE-RADIUS=500;X-TITLE=Florence Nightingale Ct:geo:-0.3807095,53.7691182
END:VEVENT
BEGIN:VEVENT
DTSTART;TZID=Europe/London:20270127T110000
DTEND;TZID=Europe/London:20270127T123000
DTSTAMP:20260420T060000
CREATED:20240221T104414Z
LAST-MODIFIED:20240815T130817Z
UID:10001833-1801047600-1801053000@www.pfh.org.uk
SUMMARY:Carers Support Group
DESCRIPTION:For carers supporting people living with Dementia – contact Julie on 07943 802 509 for places before attending.
URL:https://www.pfh.org.uk/event/carers-support-group/2027-01-27/
LOCATION:Florence Nightingale Court\, Florence Nightingale Ct\, Hull\, HU5 4BW\, United Kingdom
CATEGORIES:Resident Events
ATTACH;FMTTYPE=image/jpeg:https://www.pfh.org.uk/wp-content/uploads/2024/02/carer-support.jpg
ORGANIZER;CN="Alzheimer's Society":MAILTO:hulleastriding@alzheimers.org.uk
GEO:53.7691182;-0.3807095
X-APPLE-STRUCTURED-LOCATION;VALUE=URI;X-ADDRESS=Florence Nightingale Court Florence Nightingale Ct Hull HU5 4BW United Kingdom;X-APPLE-RADIUS=500;X-TITLE=Florence Nightingale Ct:geo:-0.3807095,53.7691182
END:VEVENT
BEGIN:VEVENT
DTSTART;TZID=Europe/London:20270202T110000
DTEND;TZID=Europe/London:20270202T123000
DTSTAMP:20260420T060000
CREATED:20240221T102955Z
LAST-MODIFIED:20240402T145131Z
UID:10001746-1801566000-1801571400@www.pfh.org.uk
SUMMARY:Singing for the Brain
DESCRIPTION:Contact Julie for places before attending
URL:https://www.pfh.org.uk/event/singing-for-the-brain/2027-02-02/
LOCATION:Florence Nightingale Court\, Florence Nightingale Ct\, Hull\, HU5 4BW\, United Kingdom
CATEGORIES:Resident Events
ATTACH;FMTTYPE=image/png:https://www.pfh.org.uk/wp-content/uploads/2024/02/Alzheimers_Society_logo.png
ORGANIZER;CN="Alzheimer's Society":MAILTO:hulleastriding@alzheimers.org.uk
GEO:53.7691182;-0.3807095
X-APPLE-STRUCTURED-LOCATION;VALUE=URI;X-ADDRESS=Florence Nightingale Court Florence Nightingale Ct Hull HU5 4BW United Kingdom;X-APPLE-RADIUS=500;X-TITLE=Florence Nightingale Ct:geo:-0.3807095,53.7691182
END:VEVENT
BEGIN:VEVENT
DTSTART;TZID=Europe/London:20270216T110000
DTEND;TZID=Europe/London:20270216T123000
DTSTAMP:20260420T060000
CREATED:20240221T102955Z
LAST-MODIFIED:20240402T145131Z
UID:10001747-1802775600-1802781000@www.pfh.org.uk
SUMMARY:Singing for the Brain
DESCRIPTION:Contact Julie for places before attending
URL:https://www.pfh.org.uk/event/singing-for-the-brain/2027-02-16/
LOCATION:Florence Nightingale Court\, Florence Nightingale Ct\, Hull\, HU5 4BW\, United Kingdom
CATEGORIES:Resident Events
ATTACH;FMTTYPE=image/png:https://www.pfh.org.uk/wp-content/uploads/2024/02/Alzheimers_Society_logo.png
ORGANIZER;CN="Alzheimer's Society":MAILTO:hulleastriding@alzheimers.org.uk
GEO:53.7691182;-0.3807095
X-APPLE-STRUCTURED-LOCATION;VALUE=URI;X-ADDRESS=Florence Nightingale Court Florence Nightingale Ct Hull HU5 4BW United Kingdom;X-APPLE-RADIUS=500;X-TITLE=Florence Nightingale Ct:geo:-0.3807095,53.7691182
END:VEVENT
BEGIN:VEVENT
DTSTART;TZID=Europe/London:20270224T110000
DTEND;TZID=Europe/London:20270224T123000
DTSTAMP:20260420T060000
CREATED:20240221T104414Z
LAST-MODIFIED:20240815T130817Z
UID:10001834-1803466800-1803472200@www.pfh.org.uk
SUMMARY:Carers Support Group
DESCRIPTION:For carers supporting people living with Dementia – contact Julie on 07943 802 509 for places before attending.
URL:https://www.pfh.org.uk/event/carers-support-group/2027-02-24/
LOCATION:Florence Nightingale Court\, Florence Nightingale Ct\, Hull\, HU5 4BW\, United Kingdom
CATEGORIES:Resident Events
ATTACH;FMTTYPE=image/jpeg:https://www.pfh.org.uk/wp-content/uploads/2024/02/carer-support.jpg
ORGANIZER;CN="Alzheimer's Society":MAILTO:hulleastriding@alzheimers.org.uk
GEO:53.7691182;-0.3807095
X-APPLE-STRUCTURED-LOCATION;VALUE=URI;X-ADDRESS=Florence Nightingale Court Florence Nightingale Ct Hull HU5 4BW United Kingdom;X-APPLE-RADIUS=500;X-TITLE=Florence Nightingale Ct:geo:-0.3807095,53.7691182
END:VEVENT
BEGIN:VEVENT
DTSTART;TZID=Europe/London:20270302T110000
DTEND;TZID=Europe/London:20270302T123000
DTSTAMP:20260420T060000
CREATED:20240221T102955Z
LAST-MODIFIED:20240402T145131Z
UID:10001748-1803985200-1803990600@www.pfh.org.uk
SUMMARY:Singing for the Brain
DESCRIPTION:Contact Julie for places before attending
URL:https://www.pfh.org.uk/event/singing-for-the-brain/2027-03-02/
LOCATION:Florence Nightingale Court\, Florence Nightingale Ct\, Hull\, HU5 4BW\, United Kingdom
CATEGORIES:Resident Events
ATTACH;FMTTYPE=image/png:https://www.pfh.org.uk/wp-content/uploads/2024/02/Alzheimers_Society_logo.png
ORGANIZER;CN="Alzheimer's Society":MAILTO:hulleastriding@alzheimers.org.uk
GEO:53.7691182;-0.3807095
X-APPLE-STRUCTURED-LOCATION;VALUE=URI;X-ADDRESS=Florence Nightingale Court Florence Nightingale Ct Hull HU5 4BW United Kingdom;X-APPLE-RADIUS=500;X-TITLE=Florence Nightingale Ct:geo:-0.3807095,53.7691182
END:VEVENT
BEGIN:VEVENT
DTSTART;TZID=Europe/London:20270316T110000
DTEND;TZID=Europe/London:20270316T123000
DTSTAMP:20260420T060000
CREATED:20240221T102955Z
LAST-MODIFIED:20240402T145131Z
UID:10001749-1805194800-1805200200@www.pfh.org.uk
SUMMARY:Singing for the Brain
DESCRIPTION:Contact Julie for places before attending
URL:https://www.pfh.org.uk/event/singing-for-the-brain/2027-03-16/
LOCATION:Florence Nightingale Court\, Florence Nightingale Ct\, Hull\, HU5 4BW\, United Kingdom
CATEGORIES:Resident Events
ATTACH;FMTTYPE=image/png:https://www.pfh.org.uk/wp-content/uploads/2024/02/Alzheimers_Society_logo.png
ORGANIZER;CN="Alzheimer's Society":MAILTO:hulleastriding@alzheimers.org.uk
GEO:53.7691182;-0.3807095
X-APPLE-STRUCTURED-LOCATION;VALUE=URI;X-ADDRESS=Florence Nightingale Court Florence Nightingale Ct Hull HU5 4BW United Kingdom;X-APPLE-RADIUS=500;X-TITLE=Florence Nightingale Ct:geo:-0.3807095,53.7691182
END:VEVENT
BEGIN:VEVENT
DTSTART;TZID=Europe/London:20270330T110000
DTEND;TZID=Europe/London:20270330T123000
DTSTAMP:20260420T060000
CREATED:20240221T102955Z
LAST-MODIFIED:20240402T145131Z
UID:10001750-1806404400-1806409800@www.pfh.org.uk
SUMMARY:Singing for the Brain
DESCRIPTION:Contact Julie for places before attending
URL:https://www.pfh.org.uk/event/singing-for-the-brain/2027-03-30/
LOCATION:Florence Nightingale Court\, Florence Nightingale Ct\, Hull\, HU5 4BW\, United Kingdom
CATEGORIES:Resident Events
ATTACH;FMTTYPE=image/png:https://www.pfh.org.uk/wp-content/uploads/2024/02/Alzheimers_Society_logo.png
ORGANIZER;CN="Alzheimer's Society":MAILTO:hulleastriding@alzheimers.org.uk
GEO:53.7691182;-0.3807095
X-APPLE-STRUCTURED-LOCATION;VALUE=URI;X-ADDRESS=Florence Nightingale Court Florence Nightingale Ct Hull HU5 4BW United Kingdom;X-APPLE-RADIUS=500;X-TITLE=Florence Nightingale Ct:geo:-0.3807095,53.7691182
END:VEVENT
BEGIN:VEVENT
DTSTART;TZID=Europe/London:20270331T110000
DTEND;TZID=Europe/London:20270331T123000
DTSTAMP:20260420T060000
CREATED:20240221T104414Z
LAST-MODIFIED:20240815T130817Z
UID:10001835-1806490800-1806496200@www.pfh.org.uk
SUMMARY:Carers Support Group
DESCRIPTION:For carers supporting people living with Dementia – contact Julie on 07943 802 509 for places before attending.
URL:https://www.pfh.org.uk/event/carers-support-group/2027-03-31/
LOCATION:Florence Nightingale Court\, Florence Nightingale Ct\, Hull\, HU5 4BW\, United Kingdom
CATEGORIES:Resident Events
ATTACH;FMTTYPE=image/jpeg:https://www.pfh.org.uk/wp-content/uploads/2024/02/carer-support.jpg
ORGANIZER;CN="Alzheimer's Society":MAILTO:hulleastriding@alzheimers.org.uk
GEO:53.7691182;-0.3807095
X-APPLE-STRUCTURED-LOCATION;VALUE=URI;X-ADDRESS=Florence Nightingale Court Florence Nightingale Ct Hull HU5 4BW United Kingdom;X-APPLE-RADIUS=500;X-TITLE=Florence Nightingale Ct:geo:-0.3807095,53.7691182
END:VEVENT
BEGIN:VEVENT
DTSTART;TZID=Europe/London:20270413T110000
DTEND;TZID=Europe/London:20270413T123000
DTSTAMP:20260420T060000
CREATED:20240221T102955Z
LAST-MODIFIED:20240402T145131Z
UID:10001751-1807614000-1807619400@www.pfh.org.uk
SUMMARY:Singing for the Brain
DESCRIPTION:Contact Julie for places before attending
URL:https://www.pfh.org.uk/event/singing-for-the-brain/2027-04-13/
LOCATION:Florence Nightingale Court\, Florence Nightingale Ct\, Hull\, HU5 4BW\, United Kingdom
CATEGORIES:Resident Events
ATTACH;FMTTYPE=image/png:https://www.pfh.org.uk/wp-content/uploads/2024/02/Alzheimers_Society_logo.png
ORGANIZER;CN="Alzheimer's Society":MAILTO:hulleastriding@alzheimers.org.uk
GEO:53.7691182;-0.3807095
X-APPLE-STRUCTURED-LOCATION;VALUE=URI;X-ADDRESS=Florence Nightingale Court Florence Nightingale Ct Hull HU5 4BW United Kingdom;X-APPLE-RADIUS=500;X-TITLE=Florence Nightingale Ct:geo:-0.3807095,53.7691182
END:VEVENT
BEGIN:VEVENT
DTSTART;TZID=Europe/London:20270427T110000
DTEND;TZID=Europe/London:20270427T123000
DTSTAMP:20260420T060000
CREATED:20240221T102955Z
LAST-MODIFIED:20240402T145131Z
UID:10001752-1808823600-1808829000@www.pfh.org.uk
SUMMARY:Singing for the Brain
DESCRIPTION:Contact Julie for places before attending
URL:https://www.pfh.org.uk/event/singing-for-the-brain/2027-04-27/
LOCATION:Florence Nightingale Court\, Florence Nightingale Ct\, Hull\, HU5 4BW\, United Kingdom
CATEGORIES:Resident Events
ATTACH;FMTTYPE=image/png:https://www.pfh.org.uk/wp-content/uploads/2024/02/Alzheimers_Society_logo.png
ORGANIZER;CN="Alzheimer's Society":MAILTO:hulleastriding@alzheimers.org.uk
GEO:53.7691182;-0.3807095
X-APPLE-STRUCTURED-LOCATION;VALUE=URI;X-ADDRESS=Florence Nightingale Court Florence Nightingale Ct Hull HU5 4BW United Kingdom;X-APPLE-RADIUS=500;X-TITLE=Florence Nightingale Ct:geo:-0.3807095,53.7691182
END:VEVENT
BEGIN:VEVENT
DTSTART;TZID=Europe/London:20270428T110000
DTEND;TZID=Europe/London:20270428T123000
DTSTAMP:20260420T060000
CREATED:20240221T104414Z
LAST-MODIFIED:20240815T130817Z
UID:10001836-1808910000-1808915400@www.pfh.org.uk
SUMMARY:Carers Support Group
DESCRIPTION:For carers supporting people living with Dementia – contact Julie on 07943 802 509 for places before attending.
URL:https://www.pfh.org.uk/event/carers-support-group/2027-04-28/
LOCATION:Florence Nightingale Court\, Florence Nightingale Ct\, Hull\, HU5 4BW\, United Kingdom
CATEGORIES:Resident Events
ATTACH;FMTTYPE=image/jpeg:https://www.pfh.org.uk/wp-content/uploads/2024/02/carer-support.jpg
ORGANIZER;CN="Alzheimer's Society":MAILTO:hulleastriding@alzheimers.org.uk
GEO:53.7691182;-0.3807095
X-APPLE-STRUCTURED-LOCATION;VALUE=URI;X-ADDRESS=Florence Nightingale Court Florence Nightingale Ct Hull HU5 4BW United Kingdom;X-APPLE-RADIUS=500;X-TITLE=Florence Nightingale Ct:geo:-0.3807095,53.7691182
END:VEVENT
BEGIN:VEVENT
DTSTART;TZID=Europe/London:20270511T110000
DTEND;TZID=Europe/London:20270511T123000
DTSTAMP:20260420T060000
CREATED:20240221T102955Z
LAST-MODIFIED:20240402T145131Z
UID:10001753-1810033200-1810038600@www.pfh.org.uk
SUMMARY:Singing for the Brain
DESCRIPTION:Contact Julie for places before attending
URL:https://www.pfh.org.uk/event/singing-for-the-brain/2027-05-11/
LOCATION:Florence Nightingale Court\, Florence Nightingale Ct\, Hull\, HU5 4BW\, United Kingdom
CATEGORIES:Resident Events
ATTACH;FMTTYPE=image/png:https://www.pfh.org.uk/wp-content/uploads/2024/02/Alzheimers_Society_logo.png
ORGANIZER;CN="Alzheimer's Society":MAILTO:hulleastriding@alzheimers.org.uk
GEO:53.7691182;-0.3807095
X-APPLE-STRUCTURED-LOCATION;VALUE=URI;X-ADDRESS=Florence Nightingale Court Florence Nightingale Ct Hull HU5 4BW United Kingdom;X-APPLE-RADIUS=500;X-TITLE=Florence Nightingale Ct:geo:-0.3807095,53.7691182
END:VEVENT
BEGIN:VEVENT
DTSTART;TZID=Europe/London:20270525T110000
DTEND;TZID=Europe/London:20270525T123000
DTSTAMP:20260420T060000
CREATED:20240221T102955Z
LAST-MODIFIED:20240402T145131Z
UID:10001754-1811242800-1811248200@www.pfh.org.uk
SUMMARY:Singing for the Brain
DESCRIPTION:Contact Julie for places before attending
URL:https://www.pfh.org.uk/event/singing-for-the-brain/2027-05-25/
LOCATION:Florence Nightingale Court\, Florence Nightingale Ct\, Hull\, HU5 4BW\, United Kingdom
CATEGORIES:Resident Events
ATTACH;FMTTYPE=image/png:https://www.pfh.org.uk/wp-content/uploads/2024/02/Alzheimers_Society_logo.png
ORGANIZER;CN="Alzheimer's Society":MAILTO:hulleastriding@alzheimers.org.uk
GEO:53.7691182;-0.3807095
X-APPLE-STRUCTURED-LOCATION;VALUE=URI;X-ADDRESS=Florence Nightingale Court Florence Nightingale Ct Hull HU5 4BW United Kingdom;X-APPLE-RADIUS=500;X-TITLE=Florence Nightingale Ct:geo:-0.3807095,53.7691182
END:VEVENT
END:VCALENDAR