BEGIN:VCALENDAR
VERSION:2.0
PRODID:-//PFH Pickering &amp; Ferens Homes - ECPv6.15.20//NONSGML v1.0//EN
CALSCALE:GREGORIAN
METHOD:PUBLISH
X-WR-CALNAME:PFH Pickering &amp; Ferens Homes
X-ORIGINAL-URL:https://www.pfh.org.uk
X-WR-CALDESC:Events for PFH Pickering &amp; Ferens Homes
REFRESH-INTERVAL;VALUE=DURATION:PT1H
X-Robots-Tag:noindex
X-PUBLISHED-TTL:PT1H
BEGIN:VTIMEZONE
TZID:Europe/London
BEGIN:DAYLIGHT
TZOFFSETFROM:+0000
TZOFFSETTO:+0100
TZNAME:BST
DTSTART:20260329T010000
END:DAYLIGHT
BEGIN:STANDARD
TZOFFSETFROM:+0100
TZOFFSETTO:+0000
TZNAME:GMT
DTSTART:20261025T010000
END:STANDARD
BEGIN:DAYLIGHT
TZOFFSETFROM:+0000
TZOFFSETTO:+0100
TZNAME:BST
DTSTART:20270328T010000
END:DAYLIGHT
BEGIN:STANDARD
TZOFFSETFROM:+0100
TZOFFSETTO:+0000
TZNAME:GMT
DTSTART:20271031T010000
END:STANDARD
BEGIN:DAYLIGHT
TZOFFSETFROM:+0000
TZOFFSETTO:+0100
TZNAME:BST
DTSTART:20280326T010000
END:DAYLIGHT
BEGIN:STANDARD
TZOFFSETFROM:+0100
TZOFFSETTO:+0000
TZNAME:GMT
DTSTART:20281029T010000
END:STANDARD
END:VTIMEZONE
BEGIN:VEVENT
DTSTART;TZID=Europe/London:20270106T133000
DTEND;TZID=Europe/London:20270106T153000
DTSTAMP:20260420T072623
CREATED:20260119T153455Z
LAST-MODIFIED:20260119T153455Z
UID:10023965-1799242200-1799249400@www.pfh.org.uk
SUMMARY:Quiz afternoon
DESCRIPTION:Wednesday 1.30pm\nScheme manager Maria – 01482 313 501
URL:https://www.pfh.org.uk/event/quiz-afternoon-2/2027-01-06/
LOCATION:Malin Lodge\, Malin Lodge\, Hull\, HU9 3LH\, United Kingdom
CATEGORIES:Resident Events
ATTACH;FMTTYPE=image/jpeg:https://www.pfh.org.uk/wp-content/uploads/2024/05/young-woman-in-casual-clothes-helping-senior-man-in-formal-shirt-with-paying-credit-card-in-internet-using-laptop-while-sitting-at-table-3823488-scaled.jpg
GEO:53.7657778;-0.284267
X-APPLE-STRUCTURED-LOCATION;VALUE=URI;X-ADDRESS=Malin Lodge Malin Lodge Hull HU9 3LH United Kingdom;X-APPLE-RADIUS=500;X-TITLE=Malin Lodge:geo:-0.284267,53.7657778
END:VEVENT
BEGIN:VEVENT
DTSTART;TZID=Europe/London:20270107T103000
DTEND;TZID=Europe/London:20270107T120000
DTSTAMP:20260420T072623
CREATED:20240815T150508Z
LAST-MODIFIED:20240815T150508Z
UID:10015870-1799317800-1799323200@www.pfh.org.uk
SUMMARY:Robins Revisited - Hull KR Heritage Session
DESCRIPTION:First Thursday of each month 10:30am – 12pm – All Welcome
URL:https://www.pfh.org.uk/event/robins-revisited-hull-kr-heritage-session/2027-01-07/
LOCATION:Malin Lodge\, Malin Lodge\, Hull\, HU9 3LH\, United Kingdom
CATEGORIES:Open to Everyone
ATTACH;FMTTYPE=image/png:https://www.pfh.org.uk/wp-content/uploads/2024/02/Hull_Kingston_Rovers_Crest-1.png
GEO:53.7657778;-0.284267
X-APPLE-STRUCTURED-LOCATION;VALUE=URI;X-ADDRESS=Malin Lodge Malin Lodge Hull HU9 3LH United Kingdom;X-APPLE-RADIUS=500;X-TITLE=Malin Lodge:geo:-0.284267,53.7657778
END:VEVENT
BEGIN:VEVENT
DTSTART;TZID=Europe/London:20270108T190000
DTEND;TZID=Europe/London:20270108T210000
DTSTAMP:20260420T072623
CREATED:20240815T150322Z
LAST-MODIFIED:20260119T153551Z
UID:10015572-1799434800-1799442000@www.pfh.org.uk
SUMMARY:Bingo
DESCRIPTION:Scheme manager Maria – 01482 313 501
URL:https://www.pfh.org.uk/event/bingo-4/2027-01-08/
LOCATION:Malin Lodge\, Malin Lodge\, Hull\, HU9 3LH\, United Kingdom
CATEGORIES:Resident Events
ATTACH;FMTTYPE=image/jpeg:https://www.pfh.org.uk/wp-content/uploads/2024/02/people-playing-bingo.jpg
GEO:53.7657778;-0.284267
X-APPLE-STRUCTURED-LOCATION;VALUE=URI;X-ADDRESS=Malin Lodge Malin Lodge Hull HU9 3LH United Kingdom;X-APPLE-RADIUS=500;X-TITLE=Malin Lodge:geo:-0.284267,53.7657778
END:VEVENT
BEGIN:VEVENT
DTSTART;TZID=Europe/London:20270112T140000
DTEND;TZID=Europe/London:20270112T160000
DTSTAMP:20260420T072623
CREATED:20240305T124845Z
LAST-MODIFIED:20240314T152444Z
UID:10003100-1799762400-1799769600@www.pfh.org.uk
SUMMARY:Film Afternoon
DESCRIPTION:Malin Lodge\nMaybury Road HU9 3LH\nTuesday 2pm – 4pm
URL:https://www.pfh.org.uk/event/film-afternoon/2027-01-12/
LOCATION:Malin Lodge\, Malin Lodge\, Hull\, HU9 3LH\, United Kingdom
CATEGORIES:Resident Events
ATTACH;FMTTYPE=image/jpeg:https://www.pfh.org.uk/wp-content/uploads/2024/03/3d-glasses-on-popcorn-7991378-683x1024.jpg
GEO:53.7657778;-0.284267
X-APPLE-STRUCTURED-LOCATION;VALUE=URI;X-ADDRESS=Malin Lodge Malin Lodge Hull HU9 3LH United Kingdom;X-APPLE-RADIUS=500;X-TITLE=Malin Lodge:geo:-0.284267,53.7657778
END:VEVENT
BEGIN:VEVENT
DTSTART;TZID=Europe/London:20270113T133000
DTEND;TZID=Europe/London:20270113T153000
DTSTAMP:20260420T072623
CREATED:20260119T153455Z
LAST-MODIFIED:20260119T153455Z
UID:10023966-1799847000-1799854200@www.pfh.org.uk
SUMMARY:Quiz afternoon
DESCRIPTION:Wednesday 1.30pm\nScheme manager Maria – 01482 313 501
URL:https://www.pfh.org.uk/event/quiz-afternoon-2/2027-01-13/
LOCATION:Malin Lodge\, Malin Lodge\, Hull\, HU9 3LH\, United Kingdom
CATEGORIES:Resident Events
ATTACH;FMTTYPE=image/jpeg:https://www.pfh.org.uk/wp-content/uploads/2024/05/young-woman-in-casual-clothes-helping-senior-man-in-formal-shirt-with-paying-credit-card-in-internet-using-laptop-while-sitting-at-table-3823488-scaled.jpg
GEO:53.7657778;-0.284267
X-APPLE-STRUCTURED-LOCATION;VALUE=URI;X-ADDRESS=Malin Lodge Malin Lodge Hull HU9 3LH United Kingdom;X-APPLE-RADIUS=500;X-TITLE=Malin Lodge:geo:-0.284267,53.7657778
END:VEVENT
BEGIN:VEVENT
DTSTART;TZID=Europe/London:20270115T190000
DTEND;TZID=Europe/London:20270115T210000
DTSTAMP:20260420T072623
CREATED:20240815T150322Z
LAST-MODIFIED:20260119T153551Z
UID:10015574-1800039600-1800046800@www.pfh.org.uk
SUMMARY:Bingo
DESCRIPTION:Scheme manager Maria – 01482 313 501
URL:https://www.pfh.org.uk/event/bingo-4/2027-01-15/
LOCATION:Malin Lodge\, Malin Lodge\, Hull\, HU9 3LH\, United Kingdom
CATEGORIES:Resident Events
ATTACH;FMTTYPE=image/jpeg:https://www.pfh.org.uk/wp-content/uploads/2024/02/people-playing-bingo.jpg
GEO:53.7657778;-0.284267
X-APPLE-STRUCTURED-LOCATION;VALUE=URI;X-ADDRESS=Malin Lodge Malin Lodge Hull HU9 3LH United Kingdom;X-APPLE-RADIUS=500;X-TITLE=Malin Lodge:geo:-0.284267,53.7657778
END:VEVENT
BEGIN:VEVENT
DTSTART;TZID=Europe/London:20270119T140000
DTEND;TZID=Europe/London:20270119T160000
DTSTAMP:20260420T072623
CREATED:20240305T124845Z
LAST-MODIFIED:20240314T152444Z
UID:10003101-1800367200-1800374400@www.pfh.org.uk
SUMMARY:Film Afternoon
DESCRIPTION:Malin Lodge\nMaybury Road HU9 3LH\nTuesday 2pm – 4pm
URL:https://www.pfh.org.uk/event/film-afternoon/2027-01-19/
LOCATION:Malin Lodge\, Malin Lodge\, Hull\, HU9 3LH\, United Kingdom
CATEGORIES:Resident Events
ATTACH;FMTTYPE=image/jpeg:https://www.pfh.org.uk/wp-content/uploads/2024/03/3d-glasses-on-popcorn-7991378-683x1024.jpg
GEO:53.7657778;-0.284267
X-APPLE-STRUCTURED-LOCATION;VALUE=URI;X-ADDRESS=Malin Lodge Malin Lodge Hull HU9 3LH United Kingdom;X-APPLE-RADIUS=500;X-TITLE=Malin Lodge:geo:-0.284267,53.7657778
END:VEVENT
BEGIN:VEVENT
DTSTART;TZID=Europe/London:20270120T133000
DTEND;TZID=Europe/London:20270120T153000
DTSTAMP:20260420T072623
CREATED:20260119T153455Z
LAST-MODIFIED:20260119T153455Z
UID:10023967-1800451800-1800459000@www.pfh.org.uk
SUMMARY:Quiz afternoon
DESCRIPTION:Wednesday 1.30pm\nScheme manager Maria – 01482 313 501
URL:https://www.pfh.org.uk/event/quiz-afternoon-2/2027-01-20/
LOCATION:Malin Lodge\, Malin Lodge\, Hull\, HU9 3LH\, United Kingdom
CATEGORIES:Resident Events
ATTACH;FMTTYPE=image/jpeg:https://www.pfh.org.uk/wp-content/uploads/2024/05/young-woman-in-casual-clothes-helping-senior-man-in-formal-shirt-with-paying-credit-card-in-internet-using-laptop-while-sitting-at-table-3823488-scaled.jpg
GEO:53.7657778;-0.284267
X-APPLE-STRUCTURED-LOCATION;VALUE=URI;X-ADDRESS=Malin Lodge Malin Lodge Hull HU9 3LH United Kingdom;X-APPLE-RADIUS=500;X-TITLE=Malin Lodge:geo:-0.284267,53.7657778
END:VEVENT
BEGIN:VEVENT
DTSTART;TZID=Europe/London:20270122T190000
DTEND;TZID=Europe/London:20270122T210000
DTSTAMP:20260420T072623
CREATED:20240815T150322Z
LAST-MODIFIED:20260119T153551Z
UID:10015576-1800644400-1800651600@www.pfh.org.uk
SUMMARY:Bingo
DESCRIPTION:Scheme manager Maria – 01482 313 501
URL:https://www.pfh.org.uk/event/bingo-4/2027-01-22/
LOCATION:Malin Lodge\, Malin Lodge\, Hull\, HU9 3LH\, United Kingdom
CATEGORIES:Resident Events
ATTACH;FMTTYPE=image/jpeg:https://www.pfh.org.uk/wp-content/uploads/2024/02/people-playing-bingo.jpg
GEO:53.7657778;-0.284267
X-APPLE-STRUCTURED-LOCATION;VALUE=URI;X-ADDRESS=Malin Lodge Malin Lodge Hull HU9 3LH United Kingdom;X-APPLE-RADIUS=500;X-TITLE=Malin Lodge:geo:-0.284267,53.7657778
END:VEVENT
BEGIN:VEVENT
DTSTART;TZID=Europe/London:20270126T140000
DTEND;TZID=Europe/London:20270126T160000
DTSTAMP:20260420T072623
CREATED:20240305T124845Z
LAST-MODIFIED:20240314T152444Z
UID:10003102-1800972000-1800979200@www.pfh.org.uk
SUMMARY:Film Afternoon
DESCRIPTION:Malin Lodge\nMaybury Road HU9 3LH\nTuesday 2pm – 4pm
URL:https://www.pfh.org.uk/event/film-afternoon/2027-01-26/
LOCATION:Malin Lodge\, Malin Lodge\, Hull\, HU9 3LH\, United Kingdom
CATEGORIES:Resident Events
ATTACH;FMTTYPE=image/jpeg:https://www.pfh.org.uk/wp-content/uploads/2024/03/3d-glasses-on-popcorn-7991378-683x1024.jpg
GEO:53.7657778;-0.284267
X-APPLE-STRUCTURED-LOCATION;VALUE=URI;X-ADDRESS=Malin Lodge Malin Lodge Hull HU9 3LH United Kingdom;X-APPLE-RADIUS=500;X-TITLE=Malin Lodge:geo:-0.284267,53.7657778
END:VEVENT
BEGIN:VEVENT
DTSTART;TZID=Europe/London:20270127T133000
DTEND;TZID=Europe/London:20270127T153000
DTSTAMP:20260420T072623
CREATED:20260119T153455Z
LAST-MODIFIED:20260119T153455Z
UID:10023968-1801056600-1801063800@www.pfh.org.uk
SUMMARY:Quiz afternoon
DESCRIPTION:Wednesday 1.30pm\nScheme manager Maria – 01482 313 501
URL:https://www.pfh.org.uk/event/quiz-afternoon-2/2027-01-27/
LOCATION:Malin Lodge\, Malin Lodge\, Hull\, HU9 3LH\, United Kingdom
CATEGORIES:Resident Events
ATTACH;FMTTYPE=image/jpeg:https://www.pfh.org.uk/wp-content/uploads/2024/05/young-woman-in-casual-clothes-helping-senior-man-in-formal-shirt-with-paying-credit-card-in-internet-using-laptop-while-sitting-at-table-3823488-scaled.jpg
GEO:53.7657778;-0.284267
X-APPLE-STRUCTURED-LOCATION;VALUE=URI;X-ADDRESS=Malin Lodge Malin Lodge Hull HU9 3LH United Kingdom;X-APPLE-RADIUS=500;X-TITLE=Malin Lodge:geo:-0.284267,53.7657778
END:VEVENT
BEGIN:VEVENT
DTSTART;TZID=Europe/London:20270129T190000
DTEND;TZID=Europe/London:20270129T210000
DTSTAMP:20260420T072623
CREATED:20240815T150322Z
LAST-MODIFIED:20260119T153551Z
UID:10015578-1801249200-1801256400@www.pfh.org.uk
SUMMARY:Bingo
DESCRIPTION:Scheme manager Maria – 01482 313 501
URL:https://www.pfh.org.uk/event/bingo-4/2027-01-29/
LOCATION:Malin Lodge\, Malin Lodge\, Hull\, HU9 3LH\, United Kingdom
CATEGORIES:Resident Events
ATTACH;FMTTYPE=image/jpeg:https://www.pfh.org.uk/wp-content/uploads/2024/02/people-playing-bingo.jpg
GEO:53.7657778;-0.284267
X-APPLE-STRUCTURED-LOCATION;VALUE=URI;X-ADDRESS=Malin Lodge Malin Lodge Hull HU9 3LH United Kingdom;X-APPLE-RADIUS=500;X-TITLE=Malin Lodge:geo:-0.284267,53.7657778
END:VEVENT
BEGIN:VEVENT
DTSTART;TZID=Europe/London:20270202T140000
DTEND;TZID=Europe/London:20270202T160000
DTSTAMP:20260420T072623
CREATED:20240305T124845Z
LAST-MODIFIED:20240314T152444Z
UID:10003103-1801576800-1801584000@www.pfh.org.uk
SUMMARY:Film Afternoon
DESCRIPTION:Malin Lodge\nMaybury Road HU9 3LH\nTuesday 2pm – 4pm
URL:https://www.pfh.org.uk/event/film-afternoon/2027-02-02/
LOCATION:Malin Lodge\, Malin Lodge\, Hull\, HU9 3LH\, United Kingdom
CATEGORIES:Resident Events
ATTACH;FMTTYPE=image/jpeg:https://www.pfh.org.uk/wp-content/uploads/2024/03/3d-glasses-on-popcorn-7991378-683x1024.jpg
GEO:53.7657778;-0.284267
X-APPLE-STRUCTURED-LOCATION;VALUE=URI;X-ADDRESS=Malin Lodge Malin Lodge Hull HU9 3LH United Kingdom;X-APPLE-RADIUS=500;X-TITLE=Malin Lodge:geo:-0.284267,53.7657778
END:VEVENT
BEGIN:VEVENT
DTSTART;TZID=Europe/London:20270203T133000
DTEND;TZID=Europe/London:20270203T153000
DTSTAMP:20260420T072623
CREATED:20260119T153455Z
LAST-MODIFIED:20260119T153455Z
UID:10023969-1801661400-1801668600@www.pfh.org.uk
SUMMARY:Quiz afternoon
DESCRIPTION:Wednesday 1.30pm\nScheme manager Maria – 01482 313 501
URL:https://www.pfh.org.uk/event/quiz-afternoon-2/2027-02-03/
LOCATION:Malin Lodge\, Malin Lodge\, Hull\, HU9 3LH\, United Kingdom
CATEGORIES:Resident Events
ATTACH;FMTTYPE=image/jpeg:https://www.pfh.org.uk/wp-content/uploads/2024/05/young-woman-in-casual-clothes-helping-senior-man-in-formal-shirt-with-paying-credit-card-in-internet-using-laptop-while-sitting-at-table-3823488-scaled.jpg
GEO:53.7657778;-0.284267
X-APPLE-STRUCTURED-LOCATION;VALUE=URI;X-ADDRESS=Malin Lodge Malin Lodge Hull HU9 3LH United Kingdom;X-APPLE-RADIUS=500;X-TITLE=Malin Lodge:geo:-0.284267,53.7657778
END:VEVENT
BEGIN:VEVENT
DTSTART;TZID=Europe/London:20270204T103000
DTEND;TZID=Europe/London:20270204T120000
DTSTAMP:20260420T072623
CREATED:20240815T150508Z
LAST-MODIFIED:20240815T150508Z
UID:10015871-1801737000-1801742400@www.pfh.org.uk
SUMMARY:Robins Revisited - Hull KR Heritage Session
DESCRIPTION:First Thursday of each month 10:30am – 12pm – All Welcome
URL:https://www.pfh.org.uk/event/robins-revisited-hull-kr-heritage-session/2027-02-04/
LOCATION:Malin Lodge\, Malin Lodge\, Hull\, HU9 3LH\, United Kingdom
CATEGORIES:Open to Everyone
ATTACH;FMTTYPE=image/png:https://www.pfh.org.uk/wp-content/uploads/2024/02/Hull_Kingston_Rovers_Crest-1.png
GEO:53.7657778;-0.284267
X-APPLE-STRUCTURED-LOCATION;VALUE=URI;X-ADDRESS=Malin Lodge Malin Lodge Hull HU9 3LH United Kingdom;X-APPLE-RADIUS=500;X-TITLE=Malin Lodge:geo:-0.284267,53.7657778
END:VEVENT
BEGIN:VEVENT
DTSTART;TZID=Europe/London:20270205T190000
DTEND;TZID=Europe/London:20270205T210000
DTSTAMP:20260420T072623
CREATED:20240815T150322Z
LAST-MODIFIED:20260119T153551Z
UID:10015580-1801854000-1801861200@www.pfh.org.uk
SUMMARY:Bingo
DESCRIPTION:Scheme manager Maria – 01482 313 501
URL:https://www.pfh.org.uk/event/bingo-4/2027-02-05/
LOCATION:Malin Lodge\, Malin Lodge\, Hull\, HU9 3LH\, United Kingdom
CATEGORIES:Resident Events
ATTACH;FMTTYPE=image/jpeg:https://www.pfh.org.uk/wp-content/uploads/2024/02/people-playing-bingo.jpg
GEO:53.7657778;-0.284267
X-APPLE-STRUCTURED-LOCATION;VALUE=URI;X-ADDRESS=Malin Lodge Malin Lodge Hull HU9 3LH United Kingdom;X-APPLE-RADIUS=500;X-TITLE=Malin Lodge:geo:-0.284267,53.7657778
END:VEVENT
BEGIN:VEVENT
DTSTART;TZID=Europe/London:20270209T140000
DTEND;TZID=Europe/London:20270209T160000
DTSTAMP:20260420T072623
CREATED:20240305T124845Z
LAST-MODIFIED:20240314T152444Z
UID:10003104-1802181600-1802188800@www.pfh.org.uk
SUMMARY:Film Afternoon
DESCRIPTION:Malin Lodge\nMaybury Road HU9 3LH\nTuesday 2pm – 4pm
URL:https://www.pfh.org.uk/event/film-afternoon/2027-02-09/
LOCATION:Malin Lodge\, Malin Lodge\, Hull\, HU9 3LH\, United Kingdom
CATEGORIES:Resident Events
ATTACH;FMTTYPE=image/jpeg:https://www.pfh.org.uk/wp-content/uploads/2024/03/3d-glasses-on-popcorn-7991378-683x1024.jpg
GEO:53.7657778;-0.284267
X-APPLE-STRUCTURED-LOCATION;VALUE=URI;X-ADDRESS=Malin Lodge Malin Lodge Hull HU9 3LH United Kingdom;X-APPLE-RADIUS=500;X-TITLE=Malin Lodge:geo:-0.284267,53.7657778
END:VEVENT
BEGIN:VEVENT
DTSTART;TZID=Europe/London:20270210T133000
DTEND;TZID=Europe/London:20270210T153000
DTSTAMP:20260420T072623
CREATED:20260119T153455Z
LAST-MODIFIED:20260119T153455Z
UID:10023970-1802266200-1802273400@www.pfh.org.uk
SUMMARY:Quiz afternoon
DESCRIPTION:Wednesday 1.30pm\nScheme manager Maria – 01482 313 501
URL:https://www.pfh.org.uk/event/quiz-afternoon-2/2027-02-10/
LOCATION:Malin Lodge\, Malin Lodge\, Hull\, HU9 3LH\, United Kingdom
CATEGORIES:Resident Events
ATTACH;FMTTYPE=image/jpeg:https://www.pfh.org.uk/wp-content/uploads/2024/05/young-woman-in-casual-clothes-helping-senior-man-in-formal-shirt-with-paying-credit-card-in-internet-using-laptop-while-sitting-at-table-3823488-scaled.jpg
GEO:53.7657778;-0.284267
X-APPLE-STRUCTURED-LOCATION;VALUE=URI;X-ADDRESS=Malin Lodge Malin Lodge Hull HU9 3LH United Kingdom;X-APPLE-RADIUS=500;X-TITLE=Malin Lodge:geo:-0.284267,53.7657778
END:VEVENT
BEGIN:VEVENT
DTSTART;TZID=Europe/London:20270212T190000
DTEND;TZID=Europe/London:20270212T210000
DTSTAMP:20260420T072623
CREATED:20240815T150322Z
LAST-MODIFIED:20260119T153551Z
UID:10015582-1802458800-1802466000@www.pfh.org.uk
SUMMARY:Bingo
DESCRIPTION:Scheme manager Maria – 01482 313 501
URL:https://www.pfh.org.uk/event/bingo-4/2027-02-12/
LOCATION:Malin Lodge\, Malin Lodge\, Hull\, HU9 3LH\, United Kingdom
CATEGORIES:Resident Events
ATTACH;FMTTYPE=image/jpeg:https://www.pfh.org.uk/wp-content/uploads/2024/02/people-playing-bingo.jpg
GEO:53.7657778;-0.284267
X-APPLE-STRUCTURED-LOCATION;VALUE=URI;X-ADDRESS=Malin Lodge Malin Lodge Hull HU9 3LH United Kingdom;X-APPLE-RADIUS=500;X-TITLE=Malin Lodge:geo:-0.284267,53.7657778
END:VEVENT
BEGIN:VEVENT
DTSTART;TZID=Europe/London:20270216T140000
DTEND;TZID=Europe/London:20270216T160000
DTSTAMP:20260420T072623
CREATED:20240305T124845Z
LAST-MODIFIED:20240314T152444Z
UID:10003105-1802786400-1802793600@www.pfh.org.uk
SUMMARY:Film Afternoon
DESCRIPTION:Malin Lodge\nMaybury Road HU9 3LH\nTuesday 2pm – 4pm
URL:https://www.pfh.org.uk/event/film-afternoon/2027-02-16/
LOCATION:Malin Lodge\, Malin Lodge\, Hull\, HU9 3LH\, United Kingdom
CATEGORIES:Resident Events
ATTACH;FMTTYPE=image/jpeg:https://www.pfh.org.uk/wp-content/uploads/2024/03/3d-glasses-on-popcorn-7991378-683x1024.jpg
GEO:53.7657778;-0.284267
X-APPLE-STRUCTURED-LOCATION;VALUE=URI;X-ADDRESS=Malin Lodge Malin Lodge Hull HU9 3LH United Kingdom;X-APPLE-RADIUS=500;X-TITLE=Malin Lodge:geo:-0.284267,53.7657778
END:VEVENT
BEGIN:VEVENT
DTSTART;TZID=Europe/London:20270217T133000
DTEND;TZID=Europe/London:20270217T153000
DTSTAMP:20260420T072623
CREATED:20260119T153455Z
LAST-MODIFIED:20260119T153455Z
UID:10023971-1802871000-1802878200@www.pfh.org.uk
SUMMARY:Quiz afternoon
DESCRIPTION:Wednesday 1.30pm\nScheme manager Maria – 01482 313 501
URL:https://www.pfh.org.uk/event/quiz-afternoon-2/2027-02-17/
LOCATION:Malin Lodge\, Malin Lodge\, Hull\, HU9 3LH\, United Kingdom
CATEGORIES:Resident Events
ATTACH;FMTTYPE=image/jpeg:https://www.pfh.org.uk/wp-content/uploads/2024/05/young-woman-in-casual-clothes-helping-senior-man-in-formal-shirt-with-paying-credit-card-in-internet-using-laptop-while-sitting-at-table-3823488-scaled.jpg
GEO:53.7657778;-0.284267
X-APPLE-STRUCTURED-LOCATION;VALUE=URI;X-ADDRESS=Malin Lodge Malin Lodge Hull HU9 3LH United Kingdom;X-APPLE-RADIUS=500;X-TITLE=Malin Lodge:geo:-0.284267,53.7657778
END:VEVENT
BEGIN:VEVENT
DTSTART;TZID=Europe/London:20270219T190000
DTEND;TZID=Europe/London:20270219T210000
DTSTAMP:20260420T072623
CREATED:20240815T150322Z
LAST-MODIFIED:20260119T153551Z
UID:10015584-1803063600-1803070800@www.pfh.org.uk
SUMMARY:Bingo
DESCRIPTION:Scheme manager Maria – 01482 313 501
URL:https://www.pfh.org.uk/event/bingo-4/2027-02-19/
LOCATION:Malin Lodge\, Malin Lodge\, Hull\, HU9 3LH\, United Kingdom
CATEGORIES:Resident Events
ATTACH;FMTTYPE=image/jpeg:https://www.pfh.org.uk/wp-content/uploads/2024/02/people-playing-bingo.jpg
GEO:53.7657778;-0.284267
X-APPLE-STRUCTURED-LOCATION;VALUE=URI;X-ADDRESS=Malin Lodge Malin Lodge Hull HU9 3LH United Kingdom;X-APPLE-RADIUS=500;X-TITLE=Malin Lodge:geo:-0.284267,53.7657778
END:VEVENT
BEGIN:VEVENT
DTSTART;TZID=Europe/London:20270223T140000
DTEND;TZID=Europe/London:20270223T160000
DTSTAMP:20260420T072623
CREATED:20240305T124845Z
LAST-MODIFIED:20240314T152444Z
UID:10003106-1803391200-1803398400@www.pfh.org.uk
SUMMARY:Film Afternoon
DESCRIPTION:Malin Lodge\nMaybury Road HU9 3LH\nTuesday 2pm – 4pm
URL:https://www.pfh.org.uk/event/film-afternoon/2027-02-23/
LOCATION:Malin Lodge\, Malin Lodge\, Hull\, HU9 3LH\, United Kingdom
CATEGORIES:Resident Events
ATTACH;FMTTYPE=image/jpeg:https://www.pfh.org.uk/wp-content/uploads/2024/03/3d-glasses-on-popcorn-7991378-683x1024.jpg
GEO:53.7657778;-0.284267
X-APPLE-STRUCTURED-LOCATION;VALUE=URI;X-ADDRESS=Malin Lodge Malin Lodge Hull HU9 3LH United Kingdom;X-APPLE-RADIUS=500;X-TITLE=Malin Lodge:geo:-0.284267,53.7657778
END:VEVENT
BEGIN:VEVENT
DTSTART;TZID=Europe/London:20270224T133000
DTEND;TZID=Europe/London:20270224T153000
DTSTAMP:20260420T072623
CREATED:20260119T153455Z
LAST-MODIFIED:20260119T153455Z
UID:10023972-1803475800-1803483000@www.pfh.org.uk
SUMMARY:Quiz afternoon
DESCRIPTION:Wednesday 1.30pm\nScheme manager Maria – 01482 313 501
URL:https://www.pfh.org.uk/event/quiz-afternoon-2/2027-02-24/
LOCATION:Malin Lodge\, Malin Lodge\, Hull\, HU9 3LH\, United Kingdom
CATEGORIES:Resident Events
ATTACH;FMTTYPE=image/jpeg:https://www.pfh.org.uk/wp-content/uploads/2024/05/young-woman-in-casual-clothes-helping-senior-man-in-formal-shirt-with-paying-credit-card-in-internet-using-laptop-while-sitting-at-table-3823488-scaled.jpg
GEO:53.7657778;-0.284267
X-APPLE-STRUCTURED-LOCATION;VALUE=URI;X-ADDRESS=Malin Lodge Malin Lodge Hull HU9 3LH United Kingdom;X-APPLE-RADIUS=500;X-TITLE=Malin Lodge:geo:-0.284267,53.7657778
END:VEVENT
BEGIN:VEVENT
DTSTART;TZID=Europe/London:20270226T190000
DTEND;TZID=Europe/London:20270226T210000
DTSTAMP:20260420T072623
CREATED:20240815T150322Z
LAST-MODIFIED:20260119T153551Z
UID:10015586-1803668400-1803675600@www.pfh.org.uk
SUMMARY:Bingo
DESCRIPTION:Scheme manager Maria – 01482 313 501
URL:https://www.pfh.org.uk/event/bingo-4/2027-02-26/
LOCATION:Malin Lodge\, Malin Lodge\, Hull\, HU9 3LH\, United Kingdom
CATEGORIES:Resident Events
ATTACH;FMTTYPE=image/jpeg:https://www.pfh.org.uk/wp-content/uploads/2024/02/people-playing-bingo.jpg
GEO:53.7657778;-0.284267
X-APPLE-STRUCTURED-LOCATION;VALUE=URI;X-ADDRESS=Malin Lodge Malin Lodge Hull HU9 3LH United Kingdom;X-APPLE-RADIUS=500;X-TITLE=Malin Lodge:geo:-0.284267,53.7657778
END:VEVENT
BEGIN:VEVENT
DTSTART;TZID=Europe/London:20270302T140000
DTEND;TZID=Europe/London:20270302T160000
DTSTAMP:20260420T072623
CREATED:20240305T124845Z
LAST-MODIFIED:20240314T152444Z
UID:10003107-1803996000-1804003200@www.pfh.org.uk
SUMMARY:Film Afternoon
DESCRIPTION:Malin Lodge\nMaybury Road HU9 3LH\nTuesday 2pm – 4pm
URL:https://www.pfh.org.uk/event/film-afternoon/2027-03-02/
LOCATION:Malin Lodge\, Malin Lodge\, Hull\, HU9 3LH\, United Kingdom
CATEGORIES:Resident Events
ATTACH;FMTTYPE=image/jpeg:https://www.pfh.org.uk/wp-content/uploads/2024/03/3d-glasses-on-popcorn-7991378-683x1024.jpg
GEO:53.7657778;-0.284267
X-APPLE-STRUCTURED-LOCATION;VALUE=URI;X-ADDRESS=Malin Lodge Malin Lodge Hull HU9 3LH United Kingdom;X-APPLE-RADIUS=500;X-TITLE=Malin Lodge:geo:-0.284267,53.7657778
END:VEVENT
BEGIN:VEVENT
DTSTART;TZID=Europe/London:20270303T133000
DTEND;TZID=Europe/London:20270303T153000
DTSTAMP:20260420T072623
CREATED:20260119T153455Z
LAST-MODIFIED:20260119T153455Z
UID:10023973-1804080600-1804087800@www.pfh.org.uk
SUMMARY:Quiz afternoon
DESCRIPTION:Wednesday 1.30pm\nScheme manager Maria – 01482 313 501
URL:https://www.pfh.org.uk/event/quiz-afternoon-2/2027-03-03/
LOCATION:Malin Lodge\, Malin Lodge\, Hull\, HU9 3LH\, United Kingdom
CATEGORIES:Resident Events
ATTACH;FMTTYPE=image/jpeg:https://www.pfh.org.uk/wp-content/uploads/2024/05/young-woman-in-casual-clothes-helping-senior-man-in-formal-shirt-with-paying-credit-card-in-internet-using-laptop-while-sitting-at-table-3823488-scaled.jpg
GEO:53.7657778;-0.284267
X-APPLE-STRUCTURED-LOCATION;VALUE=URI;X-ADDRESS=Malin Lodge Malin Lodge Hull HU9 3LH United Kingdom;X-APPLE-RADIUS=500;X-TITLE=Malin Lodge:geo:-0.284267,53.7657778
END:VEVENT
BEGIN:VEVENT
DTSTART;TZID=Europe/London:20270304T103000
DTEND;TZID=Europe/London:20270304T120000
DTSTAMP:20260420T072623
CREATED:20240815T150508Z
LAST-MODIFIED:20240815T150508Z
UID:10015872-1804156200-1804161600@www.pfh.org.uk
SUMMARY:Robins Revisited - Hull KR Heritage Session
DESCRIPTION:First Thursday of each month 10:30am – 12pm – All Welcome
URL:https://www.pfh.org.uk/event/robins-revisited-hull-kr-heritage-session/2027-03-04/
LOCATION:Malin Lodge\, Malin Lodge\, Hull\, HU9 3LH\, United Kingdom
CATEGORIES:Open to Everyone
ATTACH;FMTTYPE=image/png:https://www.pfh.org.uk/wp-content/uploads/2024/02/Hull_Kingston_Rovers_Crest-1.png
GEO:53.7657778;-0.284267
X-APPLE-STRUCTURED-LOCATION;VALUE=URI;X-ADDRESS=Malin Lodge Malin Lodge Hull HU9 3LH United Kingdom;X-APPLE-RADIUS=500;X-TITLE=Malin Lodge:geo:-0.284267,53.7657778
END:VEVENT
BEGIN:VEVENT
DTSTART;TZID=Europe/London:20270305T190000
DTEND;TZID=Europe/London:20270305T210000
DTSTAMP:20260420T072623
CREATED:20240815T150322Z
LAST-MODIFIED:20260119T153551Z
UID:10015588-1804273200-1804280400@www.pfh.org.uk
SUMMARY:Bingo
DESCRIPTION:Scheme manager Maria – 01482 313 501
URL:https://www.pfh.org.uk/event/bingo-4/2027-03-05/
LOCATION:Malin Lodge\, Malin Lodge\, Hull\, HU9 3LH\, United Kingdom
CATEGORIES:Resident Events
ATTACH;FMTTYPE=image/jpeg:https://www.pfh.org.uk/wp-content/uploads/2024/02/people-playing-bingo.jpg
GEO:53.7657778;-0.284267
X-APPLE-STRUCTURED-LOCATION;VALUE=URI;X-ADDRESS=Malin Lodge Malin Lodge Hull HU9 3LH United Kingdom;X-APPLE-RADIUS=500;X-TITLE=Malin Lodge:geo:-0.284267,53.7657778
END:VEVENT
BEGIN:VEVENT
DTSTART;TZID=Europe/London:20270309T140000
DTEND;TZID=Europe/London:20270309T160000
DTSTAMP:20260420T072623
CREATED:20240305T124845Z
LAST-MODIFIED:20240314T152444Z
UID:10003108-1804600800-1804608000@www.pfh.org.uk
SUMMARY:Film Afternoon
DESCRIPTION:Malin Lodge\nMaybury Road HU9 3LH\nTuesday 2pm – 4pm
URL:https://www.pfh.org.uk/event/film-afternoon/2027-03-09/
LOCATION:Malin Lodge\, Malin Lodge\, Hull\, HU9 3LH\, United Kingdom
CATEGORIES:Resident Events
ATTACH;FMTTYPE=image/jpeg:https://www.pfh.org.uk/wp-content/uploads/2024/03/3d-glasses-on-popcorn-7991378-683x1024.jpg
GEO:53.7657778;-0.284267
X-APPLE-STRUCTURED-LOCATION;VALUE=URI;X-ADDRESS=Malin Lodge Malin Lodge Hull HU9 3LH United Kingdom;X-APPLE-RADIUS=500;X-TITLE=Malin Lodge:geo:-0.284267,53.7657778
END:VEVENT
END:VCALENDAR