BEGIN:VCALENDAR
VERSION:2.0
PRODID:-//PFH Pickering &amp; Ferens Homes - ECPv6.15.20//NONSGML v1.0//EN
CALSCALE:GREGORIAN
METHOD:PUBLISH
X-ORIGINAL-URL:https://www.pfh.org.uk
X-WR-CALDESC:Events for PFH Pickering &amp; Ferens Homes
REFRESH-INTERVAL;VALUE=DURATION:PT1H
X-Robots-Tag:noindex
X-PUBLISHED-TTL:PT1H
BEGIN:VTIMEZONE
TZID:Europe/London
BEGIN:DAYLIGHT
TZOFFSETFROM:+0000
TZOFFSETTO:+0100
TZNAME:BST
DTSTART:20280326T010000
END:DAYLIGHT
BEGIN:STANDARD
TZOFFSETFROM:+0100
TZOFFSETTO:+0000
TZNAME:GMT
DTSTART:20281029T010000
END:STANDARD
BEGIN:DAYLIGHT
TZOFFSETFROM:+0000
TZOFFSETTO:+0100
TZNAME:BST
DTSTART:20290325T010000
END:DAYLIGHT
BEGIN:STANDARD
TZOFFSETFROM:+0100
TZOFFSETTO:+0000
TZNAME:GMT
DTSTART:20291028T010000
END:STANDARD
BEGIN:DAYLIGHT
TZOFFSETFROM:+0000
TZOFFSETTO:+0100
TZNAME:BST
DTSTART:20300331T010000
END:DAYLIGHT
BEGIN:STANDARD
TZOFFSETFROM:+0100
TZOFFSETTO:+0000
TZNAME:GMT
DTSTART:20301027T010000
END:STANDARD
END:VTIMEZONE
BEGIN:VEVENT
DTSTART;TZID=Europe/London:20290124T140000
DTEND;TZID=Europe/London:20290124T160000
DTSTAMP:20260420T150513
CREATED:20240221T142537Z
LAST-MODIFIED:20240815T135223Z
UID:10009780-1863957600-1863964800@www.pfh.org.uk
SUMMARY:Social Afternoon and Bingo
DESCRIPTION:Contact Mary 07939 582 464
URL:https://www.pfh.org.uk/event/social-afternoon-and-bingo/2029-01-24/
LOCATION:Westgarth Avenue\, Westgarth Avenue\, Hull\, HU6 8LS\, United Kingdom
CATEGORIES:Resident Events
ATTACH;FMTTYPE=image/jpeg:https://www.pfh.org.uk/wp-content/uploads/2024/02/people-playing-bingo.jpg
GEO:53.7775159;-0.3787561
X-APPLE-STRUCTURED-LOCATION;VALUE=URI;X-ADDRESS=Westgarth Avenue Westgarth Avenue Hull HU6 8LS United Kingdom;X-APPLE-RADIUS=500;X-TITLE=Westgarth Avenue:geo:-0.3787561,53.7775159
END:VEVENT
BEGIN:VEVENT
DTSTART;TZID=Europe/London:20290131T140000
DTEND;TZID=Europe/London:20290131T160000
DTSTAMP:20260420T150513
CREATED:20240221T142537Z
LAST-MODIFIED:20240815T135223Z
UID:10009781-1864562400-1864569600@www.pfh.org.uk
SUMMARY:Social Afternoon and Bingo
DESCRIPTION:Contact Mary 07939 582 464
URL:https://www.pfh.org.uk/event/social-afternoon-and-bingo/2029-01-31/
LOCATION:Westgarth Avenue\, Westgarth Avenue\, Hull\, HU6 8LS\, United Kingdom
CATEGORIES:Resident Events
ATTACH;FMTTYPE=image/jpeg:https://www.pfh.org.uk/wp-content/uploads/2024/02/people-playing-bingo.jpg
GEO:53.7775159;-0.3787561
X-APPLE-STRUCTURED-LOCATION;VALUE=URI;X-ADDRESS=Westgarth Avenue Westgarth Avenue Hull HU6 8LS United Kingdom;X-APPLE-RADIUS=500;X-TITLE=Westgarth Avenue:geo:-0.3787561,53.7775159
END:VEVENT
BEGIN:VEVENT
DTSTART;TZID=Europe/London:20290207T140000
DTEND;TZID=Europe/London:20290207T160000
DTSTAMP:20260420T150513
CREATED:20240221T142537Z
LAST-MODIFIED:20240815T135223Z
UID:10009782-1865167200-1865174400@www.pfh.org.uk
SUMMARY:Social Afternoon and Bingo
DESCRIPTION:Contact Mary 07939 582 464
URL:https://www.pfh.org.uk/event/social-afternoon-and-bingo/2029-02-07/
LOCATION:Westgarth Avenue\, Westgarth Avenue\, Hull\, HU6 8LS\, United Kingdom
CATEGORIES:Resident Events
ATTACH;FMTTYPE=image/jpeg:https://www.pfh.org.uk/wp-content/uploads/2024/02/people-playing-bingo.jpg
GEO:53.7775159;-0.3787561
X-APPLE-STRUCTURED-LOCATION;VALUE=URI;X-ADDRESS=Westgarth Avenue Westgarth Avenue Hull HU6 8LS United Kingdom;X-APPLE-RADIUS=500;X-TITLE=Westgarth Avenue:geo:-0.3787561,53.7775159
END:VEVENT
BEGIN:VEVENT
DTSTART;TZID=Europe/London:20290214T140000
DTEND;TZID=Europe/London:20290214T160000
DTSTAMP:20260420T150513
CREATED:20240221T142537Z
LAST-MODIFIED:20240815T135223Z
UID:10009783-1865772000-1865779200@www.pfh.org.uk
SUMMARY:Social Afternoon and Bingo
DESCRIPTION:Contact Mary 07939 582 464
URL:https://www.pfh.org.uk/event/social-afternoon-and-bingo/2029-02-14/
LOCATION:Westgarth Avenue\, Westgarth Avenue\, Hull\, HU6 8LS\, United Kingdom
CATEGORIES:Resident Events
ATTACH;FMTTYPE=image/jpeg:https://www.pfh.org.uk/wp-content/uploads/2024/02/people-playing-bingo.jpg
GEO:53.7775159;-0.3787561
X-APPLE-STRUCTURED-LOCATION;VALUE=URI;X-ADDRESS=Westgarth Avenue Westgarth Avenue Hull HU6 8LS United Kingdom;X-APPLE-RADIUS=500;X-TITLE=Westgarth Avenue:geo:-0.3787561,53.7775159
END:VEVENT
BEGIN:VEVENT
DTSTART;TZID=Europe/London:20290221T140000
DTEND;TZID=Europe/London:20290221T160000
DTSTAMP:20260420T150513
CREATED:20240221T142537Z
LAST-MODIFIED:20240815T135223Z
UID:10009784-1866376800-1866384000@www.pfh.org.uk
SUMMARY:Social Afternoon and Bingo
DESCRIPTION:Contact Mary 07939 582 464
URL:https://www.pfh.org.uk/event/social-afternoon-and-bingo/2029-02-21/
LOCATION:Westgarth Avenue\, Westgarth Avenue\, Hull\, HU6 8LS\, United Kingdom
CATEGORIES:Resident Events
ATTACH;FMTTYPE=image/jpeg:https://www.pfh.org.uk/wp-content/uploads/2024/02/people-playing-bingo.jpg
GEO:53.7775159;-0.3787561
X-APPLE-STRUCTURED-LOCATION;VALUE=URI;X-ADDRESS=Westgarth Avenue Westgarth Avenue Hull HU6 8LS United Kingdom;X-APPLE-RADIUS=500;X-TITLE=Westgarth Avenue:geo:-0.3787561,53.7775159
END:VEVENT
BEGIN:VEVENT
DTSTART;TZID=Europe/London:20290228T140000
DTEND;TZID=Europe/London:20290228T160000
DTSTAMP:20260420T150513
CREATED:20240221T142537Z
LAST-MODIFIED:20240815T135223Z
UID:10009785-1866981600-1866988800@www.pfh.org.uk
SUMMARY:Social Afternoon and Bingo
DESCRIPTION:Contact Mary 07939 582 464
URL:https://www.pfh.org.uk/event/social-afternoon-and-bingo/2029-02-28/
LOCATION:Westgarth Avenue\, Westgarth Avenue\, Hull\, HU6 8LS\, United Kingdom
CATEGORIES:Resident Events
ATTACH;FMTTYPE=image/jpeg:https://www.pfh.org.uk/wp-content/uploads/2024/02/people-playing-bingo.jpg
GEO:53.7775159;-0.3787561
X-APPLE-STRUCTURED-LOCATION;VALUE=URI;X-ADDRESS=Westgarth Avenue Westgarth Avenue Hull HU6 8LS United Kingdom;X-APPLE-RADIUS=500;X-TITLE=Westgarth Avenue:geo:-0.3787561,53.7775159
END:VEVENT
BEGIN:VEVENT
DTSTART;TZID=Europe/London:20290307T140000
DTEND;TZID=Europe/London:20290307T160000
DTSTAMP:20260420T150513
CREATED:20240221T142537Z
LAST-MODIFIED:20240815T135223Z
UID:10009786-1867586400-1867593600@www.pfh.org.uk
SUMMARY:Social Afternoon and Bingo
DESCRIPTION:Contact Mary 07939 582 464
URL:https://www.pfh.org.uk/event/social-afternoon-and-bingo/2029-03-07/
LOCATION:Westgarth Avenue\, Westgarth Avenue\, Hull\, HU6 8LS\, United Kingdom
CATEGORIES:Resident Events
ATTACH;FMTTYPE=image/jpeg:https://www.pfh.org.uk/wp-content/uploads/2024/02/people-playing-bingo.jpg
GEO:53.7775159;-0.3787561
X-APPLE-STRUCTURED-LOCATION;VALUE=URI;X-ADDRESS=Westgarth Avenue Westgarth Avenue Hull HU6 8LS United Kingdom;X-APPLE-RADIUS=500;X-TITLE=Westgarth Avenue:geo:-0.3787561,53.7775159
END:VEVENT
BEGIN:VEVENT
DTSTART;TZID=Europe/London:20290314T140000
DTEND;TZID=Europe/London:20290314T160000
DTSTAMP:20260420T150513
CREATED:20240221T142537Z
LAST-MODIFIED:20240815T135223Z
UID:10009787-1868191200-1868198400@www.pfh.org.uk
SUMMARY:Social Afternoon and Bingo
DESCRIPTION:Contact Mary 07939 582 464
URL:https://www.pfh.org.uk/event/social-afternoon-and-bingo/2029-03-14/
LOCATION:Westgarth Avenue\, Westgarth Avenue\, Hull\, HU6 8LS\, United Kingdom
CATEGORIES:Resident Events
ATTACH;FMTTYPE=image/jpeg:https://www.pfh.org.uk/wp-content/uploads/2024/02/people-playing-bingo.jpg
GEO:53.7775159;-0.3787561
X-APPLE-STRUCTURED-LOCATION;VALUE=URI;X-ADDRESS=Westgarth Avenue Westgarth Avenue Hull HU6 8LS United Kingdom;X-APPLE-RADIUS=500;X-TITLE=Westgarth Avenue:geo:-0.3787561,53.7775159
END:VEVENT
BEGIN:VEVENT
DTSTART;TZID=Europe/London:20290321T140000
DTEND;TZID=Europe/London:20290321T160000
DTSTAMP:20260420T150513
CREATED:20240221T142537Z
LAST-MODIFIED:20240815T135223Z
UID:10009788-1868796000-1868803200@www.pfh.org.uk
SUMMARY:Social Afternoon and Bingo
DESCRIPTION:Contact Mary 07939 582 464
URL:https://www.pfh.org.uk/event/social-afternoon-and-bingo/2029-03-21/
LOCATION:Westgarth Avenue\, Westgarth Avenue\, Hull\, HU6 8LS\, United Kingdom
CATEGORIES:Resident Events
ATTACH;FMTTYPE=image/jpeg:https://www.pfh.org.uk/wp-content/uploads/2024/02/people-playing-bingo.jpg
GEO:53.7775159;-0.3787561
X-APPLE-STRUCTURED-LOCATION;VALUE=URI;X-ADDRESS=Westgarth Avenue Westgarth Avenue Hull HU6 8LS United Kingdom;X-APPLE-RADIUS=500;X-TITLE=Westgarth Avenue:geo:-0.3787561,53.7775159
END:VEVENT
BEGIN:VEVENT
DTSTART;TZID=Europe/London:20290328T140000
DTEND;TZID=Europe/London:20290328T160000
DTSTAMP:20260420T150513
CREATED:20240221T142537Z
LAST-MODIFIED:20240815T135223Z
UID:10009789-1869400800-1869408000@www.pfh.org.uk
SUMMARY:Social Afternoon and Bingo
DESCRIPTION:Contact Mary 07939 582 464
URL:https://www.pfh.org.uk/event/social-afternoon-and-bingo/2029-03-28/
LOCATION:Westgarth Avenue\, Westgarth Avenue\, Hull\, HU6 8LS\, United Kingdom
CATEGORIES:Resident Events
ATTACH;FMTTYPE=image/jpeg:https://www.pfh.org.uk/wp-content/uploads/2024/02/people-playing-bingo.jpg
GEO:53.7775159;-0.3787561
X-APPLE-STRUCTURED-LOCATION;VALUE=URI;X-ADDRESS=Westgarth Avenue Westgarth Avenue Hull HU6 8LS United Kingdom;X-APPLE-RADIUS=500;X-TITLE=Westgarth Avenue:geo:-0.3787561,53.7775159
END:VEVENT
BEGIN:VEVENT
DTSTART;TZID=Europe/London:20290404T140000
DTEND;TZID=Europe/London:20290404T160000
DTSTAMP:20260420T150513
CREATED:20240221T142537Z
LAST-MODIFIED:20240815T135223Z
UID:10009790-1870005600-1870012800@www.pfh.org.uk
SUMMARY:Social Afternoon and Bingo
DESCRIPTION:Contact Mary 07939 582 464
URL:https://www.pfh.org.uk/event/social-afternoon-and-bingo/2029-04-04/
LOCATION:Westgarth Avenue\, Westgarth Avenue\, Hull\, HU6 8LS\, United Kingdom
CATEGORIES:Resident Events
ATTACH;FMTTYPE=image/jpeg:https://www.pfh.org.uk/wp-content/uploads/2024/02/people-playing-bingo.jpg
GEO:53.7775159;-0.3787561
X-APPLE-STRUCTURED-LOCATION;VALUE=URI;X-ADDRESS=Westgarth Avenue Westgarth Avenue Hull HU6 8LS United Kingdom;X-APPLE-RADIUS=500;X-TITLE=Westgarth Avenue:geo:-0.3787561,53.7775159
END:VEVENT
BEGIN:VEVENT
DTSTART;TZID=Europe/London:20290411T140000
DTEND;TZID=Europe/London:20290411T160000
DTSTAMP:20260420T150513
CREATED:20240221T142537Z
LAST-MODIFIED:20240815T135223Z
UID:10009791-1870610400-1870617600@www.pfh.org.uk
SUMMARY:Social Afternoon and Bingo
DESCRIPTION:Contact Mary 07939 582 464
URL:https://www.pfh.org.uk/event/social-afternoon-and-bingo/2029-04-11/
LOCATION:Westgarth Avenue\, Westgarth Avenue\, Hull\, HU6 8LS\, United Kingdom
CATEGORIES:Resident Events
ATTACH;FMTTYPE=image/jpeg:https://www.pfh.org.uk/wp-content/uploads/2024/02/people-playing-bingo.jpg
GEO:53.7775159;-0.3787561
X-APPLE-STRUCTURED-LOCATION;VALUE=URI;X-ADDRESS=Westgarth Avenue Westgarth Avenue Hull HU6 8LS United Kingdom;X-APPLE-RADIUS=500;X-TITLE=Westgarth Avenue:geo:-0.3787561,53.7775159
END:VEVENT
BEGIN:VEVENT
DTSTART;TZID=Europe/London:20290418T140000
DTEND;TZID=Europe/London:20290418T160000
DTSTAMP:20260420T150513
CREATED:20240221T142537Z
LAST-MODIFIED:20240815T135223Z
UID:10009792-1871215200-1871222400@www.pfh.org.uk
SUMMARY:Social Afternoon and Bingo
DESCRIPTION:Contact Mary 07939 582 464
URL:https://www.pfh.org.uk/event/social-afternoon-and-bingo/2029-04-18/
LOCATION:Westgarth Avenue\, Westgarth Avenue\, Hull\, HU6 8LS\, United Kingdom
CATEGORIES:Resident Events
ATTACH;FMTTYPE=image/jpeg:https://www.pfh.org.uk/wp-content/uploads/2024/02/people-playing-bingo.jpg
GEO:53.7775159;-0.3787561
X-APPLE-STRUCTURED-LOCATION;VALUE=URI;X-ADDRESS=Westgarth Avenue Westgarth Avenue Hull HU6 8LS United Kingdom;X-APPLE-RADIUS=500;X-TITLE=Westgarth Avenue:geo:-0.3787561,53.7775159
END:VEVENT
BEGIN:VEVENT
DTSTART;TZID=Europe/London:20290425T140000
DTEND;TZID=Europe/London:20290425T160000
DTSTAMP:20260420T150513
CREATED:20240221T142537Z
LAST-MODIFIED:20240815T135223Z
UID:10009793-1871820000-1871827200@www.pfh.org.uk
SUMMARY:Social Afternoon and Bingo
DESCRIPTION:Contact Mary 07939 582 464
URL:https://www.pfh.org.uk/event/social-afternoon-and-bingo/2029-04-25/
LOCATION:Westgarth Avenue\, Westgarth Avenue\, Hull\, HU6 8LS\, United Kingdom
CATEGORIES:Resident Events
ATTACH;FMTTYPE=image/jpeg:https://www.pfh.org.uk/wp-content/uploads/2024/02/people-playing-bingo.jpg
GEO:53.7775159;-0.3787561
X-APPLE-STRUCTURED-LOCATION;VALUE=URI;X-ADDRESS=Westgarth Avenue Westgarth Avenue Hull HU6 8LS United Kingdom;X-APPLE-RADIUS=500;X-TITLE=Westgarth Avenue:geo:-0.3787561,53.7775159
END:VEVENT
BEGIN:VEVENT
DTSTART;TZID=Europe/London:20290502T140000
DTEND;TZID=Europe/London:20290502T160000
DTSTAMP:20260420T150513
CREATED:20240221T142537Z
LAST-MODIFIED:20240815T135223Z
UID:10009794-1872424800-1872432000@www.pfh.org.uk
SUMMARY:Social Afternoon and Bingo
DESCRIPTION:Contact Mary 07939 582 464
URL:https://www.pfh.org.uk/event/social-afternoon-and-bingo/2029-05-02/
LOCATION:Westgarth Avenue\, Westgarth Avenue\, Hull\, HU6 8LS\, United Kingdom
CATEGORIES:Resident Events
ATTACH;FMTTYPE=image/jpeg:https://www.pfh.org.uk/wp-content/uploads/2024/02/people-playing-bingo.jpg
GEO:53.7775159;-0.3787561
X-APPLE-STRUCTURED-LOCATION;VALUE=URI;X-ADDRESS=Westgarth Avenue Westgarth Avenue Hull HU6 8LS United Kingdom;X-APPLE-RADIUS=500;X-TITLE=Westgarth Avenue:geo:-0.3787561,53.7775159
END:VEVENT
BEGIN:VEVENT
DTSTART;TZID=Europe/London:20290509T140000
DTEND;TZID=Europe/London:20290509T160000
DTSTAMP:20260420T150513
CREATED:20240221T142537Z
LAST-MODIFIED:20240815T135223Z
UID:10009795-1873029600-1873036800@www.pfh.org.uk
SUMMARY:Social Afternoon and Bingo
DESCRIPTION:Contact Mary 07939 582 464
URL:https://www.pfh.org.uk/event/social-afternoon-and-bingo/2029-05-09/
LOCATION:Westgarth Avenue\, Westgarth Avenue\, Hull\, HU6 8LS\, United Kingdom
CATEGORIES:Resident Events
ATTACH;FMTTYPE=image/jpeg:https://www.pfh.org.uk/wp-content/uploads/2024/02/people-playing-bingo.jpg
GEO:53.7775159;-0.3787561
X-APPLE-STRUCTURED-LOCATION;VALUE=URI;X-ADDRESS=Westgarth Avenue Westgarth Avenue Hull HU6 8LS United Kingdom;X-APPLE-RADIUS=500;X-TITLE=Westgarth Avenue:geo:-0.3787561,53.7775159
END:VEVENT
BEGIN:VEVENT
DTSTART;TZID=Europe/London:20290516T140000
DTEND;TZID=Europe/London:20290516T160000
DTSTAMP:20260420T150513
CREATED:20240221T142537Z
LAST-MODIFIED:20240815T135223Z
UID:10009796-1873634400-1873641600@www.pfh.org.uk
SUMMARY:Social Afternoon and Bingo
DESCRIPTION:Contact Mary 07939 582 464
URL:https://www.pfh.org.uk/event/social-afternoon-and-bingo/2029-05-16/
LOCATION:Westgarth Avenue\, Westgarth Avenue\, Hull\, HU6 8LS\, United Kingdom
CATEGORIES:Resident Events
ATTACH;FMTTYPE=image/jpeg:https://www.pfh.org.uk/wp-content/uploads/2024/02/people-playing-bingo.jpg
GEO:53.7775159;-0.3787561
X-APPLE-STRUCTURED-LOCATION;VALUE=URI;X-ADDRESS=Westgarth Avenue Westgarth Avenue Hull HU6 8LS United Kingdom;X-APPLE-RADIUS=500;X-TITLE=Westgarth Avenue:geo:-0.3787561,53.7775159
END:VEVENT
BEGIN:VEVENT
DTSTART;TZID=Europe/London:20290523T140000
DTEND;TZID=Europe/London:20290523T160000
DTSTAMP:20260420T150513
CREATED:20240221T142537Z
LAST-MODIFIED:20240815T135223Z
UID:10009797-1874239200-1874246400@www.pfh.org.uk
SUMMARY:Social Afternoon and Bingo
DESCRIPTION:Contact Mary 07939 582 464
URL:https://www.pfh.org.uk/event/social-afternoon-and-bingo/2029-05-23/
LOCATION:Westgarth Avenue\, Westgarth Avenue\, Hull\, HU6 8LS\, United Kingdom
CATEGORIES:Resident Events
ATTACH;FMTTYPE=image/jpeg:https://www.pfh.org.uk/wp-content/uploads/2024/02/people-playing-bingo.jpg
GEO:53.7775159;-0.3787561
X-APPLE-STRUCTURED-LOCATION;VALUE=URI;X-ADDRESS=Westgarth Avenue Westgarth Avenue Hull HU6 8LS United Kingdom;X-APPLE-RADIUS=500;X-TITLE=Westgarth Avenue:geo:-0.3787561,53.7775159
END:VEVENT
BEGIN:VEVENT
DTSTART;TZID=Europe/London:20290530T140000
DTEND;TZID=Europe/London:20290530T160000
DTSTAMP:20260420T150513
CREATED:20240221T142537Z
LAST-MODIFIED:20240815T135223Z
UID:10009798-1874844000-1874851200@www.pfh.org.uk
SUMMARY:Social Afternoon and Bingo
DESCRIPTION:Contact Mary 07939 582 464
URL:https://www.pfh.org.uk/event/social-afternoon-and-bingo/2029-05-30/
LOCATION:Westgarth Avenue\, Westgarth Avenue\, Hull\, HU6 8LS\, United Kingdom
CATEGORIES:Resident Events
ATTACH;FMTTYPE=image/jpeg:https://www.pfh.org.uk/wp-content/uploads/2024/02/people-playing-bingo.jpg
GEO:53.7775159;-0.3787561
X-APPLE-STRUCTURED-LOCATION;VALUE=URI;X-ADDRESS=Westgarth Avenue Westgarth Avenue Hull HU6 8LS United Kingdom;X-APPLE-RADIUS=500;X-TITLE=Westgarth Avenue:geo:-0.3787561,53.7775159
END:VEVENT
BEGIN:VEVENT
DTSTART;TZID=Europe/London:20290606T140000
DTEND;TZID=Europe/London:20290606T160000
DTSTAMP:20260420T150513
CREATED:20240221T142537Z
LAST-MODIFIED:20240815T135223Z
UID:10009799-1875448800-1875456000@www.pfh.org.uk
SUMMARY:Social Afternoon and Bingo
DESCRIPTION:Contact Mary 07939 582 464
URL:https://www.pfh.org.uk/event/social-afternoon-and-bingo/2029-06-06/
LOCATION:Westgarth Avenue\, Westgarth Avenue\, Hull\, HU6 8LS\, United Kingdom
CATEGORIES:Resident Events
ATTACH;FMTTYPE=image/jpeg:https://www.pfh.org.uk/wp-content/uploads/2024/02/people-playing-bingo.jpg
GEO:53.7775159;-0.3787561
X-APPLE-STRUCTURED-LOCATION;VALUE=URI;X-ADDRESS=Westgarth Avenue Westgarth Avenue Hull HU6 8LS United Kingdom;X-APPLE-RADIUS=500;X-TITLE=Westgarth Avenue:geo:-0.3787561,53.7775159
END:VEVENT
BEGIN:VEVENT
DTSTART;TZID=Europe/London:20290613T140000
DTEND;TZID=Europe/London:20290613T160000
DTSTAMP:20260420T150513
CREATED:20240221T142537Z
LAST-MODIFIED:20240815T135223Z
UID:10009800-1876053600-1876060800@www.pfh.org.uk
SUMMARY:Social Afternoon and Bingo
DESCRIPTION:Contact Mary 07939 582 464
URL:https://www.pfh.org.uk/event/social-afternoon-and-bingo/2029-06-13/
LOCATION:Westgarth Avenue\, Westgarth Avenue\, Hull\, HU6 8LS\, United Kingdom
CATEGORIES:Resident Events
ATTACH;FMTTYPE=image/jpeg:https://www.pfh.org.uk/wp-content/uploads/2024/02/people-playing-bingo.jpg
GEO:53.7775159;-0.3787561
X-APPLE-STRUCTURED-LOCATION;VALUE=URI;X-ADDRESS=Westgarth Avenue Westgarth Avenue Hull HU6 8LS United Kingdom;X-APPLE-RADIUS=500;X-TITLE=Westgarth Avenue:geo:-0.3787561,53.7775159
END:VEVENT
BEGIN:VEVENT
DTSTART;TZID=Europe/London:20290620T140000
DTEND;TZID=Europe/London:20290620T160000
DTSTAMP:20260420T150513
CREATED:20240221T142537Z
LAST-MODIFIED:20240815T135223Z
UID:10009801-1876658400-1876665600@www.pfh.org.uk
SUMMARY:Social Afternoon and Bingo
DESCRIPTION:Contact Mary 07939 582 464
URL:https://www.pfh.org.uk/event/social-afternoon-and-bingo/2029-06-20/
LOCATION:Westgarth Avenue\, Westgarth Avenue\, Hull\, HU6 8LS\, United Kingdom
CATEGORIES:Resident Events
ATTACH;FMTTYPE=image/jpeg:https://www.pfh.org.uk/wp-content/uploads/2024/02/people-playing-bingo.jpg
GEO:53.7775159;-0.3787561
X-APPLE-STRUCTURED-LOCATION;VALUE=URI;X-ADDRESS=Westgarth Avenue Westgarth Avenue Hull HU6 8LS United Kingdom;X-APPLE-RADIUS=500;X-TITLE=Westgarth Avenue:geo:-0.3787561,53.7775159
END:VEVENT
BEGIN:VEVENT
DTSTART;TZID=Europe/London:20290627T140000
DTEND;TZID=Europe/London:20290627T160000
DTSTAMP:20260420T150513
CREATED:20240221T142537Z
LAST-MODIFIED:20240815T135223Z
UID:10009802-1877263200-1877270400@www.pfh.org.uk
SUMMARY:Social Afternoon and Bingo
DESCRIPTION:Contact Mary 07939 582 464
URL:https://www.pfh.org.uk/event/social-afternoon-and-bingo/2029-06-27/
LOCATION:Westgarth Avenue\, Westgarth Avenue\, Hull\, HU6 8LS\, United Kingdom
CATEGORIES:Resident Events
ATTACH;FMTTYPE=image/jpeg:https://www.pfh.org.uk/wp-content/uploads/2024/02/people-playing-bingo.jpg
GEO:53.7775159;-0.3787561
X-APPLE-STRUCTURED-LOCATION;VALUE=URI;X-ADDRESS=Westgarth Avenue Westgarth Avenue Hull HU6 8LS United Kingdom;X-APPLE-RADIUS=500;X-TITLE=Westgarth Avenue:geo:-0.3787561,53.7775159
END:VEVENT
BEGIN:VEVENT
DTSTART;TZID=Europe/London:20290704T140000
DTEND;TZID=Europe/London:20290704T160000
DTSTAMP:20260420T150513
CREATED:20240221T142537Z
LAST-MODIFIED:20240815T135223Z
UID:10009803-1877868000-1877875200@www.pfh.org.uk
SUMMARY:Social Afternoon and Bingo
DESCRIPTION:Contact Mary 07939 582 464
URL:https://www.pfh.org.uk/event/social-afternoon-and-bingo/2029-07-04/
LOCATION:Westgarth Avenue\, Westgarth Avenue\, Hull\, HU6 8LS\, United Kingdom
CATEGORIES:Resident Events
ATTACH;FMTTYPE=image/jpeg:https://www.pfh.org.uk/wp-content/uploads/2024/02/people-playing-bingo.jpg
GEO:53.7775159;-0.3787561
X-APPLE-STRUCTURED-LOCATION;VALUE=URI;X-ADDRESS=Westgarth Avenue Westgarth Avenue Hull HU6 8LS United Kingdom;X-APPLE-RADIUS=500;X-TITLE=Westgarth Avenue:geo:-0.3787561,53.7775159
END:VEVENT
BEGIN:VEVENT
DTSTART;TZID=Europe/London:20290711T140000
DTEND;TZID=Europe/London:20290711T160000
DTSTAMP:20260420T150513
CREATED:20240221T142537Z
LAST-MODIFIED:20240815T135223Z
UID:10009804-1878472800-1878480000@www.pfh.org.uk
SUMMARY:Social Afternoon and Bingo
DESCRIPTION:Contact Mary 07939 582 464
URL:https://www.pfh.org.uk/event/social-afternoon-and-bingo/2029-07-11/
LOCATION:Westgarth Avenue\, Westgarth Avenue\, Hull\, HU6 8LS\, United Kingdom
CATEGORIES:Resident Events
ATTACH;FMTTYPE=image/jpeg:https://www.pfh.org.uk/wp-content/uploads/2024/02/people-playing-bingo.jpg
GEO:53.7775159;-0.3787561
X-APPLE-STRUCTURED-LOCATION;VALUE=URI;X-ADDRESS=Westgarth Avenue Westgarth Avenue Hull HU6 8LS United Kingdom;X-APPLE-RADIUS=500;X-TITLE=Westgarth Avenue:geo:-0.3787561,53.7775159
END:VEVENT
BEGIN:VEVENT
DTSTART;TZID=Europe/London:20290718T140000
DTEND;TZID=Europe/London:20290718T160000
DTSTAMP:20260420T150513
CREATED:20240221T142537Z
LAST-MODIFIED:20240815T135223Z
UID:10009805-1879077600-1879084800@www.pfh.org.uk
SUMMARY:Social Afternoon and Bingo
DESCRIPTION:Contact Mary 07939 582 464
URL:https://www.pfh.org.uk/event/social-afternoon-and-bingo/2029-07-18/
LOCATION:Westgarth Avenue\, Westgarth Avenue\, Hull\, HU6 8LS\, United Kingdom
CATEGORIES:Resident Events
ATTACH;FMTTYPE=image/jpeg:https://www.pfh.org.uk/wp-content/uploads/2024/02/people-playing-bingo.jpg
GEO:53.7775159;-0.3787561
X-APPLE-STRUCTURED-LOCATION;VALUE=URI;X-ADDRESS=Westgarth Avenue Westgarth Avenue Hull HU6 8LS United Kingdom;X-APPLE-RADIUS=500;X-TITLE=Westgarth Avenue:geo:-0.3787561,53.7775159
END:VEVENT
BEGIN:VEVENT
DTSTART;TZID=Europe/London:20290725T140000
DTEND;TZID=Europe/London:20290725T160000
DTSTAMP:20260420T150513
CREATED:20240221T142537Z
LAST-MODIFIED:20240815T135223Z
UID:10009806-1879682400-1879689600@www.pfh.org.uk
SUMMARY:Social Afternoon and Bingo
DESCRIPTION:Contact Mary 07939 582 464
URL:https://www.pfh.org.uk/event/social-afternoon-and-bingo/2029-07-25/
LOCATION:Westgarth Avenue\, Westgarth Avenue\, Hull\, HU6 8LS\, United Kingdom
CATEGORIES:Resident Events
ATTACH;FMTTYPE=image/jpeg:https://www.pfh.org.uk/wp-content/uploads/2024/02/people-playing-bingo.jpg
GEO:53.7775159;-0.3787561
X-APPLE-STRUCTURED-LOCATION;VALUE=URI;X-ADDRESS=Westgarth Avenue Westgarth Avenue Hull HU6 8LS United Kingdom;X-APPLE-RADIUS=500;X-TITLE=Westgarth Avenue:geo:-0.3787561,53.7775159
END:VEVENT
BEGIN:VEVENT
DTSTART;TZID=Europe/London:20290801T140000
DTEND;TZID=Europe/London:20290801T160000
DTSTAMP:20260420T150513
CREATED:20240221T142537Z
LAST-MODIFIED:20240815T135223Z
UID:10009807-1880287200-1880294400@www.pfh.org.uk
SUMMARY:Social Afternoon and Bingo
DESCRIPTION:Contact Mary 07939 582 464
URL:https://www.pfh.org.uk/event/social-afternoon-and-bingo/2029-08-01/
LOCATION:Westgarth Avenue\, Westgarth Avenue\, Hull\, HU6 8LS\, United Kingdom
CATEGORIES:Resident Events
ATTACH;FMTTYPE=image/jpeg:https://www.pfh.org.uk/wp-content/uploads/2024/02/people-playing-bingo.jpg
GEO:53.7775159;-0.3787561
X-APPLE-STRUCTURED-LOCATION;VALUE=URI;X-ADDRESS=Westgarth Avenue Westgarth Avenue Hull HU6 8LS United Kingdom;X-APPLE-RADIUS=500;X-TITLE=Westgarth Avenue:geo:-0.3787561,53.7775159
END:VEVENT
BEGIN:VEVENT
DTSTART;TZID=Europe/London:20290808T140000
DTEND;TZID=Europe/London:20290808T160000
DTSTAMP:20260420T150513
CREATED:20240221T142537Z
LAST-MODIFIED:20240815T135223Z
UID:10009808-1880892000-1880899200@www.pfh.org.uk
SUMMARY:Social Afternoon and Bingo
DESCRIPTION:Contact Mary 07939 582 464
URL:https://www.pfh.org.uk/event/social-afternoon-and-bingo/2029-08-08/
LOCATION:Westgarth Avenue\, Westgarth Avenue\, Hull\, HU6 8LS\, United Kingdom
CATEGORIES:Resident Events
ATTACH;FMTTYPE=image/jpeg:https://www.pfh.org.uk/wp-content/uploads/2024/02/people-playing-bingo.jpg
GEO:53.7775159;-0.3787561
X-APPLE-STRUCTURED-LOCATION;VALUE=URI;X-ADDRESS=Westgarth Avenue Westgarth Avenue Hull HU6 8LS United Kingdom;X-APPLE-RADIUS=500;X-TITLE=Westgarth Avenue:geo:-0.3787561,53.7775159
END:VEVENT
BEGIN:VEVENT
DTSTART;TZID=Europe/London:20290815T140000
DTEND;TZID=Europe/London:20290815T160000
DTSTAMP:20260420T150513
CREATED:20240221T142537Z
LAST-MODIFIED:20240815T135223Z
UID:10009809-1881496800-1881504000@www.pfh.org.uk
SUMMARY:Social Afternoon and Bingo
DESCRIPTION:Contact Mary 07939 582 464
URL:https://www.pfh.org.uk/event/social-afternoon-and-bingo/2029-08-15/
LOCATION:Westgarth Avenue\, Westgarth Avenue\, Hull\, HU6 8LS\, United Kingdom
CATEGORIES:Resident Events
ATTACH;FMTTYPE=image/jpeg:https://www.pfh.org.uk/wp-content/uploads/2024/02/people-playing-bingo.jpg
GEO:53.7775159;-0.3787561
X-APPLE-STRUCTURED-LOCATION;VALUE=URI;X-ADDRESS=Westgarth Avenue Westgarth Avenue Hull HU6 8LS United Kingdom;X-APPLE-RADIUS=500;X-TITLE=Westgarth Avenue:geo:-0.3787561,53.7775159
END:VEVENT
END:VCALENDAR