BEGIN:VCALENDAR
VERSION:2.0
PRODID:-//PFH Pickering &amp; Ferens Homes - ECPv6.15.20//NONSGML v1.0//EN
CALSCALE:GREGORIAN
METHOD:PUBLISH
X-WR-CALNAME:PFH Pickering &amp; Ferens Homes
X-ORIGINAL-URL:https://www.pfh.org.uk
X-WR-CALDESC:Events for PFH Pickering &amp; Ferens Homes
REFRESH-INTERVAL;VALUE=DURATION:PT1H
X-Robots-Tag:noindex
X-PUBLISHED-TTL:PT1H
BEGIN:VTIMEZONE
TZID:Europe/London
BEGIN:DAYLIGHT
TZOFFSETFROM:+0000
TZOFFSETTO:+0100
TZNAME:BST
DTSTART:20240331T010000
END:DAYLIGHT
BEGIN:STANDARD
TZOFFSETFROM:+0100
TZOFFSETTO:+0000
TZNAME:GMT
DTSTART:20241027T010000
END:STANDARD
BEGIN:DAYLIGHT
TZOFFSETFROM:+0000
TZOFFSETTO:+0100
TZNAME:BST
DTSTART:20250330T010000
END:DAYLIGHT
BEGIN:STANDARD
TZOFFSETFROM:+0100
TZOFFSETTO:+0000
TZNAME:GMT
DTSTART:20251026T010000
END:STANDARD
BEGIN:DAYLIGHT
TZOFFSETFROM:+0000
TZOFFSETTO:+0100
TZNAME:BST
DTSTART:20260329T010000
END:DAYLIGHT
BEGIN:STANDARD
TZOFFSETFROM:+0100
TZOFFSETTO:+0000
TZNAME:GMT
DTSTART:20261025T010000
END:STANDARD
END:VTIMEZONE
BEGIN:VEVENT
DTSTART;TZID=Europe/London:20251029T140000
DTEND;TZID=Europe/London:20251029T160000
DTSTAMP:20260421T000253
CREATED:20240221T142537Z
LAST-MODIFIED:20240815T135223Z
UID:10009611-1761746400-1761753600@www.pfh.org.uk
SUMMARY:Social Afternoon and Bingo
DESCRIPTION:Contact Mary 07939 582 464
URL:https://www.pfh.org.uk/event/social-afternoon-and-bingo/2025-10-29/
LOCATION:Westgarth Avenue\, Westgarth Avenue\, Hull\, HU6 8LS\, United Kingdom
CATEGORIES:Resident Events
ATTACH;FMTTYPE=image/jpeg:https://www.pfh.org.uk/wp-content/uploads/2024/02/people-playing-bingo.jpg
GEO:53.7775159;-0.3787561
X-APPLE-STRUCTURED-LOCATION;VALUE=URI;X-ADDRESS=Westgarth Avenue Westgarth Avenue Hull HU6 8LS United Kingdom;X-APPLE-RADIUS=500;X-TITLE=Westgarth Avenue:geo:-0.3787561,53.7775159
END:VEVENT
BEGIN:VEVENT
DTSTART;TZID=Europe/London:20251022T140000
DTEND;TZID=Europe/London:20251022T160000
DTSTAMP:20260421T000253
CREATED:20240221T142537Z
LAST-MODIFIED:20240815T135223Z
UID:10009610-1761141600-1761148800@www.pfh.org.uk
SUMMARY:Social Afternoon and Bingo
DESCRIPTION:Contact Mary 07939 582 464
URL:https://www.pfh.org.uk/event/social-afternoon-and-bingo/2025-10-22/
LOCATION:Westgarth Avenue\, Westgarth Avenue\, Hull\, HU6 8LS\, United Kingdom
CATEGORIES:Resident Events
ATTACH;FMTTYPE=image/jpeg:https://www.pfh.org.uk/wp-content/uploads/2024/02/people-playing-bingo.jpg
GEO:53.7775159;-0.3787561
X-APPLE-STRUCTURED-LOCATION;VALUE=URI;X-ADDRESS=Westgarth Avenue Westgarth Avenue Hull HU6 8LS United Kingdom;X-APPLE-RADIUS=500;X-TITLE=Westgarth Avenue:geo:-0.3787561,53.7775159
END:VEVENT
BEGIN:VEVENT
DTSTART;TZID=Europe/London:20251015T140000
DTEND;TZID=Europe/London:20251015T160000
DTSTAMP:20260421T000253
CREATED:20240221T142537Z
LAST-MODIFIED:20240815T135223Z
UID:10009609-1760536800-1760544000@www.pfh.org.uk
SUMMARY:Social Afternoon and Bingo
DESCRIPTION:Contact Mary 07939 582 464
URL:https://www.pfh.org.uk/event/social-afternoon-and-bingo/2025-10-15/
LOCATION:Westgarth Avenue\, Westgarth Avenue\, Hull\, HU6 8LS\, United Kingdom
CATEGORIES:Resident Events
ATTACH;FMTTYPE=image/jpeg:https://www.pfh.org.uk/wp-content/uploads/2024/02/people-playing-bingo.jpg
GEO:53.7775159;-0.3787561
X-APPLE-STRUCTURED-LOCATION;VALUE=URI;X-ADDRESS=Westgarth Avenue Westgarth Avenue Hull HU6 8LS United Kingdom;X-APPLE-RADIUS=500;X-TITLE=Westgarth Avenue:geo:-0.3787561,53.7775159
END:VEVENT
BEGIN:VEVENT
DTSTART;TZID=Europe/London:20251008T140000
DTEND;TZID=Europe/London:20251008T160000
DTSTAMP:20260421T000253
CREATED:20240221T142537Z
LAST-MODIFIED:20240815T135223Z
UID:10009608-1759932000-1759939200@www.pfh.org.uk
SUMMARY:Social Afternoon and Bingo
DESCRIPTION:Contact Mary 07939 582 464
URL:https://www.pfh.org.uk/event/social-afternoon-and-bingo/2025-10-08/
LOCATION:Westgarth Avenue\, Westgarth Avenue\, Hull\, HU6 8LS\, United Kingdom
CATEGORIES:Resident Events
ATTACH;FMTTYPE=image/jpeg:https://www.pfh.org.uk/wp-content/uploads/2024/02/people-playing-bingo.jpg
GEO:53.7775159;-0.3787561
X-APPLE-STRUCTURED-LOCATION;VALUE=URI;X-ADDRESS=Westgarth Avenue Westgarth Avenue Hull HU6 8LS United Kingdom;X-APPLE-RADIUS=500;X-TITLE=Westgarth Avenue:geo:-0.3787561,53.7775159
END:VEVENT
BEGIN:VEVENT
DTSTART;TZID=Europe/London:20251001T140000
DTEND;TZID=Europe/London:20251001T160000
DTSTAMP:20260421T000253
CREATED:20240221T142537Z
LAST-MODIFIED:20240815T135223Z
UID:10009607-1759327200-1759334400@www.pfh.org.uk
SUMMARY:Social Afternoon and Bingo
DESCRIPTION:Contact Mary 07939 582 464
URL:https://www.pfh.org.uk/event/social-afternoon-and-bingo/2025-10-01/
LOCATION:Westgarth Avenue\, Westgarth Avenue\, Hull\, HU6 8LS\, United Kingdom
CATEGORIES:Resident Events
ATTACH;FMTTYPE=image/jpeg:https://www.pfh.org.uk/wp-content/uploads/2024/02/people-playing-bingo.jpg
GEO:53.7775159;-0.3787561
X-APPLE-STRUCTURED-LOCATION;VALUE=URI;X-ADDRESS=Westgarth Avenue Westgarth Avenue Hull HU6 8LS United Kingdom;X-APPLE-RADIUS=500;X-TITLE=Westgarth Avenue:geo:-0.3787561,53.7775159
END:VEVENT
BEGIN:VEVENT
DTSTART;TZID=Europe/London:20250924T140000
DTEND;TZID=Europe/London:20250924T160000
DTSTAMP:20260421T000253
CREATED:20240221T142537Z
LAST-MODIFIED:20240815T135223Z
UID:10009606-1758722400-1758729600@www.pfh.org.uk
SUMMARY:Social Afternoon and Bingo
DESCRIPTION:Contact Mary 07939 582 464
URL:https://www.pfh.org.uk/event/social-afternoon-and-bingo/2025-09-24/
LOCATION:Westgarth Avenue\, Westgarth Avenue\, Hull\, HU6 8LS\, United Kingdom
CATEGORIES:Resident Events
ATTACH;FMTTYPE=image/jpeg:https://www.pfh.org.uk/wp-content/uploads/2024/02/people-playing-bingo.jpg
GEO:53.7775159;-0.3787561
X-APPLE-STRUCTURED-LOCATION;VALUE=URI;X-ADDRESS=Westgarth Avenue Westgarth Avenue Hull HU6 8LS United Kingdom;X-APPLE-RADIUS=500;X-TITLE=Westgarth Avenue:geo:-0.3787561,53.7775159
END:VEVENT
BEGIN:VEVENT
DTSTART;TZID=Europe/London:20250917T140000
DTEND;TZID=Europe/London:20250917T160000
DTSTAMP:20260421T000253
CREATED:20240221T142537Z
LAST-MODIFIED:20240815T135223Z
UID:10009605-1758117600-1758124800@www.pfh.org.uk
SUMMARY:Social Afternoon and Bingo
DESCRIPTION:Contact Mary 07939 582 464
URL:https://www.pfh.org.uk/event/social-afternoon-and-bingo/2025-09-17/
LOCATION:Westgarth Avenue\, Westgarth Avenue\, Hull\, HU6 8LS\, United Kingdom
CATEGORIES:Resident Events
ATTACH;FMTTYPE=image/jpeg:https://www.pfh.org.uk/wp-content/uploads/2024/02/people-playing-bingo.jpg
GEO:53.7775159;-0.3787561
X-APPLE-STRUCTURED-LOCATION;VALUE=URI;X-ADDRESS=Westgarth Avenue Westgarth Avenue Hull HU6 8LS United Kingdom;X-APPLE-RADIUS=500;X-TITLE=Westgarth Avenue:geo:-0.3787561,53.7775159
END:VEVENT
BEGIN:VEVENT
DTSTART;TZID=Europe/London:20250910T140000
DTEND;TZID=Europe/London:20250910T160000
DTSTAMP:20260421T000253
CREATED:20240221T142537Z
LAST-MODIFIED:20240815T135223Z
UID:10009604-1757512800-1757520000@www.pfh.org.uk
SUMMARY:Social Afternoon and Bingo
DESCRIPTION:Contact Mary 07939 582 464
URL:https://www.pfh.org.uk/event/social-afternoon-and-bingo/2025-09-10/
LOCATION:Westgarth Avenue\, Westgarth Avenue\, Hull\, HU6 8LS\, United Kingdom
CATEGORIES:Resident Events
ATTACH;FMTTYPE=image/jpeg:https://www.pfh.org.uk/wp-content/uploads/2024/02/people-playing-bingo.jpg
GEO:53.7775159;-0.3787561
X-APPLE-STRUCTURED-LOCATION;VALUE=URI;X-ADDRESS=Westgarth Avenue Westgarth Avenue Hull HU6 8LS United Kingdom;X-APPLE-RADIUS=500;X-TITLE=Westgarth Avenue:geo:-0.3787561,53.7775159
END:VEVENT
BEGIN:VEVENT
DTSTART;TZID=Europe/London:20250903T140000
DTEND;TZID=Europe/London:20250903T160000
DTSTAMP:20260421T000253
CREATED:20240221T142537Z
LAST-MODIFIED:20240815T135223Z
UID:10009603-1756908000-1756915200@www.pfh.org.uk
SUMMARY:Social Afternoon and Bingo
DESCRIPTION:Contact Mary 07939 582 464
URL:https://www.pfh.org.uk/event/social-afternoon-and-bingo/2025-09-03/
LOCATION:Westgarth Avenue\, Westgarth Avenue\, Hull\, HU6 8LS\, United Kingdom
CATEGORIES:Resident Events
ATTACH;FMTTYPE=image/jpeg:https://www.pfh.org.uk/wp-content/uploads/2024/02/people-playing-bingo.jpg
GEO:53.7775159;-0.3787561
X-APPLE-STRUCTURED-LOCATION;VALUE=URI;X-ADDRESS=Westgarth Avenue Westgarth Avenue Hull HU6 8LS United Kingdom;X-APPLE-RADIUS=500;X-TITLE=Westgarth Avenue:geo:-0.3787561,53.7775159
END:VEVENT
BEGIN:VEVENT
DTSTART;TZID=Europe/London:20250827T140000
DTEND;TZID=Europe/London:20250827T160000
DTSTAMP:20260421T000253
CREATED:20240221T142537Z
LAST-MODIFIED:20240815T135223Z
UID:10009602-1756303200-1756310400@www.pfh.org.uk
SUMMARY:Social Afternoon and Bingo
DESCRIPTION:Contact Mary 07939 582 464
URL:https://www.pfh.org.uk/event/social-afternoon-and-bingo/2025-08-27/
LOCATION:Westgarth Avenue\, Westgarth Avenue\, Hull\, HU6 8LS\, United Kingdom
CATEGORIES:Resident Events
ATTACH;FMTTYPE=image/jpeg:https://www.pfh.org.uk/wp-content/uploads/2024/02/people-playing-bingo.jpg
GEO:53.7775159;-0.3787561
X-APPLE-STRUCTURED-LOCATION;VALUE=URI;X-ADDRESS=Westgarth Avenue Westgarth Avenue Hull HU6 8LS United Kingdom;X-APPLE-RADIUS=500;X-TITLE=Westgarth Avenue:geo:-0.3787561,53.7775159
END:VEVENT
BEGIN:VEVENT
DTSTART;TZID=Europe/London:20250820T140000
DTEND;TZID=Europe/London:20250820T160000
DTSTAMP:20260421T000253
CREATED:20240221T142537Z
LAST-MODIFIED:20240815T135223Z
UID:10009601-1755698400-1755705600@www.pfh.org.uk
SUMMARY:Social Afternoon and Bingo
DESCRIPTION:Contact Mary 07939 582 464
URL:https://www.pfh.org.uk/event/social-afternoon-and-bingo/2025-08-20/
LOCATION:Westgarth Avenue\, Westgarth Avenue\, Hull\, HU6 8LS\, United Kingdom
CATEGORIES:Resident Events
ATTACH;FMTTYPE=image/jpeg:https://www.pfh.org.uk/wp-content/uploads/2024/02/people-playing-bingo.jpg
GEO:53.7775159;-0.3787561
X-APPLE-STRUCTURED-LOCATION;VALUE=URI;X-ADDRESS=Westgarth Avenue Westgarth Avenue Hull HU6 8LS United Kingdom;X-APPLE-RADIUS=500;X-TITLE=Westgarth Avenue:geo:-0.3787561,53.7775159
END:VEVENT
BEGIN:VEVENT
DTSTART;TZID=Europe/London:20250813T140000
DTEND;TZID=Europe/London:20250813T160000
DTSTAMP:20260421T000253
CREATED:20240221T142537Z
LAST-MODIFIED:20240815T135223Z
UID:10009600-1755093600-1755100800@www.pfh.org.uk
SUMMARY:Social Afternoon and Bingo
DESCRIPTION:Contact Mary 07939 582 464
URL:https://www.pfh.org.uk/event/social-afternoon-and-bingo/2025-08-13/
LOCATION:Westgarth Avenue\, Westgarth Avenue\, Hull\, HU6 8LS\, United Kingdom
CATEGORIES:Resident Events
ATTACH;FMTTYPE=image/jpeg:https://www.pfh.org.uk/wp-content/uploads/2024/02/people-playing-bingo.jpg
GEO:53.7775159;-0.3787561
X-APPLE-STRUCTURED-LOCATION;VALUE=URI;X-ADDRESS=Westgarth Avenue Westgarth Avenue Hull HU6 8LS United Kingdom;X-APPLE-RADIUS=500;X-TITLE=Westgarth Avenue:geo:-0.3787561,53.7775159
END:VEVENT
BEGIN:VEVENT
DTSTART;TZID=Europe/London:20250806T140000
DTEND;TZID=Europe/London:20250806T160000
DTSTAMP:20260421T000253
CREATED:20240221T142537Z
LAST-MODIFIED:20240815T135223Z
UID:10009599-1754488800-1754496000@www.pfh.org.uk
SUMMARY:Social Afternoon and Bingo
DESCRIPTION:Contact Mary 07939 582 464
URL:https://www.pfh.org.uk/event/social-afternoon-and-bingo/2025-08-06/
LOCATION:Westgarth Avenue\, Westgarth Avenue\, Hull\, HU6 8LS\, United Kingdom
CATEGORIES:Resident Events
ATTACH;FMTTYPE=image/jpeg:https://www.pfh.org.uk/wp-content/uploads/2024/02/people-playing-bingo.jpg
GEO:53.7775159;-0.3787561
X-APPLE-STRUCTURED-LOCATION;VALUE=URI;X-ADDRESS=Westgarth Avenue Westgarth Avenue Hull HU6 8LS United Kingdom;X-APPLE-RADIUS=500;X-TITLE=Westgarth Avenue:geo:-0.3787561,53.7775159
END:VEVENT
BEGIN:VEVENT
DTSTART;TZID=Europe/London:20250730T140000
DTEND;TZID=Europe/London:20250730T160000
DTSTAMP:20260421T000253
CREATED:20240221T142537Z
LAST-MODIFIED:20240815T135223Z
UID:10009598-1753884000-1753891200@www.pfh.org.uk
SUMMARY:Social Afternoon and Bingo
DESCRIPTION:Contact Mary 07939 582 464
URL:https://www.pfh.org.uk/event/social-afternoon-and-bingo/2025-07-30/
LOCATION:Westgarth Avenue\, Westgarth Avenue\, Hull\, HU6 8LS\, United Kingdom
CATEGORIES:Resident Events
ATTACH;FMTTYPE=image/jpeg:https://www.pfh.org.uk/wp-content/uploads/2024/02/people-playing-bingo.jpg
GEO:53.7775159;-0.3787561
X-APPLE-STRUCTURED-LOCATION;VALUE=URI;X-ADDRESS=Westgarth Avenue Westgarth Avenue Hull HU6 8LS United Kingdom;X-APPLE-RADIUS=500;X-TITLE=Westgarth Avenue:geo:-0.3787561,53.7775159
END:VEVENT
BEGIN:VEVENT
DTSTART;TZID=Europe/London:20250723T140000
DTEND;TZID=Europe/London:20250723T160000
DTSTAMP:20260421T000253
CREATED:20240221T142537Z
LAST-MODIFIED:20240815T135223Z
UID:10009597-1753279200-1753286400@www.pfh.org.uk
SUMMARY:Social Afternoon and Bingo
DESCRIPTION:Contact Mary 07939 582 464
URL:https://www.pfh.org.uk/event/social-afternoon-and-bingo/2025-07-23/
LOCATION:Westgarth Avenue\, Westgarth Avenue\, Hull\, HU6 8LS\, United Kingdom
CATEGORIES:Resident Events
ATTACH;FMTTYPE=image/jpeg:https://www.pfh.org.uk/wp-content/uploads/2024/02/people-playing-bingo.jpg
GEO:53.7775159;-0.3787561
X-APPLE-STRUCTURED-LOCATION;VALUE=URI;X-ADDRESS=Westgarth Avenue Westgarth Avenue Hull HU6 8LS United Kingdom;X-APPLE-RADIUS=500;X-TITLE=Westgarth Avenue:geo:-0.3787561,53.7775159
END:VEVENT
BEGIN:VEVENT
DTSTART;TZID=Europe/London:20250716T140000
DTEND;TZID=Europe/London:20250716T160000
DTSTAMP:20260421T000253
CREATED:20240221T142537Z
LAST-MODIFIED:20240815T135223Z
UID:10009596-1752674400-1752681600@www.pfh.org.uk
SUMMARY:Social Afternoon and Bingo
DESCRIPTION:Contact Mary 07939 582 464
URL:https://www.pfh.org.uk/event/social-afternoon-and-bingo/2025-07-16/
LOCATION:Westgarth Avenue\, Westgarth Avenue\, Hull\, HU6 8LS\, United Kingdom
CATEGORIES:Resident Events
ATTACH;FMTTYPE=image/jpeg:https://www.pfh.org.uk/wp-content/uploads/2024/02/people-playing-bingo.jpg
GEO:53.7775159;-0.3787561
X-APPLE-STRUCTURED-LOCATION;VALUE=URI;X-ADDRESS=Westgarth Avenue Westgarth Avenue Hull HU6 8LS United Kingdom;X-APPLE-RADIUS=500;X-TITLE=Westgarth Avenue:geo:-0.3787561,53.7775159
END:VEVENT
BEGIN:VEVENT
DTSTART;TZID=Europe/London:20250709T140000
DTEND;TZID=Europe/London:20250709T160000
DTSTAMP:20260421T000253
CREATED:20240221T142537Z
LAST-MODIFIED:20240815T135223Z
UID:10009595-1752069600-1752076800@www.pfh.org.uk
SUMMARY:Social Afternoon and Bingo
DESCRIPTION:Contact Mary 07939 582 464
URL:https://www.pfh.org.uk/event/social-afternoon-and-bingo/2025-07-09/
LOCATION:Westgarth Avenue\, Westgarth Avenue\, Hull\, HU6 8LS\, United Kingdom
CATEGORIES:Resident Events
ATTACH;FMTTYPE=image/jpeg:https://www.pfh.org.uk/wp-content/uploads/2024/02/people-playing-bingo.jpg
GEO:53.7775159;-0.3787561
X-APPLE-STRUCTURED-LOCATION;VALUE=URI;X-ADDRESS=Westgarth Avenue Westgarth Avenue Hull HU6 8LS United Kingdom;X-APPLE-RADIUS=500;X-TITLE=Westgarth Avenue:geo:-0.3787561,53.7775159
END:VEVENT
BEGIN:VEVENT
DTSTART;TZID=Europe/London:20250702T140000
DTEND;TZID=Europe/London:20250702T160000
DTSTAMP:20260421T000253
CREATED:20240221T142537Z
LAST-MODIFIED:20240815T135223Z
UID:10009594-1751464800-1751472000@www.pfh.org.uk
SUMMARY:Social Afternoon and Bingo
DESCRIPTION:Contact Mary 07939 582 464
URL:https://www.pfh.org.uk/event/social-afternoon-and-bingo/2025-07-02/
LOCATION:Westgarth Avenue\, Westgarth Avenue\, Hull\, HU6 8LS\, United Kingdom
CATEGORIES:Resident Events
ATTACH;FMTTYPE=image/jpeg:https://www.pfh.org.uk/wp-content/uploads/2024/02/people-playing-bingo.jpg
GEO:53.7775159;-0.3787561
X-APPLE-STRUCTURED-LOCATION;VALUE=URI;X-ADDRESS=Westgarth Avenue Westgarth Avenue Hull HU6 8LS United Kingdom;X-APPLE-RADIUS=500;X-TITLE=Westgarth Avenue:geo:-0.3787561,53.7775159
END:VEVENT
BEGIN:VEVENT
DTSTART;TZID=Europe/London:20250625T140000
DTEND;TZID=Europe/London:20250625T160000
DTSTAMP:20260421T000253
CREATED:20240221T142537Z
LAST-MODIFIED:20240815T135223Z
UID:10009593-1750860000-1750867200@www.pfh.org.uk
SUMMARY:Social Afternoon and Bingo
DESCRIPTION:Contact Mary 07939 582 464
URL:https://www.pfh.org.uk/event/social-afternoon-and-bingo/2025-06-25/
LOCATION:Westgarth Avenue\, Westgarth Avenue\, Hull\, HU6 8LS\, United Kingdom
CATEGORIES:Resident Events
ATTACH;FMTTYPE=image/jpeg:https://www.pfh.org.uk/wp-content/uploads/2024/02/people-playing-bingo.jpg
GEO:53.7775159;-0.3787561
X-APPLE-STRUCTURED-LOCATION;VALUE=URI;X-ADDRESS=Westgarth Avenue Westgarth Avenue Hull HU6 8LS United Kingdom;X-APPLE-RADIUS=500;X-TITLE=Westgarth Avenue:geo:-0.3787561,53.7775159
END:VEVENT
BEGIN:VEVENT
DTSTART;TZID=Europe/London:20250618T140000
DTEND;TZID=Europe/London:20250618T160000
DTSTAMP:20260421T000253
CREATED:20240221T142537Z
LAST-MODIFIED:20240815T135223Z
UID:10009592-1750255200-1750262400@www.pfh.org.uk
SUMMARY:Social Afternoon and Bingo
DESCRIPTION:Contact Mary 07939 582 464
URL:https://www.pfh.org.uk/event/social-afternoon-and-bingo/2025-06-18/
LOCATION:Westgarth Avenue\, Westgarth Avenue\, Hull\, HU6 8LS\, United Kingdom
CATEGORIES:Resident Events
ATTACH;FMTTYPE=image/jpeg:https://www.pfh.org.uk/wp-content/uploads/2024/02/people-playing-bingo.jpg
GEO:53.7775159;-0.3787561
X-APPLE-STRUCTURED-LOCATION;VALUE=URI;X-ADDRESS=Westgarth Avenue Westgarth Avenue Hull HU6 8LS United Kingdom;X-APPLE-RADIUS=500;X-TITLE=Westgarth Avenue:geo:-0.3787561,53.7775159
END:VEVENT
BEGIN:VEVENT
DTSTART;TZID=Europe/London:20250611T140000
DTEND;TZID=Europe/London:20250611T160000
DTSTAMP:20260421T000253
CREATED:20240221T142537Z
LAST-MODIFIED:20240815T135223Z
UID:10009591-1749650400-1749657600@www.pfh.org.uk
SUMMARY:Social Afternoon and Bingo
DESCRIPTION:Contact Mary 07939 582 464
URL:https://www.pfh.org.uk/event/social-afternoon-and-bingo/2025-06-11/
LOCATION:Westgarth Avenue\, Westgarth Avenue\, Hull\, HU6 8LS\, United Kingdom
CATEGORIES:Resident Events
ATTACH;FMTTYPE=image/jpeg:https://www.pfh.org.uk/wp-content/uploads/2024/02/people-playing-bingo.jpg
GEO:53.7775159;-0.3787561
X-APPLE-STRUCTURED-LOCATION;VALUE=URI;X-ADDRESS=Westgarth Avenue Westgarth Avenue Hull HU6 8LS United Kingdom;X-APPLE-RADIUS=500;X-TITLE=Westgarth Avenue:geo:-0.3787561,53.7775159
END:VEVENT
BEGIN:VEVENT
DTSTART;TZID=Europe/London:20250604T140000
DTEND;TZID=Europe/London:20250604T160000
DTSTAMP:20260421T000253
CREATED:20240221T142537Z
LAST-MODIFIED:20240815T135223Z
UID:10009590-1749045600-1749052800@www.pfh.org.uk
SUMMARY:Social Afternoon and Bingo
DESCRIPTION:Contact Mary 07939 582 464
URL:https://www.pfh.org.uk/event/social-afternoon-and-bingo/2025-06-04/
LOCATION:Westgarth Avenue\, Westgarth Avenue\, Hull\, HU6 8LS\, United Kingdom
CATEGORIES:Resident Events
ATTACH;FMTTYPE=image/jpeg:https://www.pfh.org.uk/wp-content/uploads/2024/02/people-playing-bingo.jpg
GEO:53.7775159;-0.3787561
X-APPLE-STRUCTURED-LOCATION;VALUE=URI;X-ADDRESS=Westgarth Avenue Westgarth Avenue Hull HU6 8LS United Kingdom;X-APPLE-RADIUS=500;X-TITLE=Westgarth Avenue:geo:-0.3787561,53.7775159
END:VEVENT
BEGIN:VEVENT
DTSTART;TZID=Europe/London:20250528T140000
DTEND;TZID=Europe/London:20250528T160000
DTSTAMP:20260421T000253
CREATED:20240221T142537Z
LAST-MODIFIED:20240815T135223Z
UID:10009589-1748440800-1748448000@www.pfh.org.uk
SUMMARY:Social Afternoon and Bingo
DESCRIPTION:Contact Mary 07939 582 464
URL:https://www.pfh.org.uk/event/social-afternoon-and-bingo/2025-05-28/
LOCATION:Westgarth Avenue\, Westgarth Avenue\, Hull\, HU6 8LS\, United Kingdom
CATEGORIES:Resident Events
ATTACH;FMTTYPE=image/jpeg:https://www.pfh.org.uk/wp-content/uploads/2024/02/people-playing-bingo.jpg
GEO:53.7775159;-0.3787561
X-APPLE-STRUCTURED-LOCATION;VALUE=URI;X-ADDRESS=Westgarth Avenue Westgarth Avenue Hull HU6 8LS United Kingdom;X-APPLE-RADIUS=500;X-TITLE=Westgarth Avenue:geo:-0.3787561,53.7775159
END:VEVENT
BEGIN:VEVENT
DTSTART;TZID=Europe/London:20250521T140000
DTEND;TZID=Europe/London:20250521T160000
DTSTAMP:20260421T000253
CREATED:20240221T142537Z
LAST-MODIFIED:20240815T135223Z
UID:10009588-1747836000-1747843200@www.pfh.org.uk
SUMMARY:Social Afternoon and Bingo
DESCRIPTION:Contact Mary 07939 582 464
URL:https://www.pfh.org.uk/event/social-afternoon-and-bingo/2025-05-21/
LOCATION:Westgarth Avenue\, Westgarth Avenue\, Hull\, HU6 8LS\, United Kingdom
CATEGORIES:Resident Events
ATTACH;FMTTYPE=image/jpeg:https://www.pfh.org.uk/wp-content/uploads/2024/02/people-playing-bingo.jpg
GEO:53.7775159;-0.3787561
X-APPLE-STRUCTURED-LOCATION;VALUE=URI;X-ADDRESS=Westgarth Avenue Westgarth Avenue Hull HU6 8LS United Kingdom;X-APPLE-RADIUS=500;X-TITLE=Westgarth Avenue:geo:-0.3787561,53.7775159
END:VEVENT
BEGIN:VEVENT
DTSTART;TZID=Europe/London:20250514T140000
DTEND;TZID=Europe/London:20250514T160000
DTSTAMP:20260421T000253
CREATED:20240221T142537Z
LAST-MODIFIED:20240815T135223Z
UID:10009587-1747231200-1747238400@www.pfh.org.uk
SUMMARY:Social Afternoon and Bingo
DESCRIPTION:Contact Mary 07939 582 464
URL:https://www.pfh.org.uk/event/social-afternoon-and-bingo/2025-05-14/
LOCATION:Westgarth Avenue\, Westgarth Avenue\, Hull\, HU6 8LS\, United Kingdom
CATEGORIES:Resident Events
ATTACH;FMTTYPE=image/jpeg:https://www.pfh.org.uk/wp-content/uploads/2024/02/people-playing-bingo.jpg
GEO:53.7775159;-0.3787561
X-APPLE-STRUCTURED-LOCATION;VALUE=URI;X-ADDRESS=Westgarth Avenue Westgarth Avenue Hull HU6 8LS United Kingdom;X-APPLE-RADIUS=500;X-TITLE=Westgarth Avenue:geo:-0.3787561,53.7775159
END:VEVENT
BEGIN:VEVENT
DTSTART;TZID=Europe/London:20250507T140000
DTEND;TZID=Europe/London:20250507T160000
DTSTAMP:20260421T000253
CREATED:20240221T142537Z
LAST-MODIFIED:20240815T135223Z
UID:10009586-1746626400-1746633600@www.pfh.org.uk
SUMMARY:Social Afternoon and Bingo
DESCRIPTION:Contact Mary 07939 582 464
URL:https://www.pfh.org.uk/event/social-afternoon-and-bingo/2025-05-07/
LOCATION:Westgarth Avenue\, Westgarth Avenue\, Hull\, HU6 8LS\, United Kingdom
CATEGORIES:Resident Events
ATTACH;FMTTYPE=image/jpeg:https://www.pfh.org.uk/wp-content/uploads/2024/02/people-playing-bingo.jpg
GEO:53.7775159;-0.3787561
X-APPLE-STRUCTURED-LOCATION;VALUE=URI;X-ADDRESS=Westgarth Avenue Westgarth Avenue Hull HU6 8LS United Kingdom;X-APPLE-RADIUS=500;X-TITLE=Westgarth Avenue:geo:-0.3787561,53.7775159
END:VEVENT
BEGIN:VEVENT
DTSTART;TZID=Europe/London:20250430T140000
DTEND;TZID=Europe/London:20250430T160000
DTSTAMP:20260421T000253
CREATED:20240221T142537Z
LAST-MODIFIED:20240815T135223Z
UID:10009585-1746021600-1746028800@www.pfh.org.uk
SUMMARY:Social Afternoon and Bingo
DESCRIPTION:Contact Mary 07939 582 464
URL:https://www.pfh.org.uk/event/social-afternoon-and-bingo/2025-04-30/
LOCATION:Westgarth Avenue\, Westgarth Avenue\, Hull\, HU6 8LS\, United Kingdom
CATEGORIES:Resident Events
ATTACH;FMTTYPE=image/jpeg:https://www.pfh.org.uk/wp-content/uploads/2024/02/people-playing-bingo.jpg
GEO:53.7775159;-0.3787561
X-APPLE-STRUCTURED-LOCATION;VALUE=URI;X-ADDRESS=Westgarth Avenue Westgarth Avenue Hull HU6 8LS United Kingdom;X-APPLE-RADIUS=500;X-TITLE=Westgarth Avenue:geo:-0.3787561,53.7775159
END:VEVENT
BEGIN:VEVENT
DTSTART;TZID=Europe/London:20250423T140000
DTEND;TZID=Europe/London:20250423T160000
DTSTAMP:20260421T000253
CREATED:20240221T142537Z
LAST-MODIFIED:20240815T135223Z
UID:10009584-1745416800-1745424000@www.pfh.org.uk
SUMMARY:Social Afternoon and Bingo
DESCRIPTION:Contact Mary 07939 582 464
URL:https://www.pfh.org.uk/event/social-afternoon-and-bingo/2025-04-23/
LOCATION:Westgarth Avenue\, Westgarth Avenue\, Hull\, HU6 8LS\, United Kingdom
CATEGORIES:Resident Events
ATTACH;FMTTYPE=image/jpeg:https://www.pfh.org.uk/wp-content/uploads/2024/02/people-playing-bingo.jpg
GEO:53.7775159;-0.3787561
X-APPLE-STRUCTURED-LOCATION;VALUE=URI;X-ADDRESS=Westgarth Avenue Westgarth Avenue Hull HU6 8LS United Kingdom;X-APPLE-RADIUS=500;X-TITLE=Westgarth Avenue:geo:-0.3787561,53.7775159
END:VEVENT
BEGIN:VEVENT
DTSTART;TZID=Europe/London:20250416T140000
DTEND;TZID=Europe/London:20250416T160000
DTSTAMP:20260421T000253
CREATED:20240221T142537Z
LAST-MODIFIED:20240815T135223Z
UID:10009583-1744812000-1744819200@www.pfh.org.uk
SUMMARY:Social Afternoon and Bingo
DESCRIPTION:Contact Mary 07939 582 464
URL:https://www.pfh.org.uk/event/social-afternoon-and-bingo/2025-04-16/
LOCATION:Westgarth Avenue\, Westgarth Avenue\, Hull\, HU6 8LS\, United Kingdom
CATEGORIES:Resident Events
ATTACH;FMTTYPE=image/jpeg:https://www.pfh.org.uk/wp-content/uploads/2024/02/people-playing-bingo.jpg
GEO:53.7775159;-0.3787561
X-APPLE-STRUCTURED-LOCATION;VALUE=URI;X-ADDRESS=Westgarth Avenue Westgarth Avenue Hull HU6 8LS United Kingdom;X-APPLE-RADIUS=500;X-TITLE=Westgarth Avenue:geo:-0.3787561,53.7775159
END:VEVENT
BEGIN:VEVENT
DTSTART;TZID=Europe/London:20250409T140000
DTEND;TZID=Europe/London:20250409T160000
DTSTAMP:20260421T000253
CREATED:20240221T142537Z
LAST-MODIFIED:20240815T135223Z
UID:10009582-1744207200-1744214400@www.pfh.org.uk
SUMMARY:Social Afternoon and Bingo
DESCRIPTION:Contact Mary 07939 582 464
URL:https://www.pfh.org.uk/event/social-afternoon-and-bingo/2025-04-09/
LOCATION:Westgarth Avenue\, Westgarth Avenue\, Hull\, HU6 8LS\, United Kingdom
CATEGORIES:Resident Events
ATTACH;FMTTYPE=image/jpeg:https://www.pfh.org.uk/wp-content/uploads/2024/02/people-playing-bingo.jpg
GEO:53.7775159;-0.3787561
X-APPLE-STRUCTURED-LOCATION;VALUE=URI;X-ADDRESS=Westgarth Avenue Westgarth Avenue Hull HU6 8LS United Kingdom;X-APPLE-RADIUS=500;X-TITLE=Westgarth Avenue:geo:-0.3787561,53.7775159
END:VEVENT
END:VCALENDAR