BEGIN:VCALENDAR
VERSION:2.0
PRODID:-//PFH Pickering &amp; Ferens Homes - ECPv6.15.20//NONSGML v1.0//EN
CALSCALE:GREGORIAN
METHOD:PUBLISH
X-ORIGINAL-URL:https://www.pfh.org.uk
X-WR-CALDESC:Events for PFH Pickering &amp; Ferens Homes
REFRESH-INTERVAL;VALUE=DURATION:PT1H
X-Robots-Tag:noindex
X-PUBLISHED-TTL:PT1H
BEGIN:VTIMEZONE
TZID:Europe/London
BEGIN:DAYLIGHT
TZOFFSETFROM:+0000
TZOFFSETTO:+0100
TZNAME:BST
DTSTART:20240331T010000
END:DAYLIGHT
BEGIN:STANDARD
TZOFFSETFROM:+0100
TZOFFSETTO:+0000
TZNAME:GMT
DTSTART:20241027T010000
END:STANDARD
BEGIN:DAYLIGHT
TZOFFSETFROM:+0000
TZOFFSETTO:+0100
TZNAME:BST
DTSTART:20250330T010000
END:DAYLIGHT
BEGIN:STANDARD
TZOFFSETFROM:+0100
TZOFFSETTO:+0000
TZNAME:GMT
DTSTART:20251026T010000
END:STANDARD
BEGIN:DAYLIGHT
TZOFFSETFROM:+0000
TZOFFSETTO:+0100
TZNAME:BST
DTSTART:20260329T010000
END:DAYLIGHT
BEGIN:STANDARD
TZOFFSETFROM:+0100
TZOFFSETTO:+0000
TZNAME:GMT
DTSTART:20261025T010000
END:STANDARD
BEGIN:DAYLIGHT
TZOFFSETFROM:+0000
TZOFFSETTO:+0100
TZNAME:BST
DTSTART:20270328T010000
END:DAYLIGHT
BEGIN:STANDARD
TZOFFSETFROM:+0100
TZOFFSETTO:+0000
TZNAME:GMT
DTSTART:20271031T010000
END:STANDARD
END:VTIMEZONE
BEGIN:VEVENT
DTSTART;TZID=Europe/London:20260415T090000
DTEND;TZID=Europe/London:20260415T100000
DTSTAMP:20260420T163435
CREATED:20240815T140611Z
LAST-MODIFIED:20260119T150151Z
UID:10009890-1776243600-1776247200@www.pfh.org.uk
SUMMARY:Hairdressers Service
DESCRIPTION:Contact Scheme Manager for appointments
URL:https://www.pfh.org.uk/event/hairdressers-service-3/2026-04-15/
LOCATION:Ada Holmes\, Ada Holmes Cir\, Hull\, HU6 9PB\, United Kingdom
CATEGORIES:Resident Events
ATTACH;FMTTYPE=image/jpeg:https://www.pfh.org.uk/wp-content/uploads/2024/02/blonde-woman-getting-her-hair-done.jpg
GEO:53.7823313;-0.3719218
X-APPLE-STRUCTURED-LOCATION;VALUE=URI;X-ADDRESS=Ada Holmes Ada Holmes Cir Hull HU6 9PB United Kingdom;X-APPLE-RADIUS=500;X-TITLE=Ada Holmes Cir:geo:-0.3719218,53.7823313
END:VEVENT
BEGIN:VEVENT
DTSTART;TZID=Europe/London:20260408T090000
DTEND;TZID=Europe/London:20260408T100000
DTSTAMP:20260420T163435
CREATED:20240815T140611Z
LAST-MODIFIED:20260119T150151Z
UID:10009889-1775638800-1775642400@www.pfh.org.uk
SUMMARY:Hairdressers Service
DESCRIPTION:Contact Scheme Manager for appointments
URL:https://www.pfh.org.uk/event/hairdressers-service-3/2026-04-08/
LOCATION:Ada Holmes\, Ada Holmes Cir\, Hull\, HU6 9PB\, United Kingdom
CATEGORIES:Resident Events
ATTACH;FMTTYPE=image/jpeg:https://www.pfh.org.uk/wp-content/uploads/2024/02/blonde-woman-getting-her-hair-done.jpg
GEO:53.7823313;-0.3719218
X-APPLE-STRUCTURED-LOCATION;VALUE=URI;X-ADDRESS=Ada Holmes Ada Holmes Cir Hull HU6 9PB United Kingdom;X-APPLE-RADIUS=500;X-TITLE=Ada Holmes Cir:geo:-0.3719218,53.7823313
END:VEVENT
BEGIN:VEVENT
DTSTART;TZID=Europe/London:20260401T090000
DTEND;TZID=Europe/London:20260401T100000
DTSTAMP:20260420T163435
CREATED:20240815T140611Z
LAST-MODIFIED:20260119T150151Z
UID:10009888-1775034000-1775037600@www.pfh.org.uk
SUMMARY:Hairdressers Service
DESCRIPTION:Contact Scheme Manager for appointments
URL:https://www.pfh.org.uk/event/hairdressers-service-3/2026-04-01/
LOCATION:Ada Holmes\, Ada Holmes Cir\, Hull\, HU6 9PB\, United Kingdom
CATEGORIES:Resident Events
ATTACH;FMTTYPE=image/jpeg:https://www.pfh.org.uk/wp-content/uploads/2024/02/blonde-woman-getting-her-hair-done.jpg
GEO:53.7823313;-0.3719218
X-APPLE-STRUCTURED-LOCATION;VALUE=URI;X-ADDRESS=Ada Holmes Ada Holmes Cir Hull HU6 9PB United Kingdom;X-APPLE-RADIUS=500;X-TITLE=Ada Holmes Cir:geo:-0.3719218,53.7823313
END:VEVENT
BEGIN:VEVENT
DTSTART;TZID=Europe/London:20260325T090000
DTEND;TZID=Europe/London:20260325T100000
DTSTAMP:20260420T163435
CREATED:20240815T140611Z
LAST-MODIFIED:20260119T150151Z
UID:10009887-1774429200-1774432800@www.pfh.org.uk
SUMMARY:Hairdressers Service
DESCRIPTION:Contact Scheme Manager for appointments
URL:https://www.pfh.org.uk/event/hairdressers-service-3/2026-03-25/
LOCATION:Ada Holmes\, Ada Holmes Cir\, Hull\, HU6 9PB\, United Kingdom
CATEGORIES:Resident Events
ATTACH;FMTTYPE=image/jpeg:https://www.pfh.org.uk/wp-content/uploads/2024/02/blonde-woman-getting-her-hair-done.jpg
GEO:53.7823313;-0.3719218
X-APPLE-STRUCTURED-LOCATION;VALUE=URI;X-ADDRESS=Ada Holmes Ada Holmes Cir Hull HU6 9PB United Kingdom;X-APPLE-RADIUS=500;X-TITLE=Ada Holmes Cir:geo:-0.3719218,53.7823313
END:VEVENT
BEGIN:VEVENT
DTSTART;TZID=Europe/London:20260318T090000
DTEND;TZID=Europe/London:20260318T100000
DTSTAMP:20260420T163435
CREATED:20240815T140611Z
LAST-MODIFIED:20260119T150151Z
UID:10009886-1773824400-1773828000@www.pfh.org.uk
SUMMARY:Hairdressers Service
DESCRIPTION:Contact Scheme Manager for appointments
URL:https://www.pfh.org.uk/event/hairdressers-service-3/2026-03-18/
LOCATION:Ada Holmes\, Ada Holmes Cir\, Hull\, HU6 9PB\, United Kingdom
CATEGORIES:Resident Events
ATTACH;FMTTYPE=image/jpeg:https://www.pfh.org.uk/wp-content/uploads/2024/02/blonde-woman-getting-her-hair-done.jpg
GEO:53.7823313;-0.3719218
X-APPLE-STRUCTURED-LOCATION;VALUE=URI;X-ADDRESS=Ada Holmes Ada Holmes Cir Hull HU6 9PB United Kingdom;X-APPLE-RADIUS=500;X-TITLE=Ada Holmes Cir:geo:-0.3719218,53.7823313
END:VEVENT
BEGIN:VEVENT
DTSTART;TZID=Europe/London:20260311T090000
DTEND;TZID=Europe/London:20260311T100000
DTSTAMP:20260420T163435
CREATED:20240815T140611Z
LAST-MODIFIED:20260119T150151Z
UID:10009885-1773219600-1773223200@www.pfh.org.uk
SUMMARY:Hairdressers Service
DESCRIPTION:Contact Scheme Manager for appointments
URL:https://www.pfh.org.uk/event/hairdressers-service-3/2026-03-11/
LOCATION:Ada Holmes\, Ada Holmes Cir\, Hull\, HU6 9PB\, United Kingdom
CATEGORIES:Resident Events
ATTACH;FMTTYPE=image/jpeg:https://www.pfh.org.uk/wp-content/uploads/2024/02/blonde-woman-getting-her-hair-done.jpg
GEO:53.7823313;-0.3719218
X-APPLE-STRUCTURED-LOCATION;VALUE=URI;X-ADDRESS=Ada Holmes Ada Holmes Cir Hull HU6 9PB United Kingdom;X-APPLE-RADIUS=500;X-TITLE=Ada Holmes Cir:geo:-0.3719218,53.7823313
END:VEVENT
BEGIN:VEVENT
DTSTART;TZID=Europe/London:20260304T090000
DTEND;TZID=Europe/London:20260304T100000
DTSTAMP:20260420T163435
CREATED:20240815T140611Z
LAST-MODIFIED:20260119T150151Z
UID:10009884-1772614800-1772618400@www.pfh.org.uk
SUMMARY:Hairdressers Service
DESCRIPTION:Contact Scheme Manager for appointments
URL:https://www.pfh.org.uk/event/hairdressers-service-3/2026-03-04/
LOCATION:Ada Holmes\, Ada Holmes Cir\, Hull\, HU6 9PB\, United Kingdom
CATEGORIES:Resident Events
ATTACH;FMTTYPE=image/jpeg:https://www.pfh.org.uk/wp-content/uploads/2024/02/blonde-woman-getting-her-hair-done.jpg
GEO:53.7823313;-0.3719218
X-APPLE-STRUCTURED-LOCATION;VALUE=URI;X-ADDRESS=Ada Holmes Ada Holmes Cir Hull HU6 9PB United Kingdom;X-APPLE-RADIUS=500;X-TITLE=Ada Holmes Cir:geo:-0.3719218,53.7823313
END:VEVENT
BEGIN:VEVENT
DTSTART;TZID=Europe/London:20260225T090000
DTEND;TZID=Europe/London:20260225T100000
DTSTAMP:20260420T163435
CREATED:20240815T140611Z
LAST-MODIFIED:20260119T150151Z
UID:10009883-1772010000-1772013600@www.pfh.org.uk
SUMMARY:Hairdressers Service
DESCRIPTION:Contact Scheme Manager for appointments
URL:https://www.pfh.org.uk/event/hairdressers-service-3/2026-02-25/
LOCATION:Ada Holmes\, Ada Holmes Cir\, Hull\, HU6 9PB\, United Kingdom
CATEGORIES:Resident Events
ATTACH;FMTTYPE=image/jpeg:https://www.pfh.org.uk/wp-content/uploads/2024/02/blonde-woman-getting-her-hair-done.jpg
GEO:53.7823313;-0.3719218
X-APPLE-STRUCTURED-LOCATION;VALUE=URI;X-ADDRESS=Ada Holmes Ada Holmes Cir Hull HU6 9PB United Kingdom;X-APPLE-RADIUS=500;X-TITLE=Ada Holmes Cir:geo:-0.3719218,53.7823313
END:VEVENT
BEGIN:VEVENT
DTSTART;TZID=Europe/London:20260218T090000
DTEND;TZID=Europe/London:20260218T100000
DTSTAMP:20260420T163435
CREATED:20240815T140611Z
LAST-MODIFIED:20260119T150151Z
UID:10009882-1771405200-1771408800@www.pfh.org.uk
SUMMARY:Hairdressers Service
DESCRIPTION:Contact Scheme Manager for appointments
URL:https://www.pfh.org.uk/event/hairdressers-service-3/2026-02-18/
LOCATION:Ada Holmes\, Ada Holmes Cir\, Hull\, HU6 9PB\, United Kingdom
CATEGORIES:Resident Events
ATTACH;FMTTYPE=image/jpeg:https://www.pfh.org.uk/wp-content/uploads/2024/02/blonde-woman-getting-her-hair-done.jpg
GEO:53.7823313;-0.3719218
X-APPLE-STRUCTURED-LOCATION;VALUE=URI;X-ADDRESS=Ada Holmes Ada Holmes Cir Hull HU6 9PB United Kingdom;X-APPLE-RADIUS=500;X-TITLE=Ada Holmes Cir:geo:-0.3719218,53.7823313
END:VEVENT
BEGIN:VEVENT
DTSTART;TZID=Europe/London:20260211T090000
DTEND;TZID=Europe/London:20260211T100000
DTSTAMP:20260420T163435
CREATED:20240815T140611Z
LAST-MODIFIED:20260119T150151Z
UID:10009881-1770800400-1770804000@www.pfh.org.uk
SUMMARY:Hairdressers Service
DESCRIPTION:Contact Scheme Manager for appointments
URL:https://www.pfh.org.uk/event/hairdressers-service-3/2026-02-11/
LOCATION:Ada Holmes\, Ada Holmes Cir\, Hull\, HU6 9PB\, United Kingdom
CATEGORIES:Resident Events
ATTACH;FMTTYPE=image/jpeg:https://www.pfh.org.uk/wp-content/uploads/2024/02/blonde-woman-getting-her-hair-done.jpg
GEO:53.7823313;-0.3719218
X-APPLE-STRUCTURED-LOCATION;VALUE=URI;X-ADDRESS=Ada Holmes Ada Holmes Cir Hull HU6 9PB United Kingdom;X-APPLE-RADIUS=500;X-TITLE=Ada Holmes Cir:geo:-0.3719218,53.7823313
END:VEVENT
BEGIN:VEVENT
DTSTART;TZID=Europe/London:20260204T090000
DTEND;TZID=Europe/London:20260204T100000
DTSTAMP:20260420T163435
CREATED:20240815T140611Z
LAST-MODIFIED:20260119T150151Z
UID:10009880-1770195600-1770199200@www.pfh.org.uk
SUMMARY:Hairdressers Service
DESCRIPTION:Contact Scheme Manager for appointments
URL:https://www.pfh.org.uk/event/hairdressers-service-3/2026-02-04/
LOCATION:Ada Holmes\, Ada Holmes Cir\, Hull\, HU6 9PB\, United Kingdom
CATEGORIES:Resident Events
ATTACH;FMTTYPE=image/jpeg:https://www.pfh.org.uk/wp-content/uploads/2024/02/blonde-woman-getting-her-hair-done.jpg
GEO:53.7823313;-0.3719218
X-APPLE-STRUCTURED-LOCATION;VALUE=URI;X-ADDRESS=Ada Holmes Ada Holmes Cir Hull HU6 9PB United Kingdom;X-APPLE-RADIUS=500;X-TITLE=Ada Holmes Cir:geo:-0.3719218,53.7823313
END:VEVENT
BEGIN:VEVENT
DTSTART;TZID=Europe/London:20260128T090000
DTEND;TZID=Europe/London:20260128T100000
DTSTAMP:20260420T163435
CREATED:20240815T140611Z
LAST-MODIFIED:20260119T150151Z
UID:10009879-1769590800-1769594400@www.pfh.org.uk
SUMMARY:Hairdressers Service
DESCRIPTION:Contact Scheme Manager for appointments
URL:https://www.pfh.org.uk/event/hairdressers-service-3/2026-01-28/
LOCATION:Ada Holmes\, Ada Holmes Cir\, Hull\, HU6 9PB\, United Kingdom
CATEGORIES:Resident Events
ATTACH;FMTTYPE=image/jpeg:https://www.pfh.org.uk/wp-content/uploads/2024/02/blonde-woman-getting-her-hair-done.jpg
GEO:53.7823313;-0.3719218
X-APPLE-STRUCTURED-LOCATION;VALUE=URI;X-ADDRESS=Ada Holmes Ada Holmes Cir Hull HU6 9PB United Kingdom;X-APPLE-RADIUS=500;X-TITLE=Ada Holmes Cir:geo:-0.3719218,53.7823313
END:VEVENT
BEGIN:VEVENT
DTSTART;TZID=Europe/London:20260121T090000
DTEND;TZID=Europe/London:20260121T100000
DTSTAMP:20260420T163435
CREATED:20240815T140611Z
LAST-MODIFIED:20260119T150151Z
UID:10009878-1768986000-1768989600@www.pfh.org.uk
SUMMARY:Hairdressers Service
DESCRIPTION:Contact Scheme Manager for appointments
URL:https://www.pfh.org.uk/event/hairdressers-service-3/2026-01-21/
LOCATION:Ada Holmes\, Ada Holmes Cir\, Hull\, HU6 9PB\, United Kingdom
CATEGORIES:Resident Events
ATTACH;FMTTYPE=image/jpeg:https://www.pfh.org.uk/wp-content/uploads/2024/02/blonde-woman-getting-her-hair-done.jpg
GEO:53.7823313;-0.3719218
X-APPLE-STRUCTURED-LOCATION;VALUE=URI;X-ADDRESS=Ada Holmes Ada Holmes Cir Hull HU6 9PB United Kingdom;X-APPLE-RADIUS=500;X-TITLE=Ada Holmes Cir:geo:-0.3719218,53.7823313
END:VEVENT
BEGIN:VEVENT
DTSTART;TZID=Europe/London:20260114T090000
DTEND;TZID=Europe/London:20260114T100000
DTSTAMP:20260420T163435
CREATED:20240815T140611Z
LAST-MODIFIED:20260119T150151Z
UID:10009877-1768381200-1768384800@www.pfh.org.uk
SUMMARY:Hairdressers Service
DESCRIPTION:Contact Scheme Manager for appointments
URL:https://www.pfh.org.uk/event/hairdressers-service-3/2026-01-14/
LOCATION:Ada Holmes\, Ada Holmes Cir\, Hull\, HU6 9PB\, United Kingdom
CATEGORIES:Resident Events
ATTACH;FMTTYPE=image/jpeg:https://www.pfh.org.uk/wp-content/uploads/2024/02/blonde-woman-getting-her-hair-done.jpg
GEO:53.7823313;-0.3719218
X-APPLE-STRUCTURED-LOCATION;VALUE=URI;X-ADDRESS=Ada Holmes Ada Holmes Cir Hull HU6 9PB United Kingdom;X-APPLE-RADIUS=500;X-TITLE=Ada Holmes Cir:geo:-0.3719218,53.7823313
END:VEVENT
BEGIN:VEVENT
DTSTART;TZID=Europe/London:20260107T090000
DTEND;TZID=Europe/London:20260107T100000
DTSTAMP:20260420T163435
CREATED:20240815T140611Z
LAST-MODIFIED:20260119T150151Z
UID:10009876-1767776400-1767780000@www.pfh.org.uk
SUMMARY:Hairdressers Service
DESCRIPTION:Contact Scheme Manager for appointments
URL:https://www.pfh.org.uk/event/hairdressers-service-3/2026-01-07/
LOCATION:Ada Holmes\, Ada Holmes Cir\, Hull\, HU6 9PB\, United Kingdom
CATEGORIES:Resident Events
ATTACH;FMTTYPE=image/jpeg:https://www.pfh.org.uk/wp-content/uploads/2024/02/blonde-woman-getting-her-hair-done.jpg
GEO:53.7823313;-0.3719218
X-APPLE-STRUCTURED-LOCATION;VALUE=URI;X-ADDRESS=Ada Holmes Ada Holmes Cir Hull HU6 9PB United Kingdom;X-APPLE-RADIUS=500;X-TITLE=Ada Holmes Cir:geo:-0.3719218,53.7823313
END:VEVENT
BEGIN:VEVENT
DTSTART;TZID=Europe/London:20251231T090000
DTEND;TZID=Europe/London:20251231T100000
DTSTAMP:20260420T163435
CREATED:20240815T140611Z
LAST-MODIFIED:20260119T150151Z
UID:10009875-1767171600-1767175200@www.pfh.org.uk
SUMMARY:Hairdressers Service
DESCRIPTION:Contact Scheme Manager for appointments
URL:https://www.pfh.org.uk/event/hairdressers-service-3/2025-12-31/
LOCATION:Ada Holmes\, Ada Holmes Cir\, Hull\, HU6 9PB\, United Kingdom
CATEGORIES:Resident Events
ATTACH;FMTTYPE=image/jpeg:https://www.pfh.org.uk/wp-content/uploads/2024/02/blonde-woman-getting-her-hair-done.jpg
GEO:53.7823313;-0.3719218
X-APPLE-STRUCTURED-LOCATION;VALUE=URI;X-ADDRESS=Ada Holmes Ada Holmes Cir Hull HU6 9PB United Kingdom;X-APPLE-RADIUS=500;X-TITLE=Ada Holmes Cir:geo:-0.3719218,53.7823313
END:VEVENT
BEGIN:VEVENT
DTSTART;TZID=Europe/London:20251224T090000
DTEND;TZID=Europe/London:20251224T100000
DTSTAMP:20260420T163435
CREATED:20240815T140611Z
LAST-MODIFIED:20260119T150151Z
UID:10009874-1766566800-1766570400@www.pfh.org.uk
SUMMARY:Hairdressers Service
DESCRIPTION:Contact Scheme Manager for appointments
URL:https://www.pfh.org.uk/event/hairdressers-service-3/2025-12-24/
LOCATION:Ada Holmes\, Ada Holmes Cir\, Hull\, HU6 9PB\, United Kingdom
CATEGORIES:Resident Events
ATTACH;FMTTYPE=image/jpeg:https://www.pfh.org.uk/wp-content/uploads/2024/02/blonde-woman-getting-her-hair-done.jpg
GEO:53.7823313;-0.3719218
X-APPLE-STRUCTURED-LOCATION;VALUE=URI;X-ADDRESS=Ada Holmes Ada Holmes Cir Hull HU6 9PB United Kingdom;X-APPLE-RADIUS=500;X-TITLE=Ada Holmes Cir:geo:-0.3719218,53.7823313
END:VEVENT
BEGIN:VEVENT
DTSTART;TZID=Europe/London:20251217T090000
DTEND;TZID=Europe/London:20251217T100000
DTSTAMP:20260420T163435
CREATED:20240815T140611Z
LAST-MODIFIED:20260119T150151Z
UID:10009873-1765962000-1765965600@www.pfh.org.uk
SUMMARY:Hairdressers Service
DESCRIPTION:Contact Scheme Manager for appointments
URL:https://www.pfh.org.uk/event/hairdressers-service-3/2025-12-17/
LOCATION:Ada Holmes\, Ada Holmes Cir\, Hull\, HU6 9PB\, United Kingdom
CATEGORIES:Resident Events
ATTACH;FMTTYPE=image/jpeg:https://www.pfh.org.uk/wp-content/uploads/2024/02/blonde-woman-getting-her-hair-done.jpg
GEO:53.7823313;-0.3719218
X-APPLE-STRUCTURED-LOCATION;VALUE=URI;X-ADDRESS=Ada Holmes Ada Holmes Cir Hull HU6 9PB United Kingdom;X-APPLE-RADIUS=500;X-TITLE=Ada Holmes Cir:geo:-0.3719218,53.7823313
END:VEVENT
BEGIN:VEVENT
DTSTART;TZID=Europe/London:20251210T090000
DTEND;TZID=Europe/London:20251210T100000
DTSTAMP:20260420T163435
CREATED:20240815T140611Z
LAST-MODIFIED:20260119T150151Z
UID:10009872-1765357200-1765360800@www.pfh.org.uk
SUMMARY:Hairdressers Service
DESCRIPTION:Contact Scheme Manager for appointments
URL:https://www.pfh.org.uk/event/hairdressers-service-3/2025-12-10/
LOCATION:Ada Holmes\, Ada Holmes Cir\, Hull\, HU6 9PB\, United Kingdom
CATEGORIES:Resident Events
ATTACH;FMTTYPE=image/jpeg:https://www.pfh.org.uk/wp-content/uploads/2024/02/blonde-woman-getting-her-hair-done.jpg
GEO:53.7823313;-0.3719218
X-APPLE-STRUCTURED-LOCATION;VALUE=URI;X-ADDRESS=Ada Holmes Ada Holmes Cir Hull HU6 9PB United Kingdom;X-APPLE-RADIUS=500;X-TITLE=Ada Holmes Cir:geo:-0.3719218,53.7823313
END:VEVENT
BEGIN:VEVENT
DTSTART;TZID=Europe/London:20251203T090000
DTEND;TZID=Europe/London:20251203T100000
DTSTAMP:20260420T163435
CREATED:20240815T140611Z
LAST-MODIFIED:20260119T150151Z
UID:10009871-1764752400-1764756000@www.pfh.org.uk
SUMMARY:Hairdressers Service
DESCRIPTION:Contact Scheme Manager for appointments
URL:https://www.pfh.org.uk/event/hairdressers-service-3/2025-12-03/
LOCATION:Ada Holmes\, Ada Holmes Cir\, Hull\, HU6 9PB\, United Kingdom
CATEGORIES:Resident Events
ATTACH;FMTTYPE=image/jpeg:https://www.pfh.org.uk/wp-content/uploads/2024/02/blonde-woman-getting-her-hair-done.jpg
GEO:53.7823313;-0.3719218
X-APPLE-STRUCTURED-LOCATION;VALUE=URI;X-ADDRESS=Ada Holmes Ada Holmes Cir Hull HU6 9PB United Kingdom;X-APPLE-RADIUS=500;X-TITLE=Ada Holmes Cir:geo:-0.3719218,53.7823313
END:VEVENT
BEGIN:VEVENT
DTSTART;TZID=Europe/London:20251126T090000
DTEND;TZID=Europe/London:20251126T100000
DTSTAMP:20260420T163435
CREATED:20240815T140611Z
LAST-MODIFIED:20260119T150151Z
UID:10009870-1764147600-1764151200@www.pfh.org.uk
SUMMARY:Hairdressers Service
DESCRIPTION:Contact Scheme Manager for appointments
URL:https://www.pfh.org.uk/event/hairdressers-service-3/2025-11-26/
LOCATION:Ada Holmes\, Ada Holmes Cir\, Hull\, HU6 9PB\, United Kingdom
CATEGORIES:Resident Events
ATTACH;FMTTYPE=image/jpeg:https://www.pfh.org.uk/wp-content/uploads/2024/02/blonde-woman-getting-her-hair-done.jpg
GEO:53.7823313;-0.3719218
X-APPLE-STRUCTURED-LOCATION;VALUE=URI;X-ADDRESS=Ada Holmes Ada Holmes Cir Hull HU6 9PB United Kingdom;X-APPLE-RADIUS=500;X-TITLE=Ada Holmes Cir:geo:-0.3719218,53.7823313
END:VEVENT
BEGIN:VEVENT
DTSTART;TZID=Europe/London:20251119T090000
DTEND;TZID=Europe/London:20251119T100000
DTSTAMP:20260420T163435
CREATED:20240815T140611Z
LAST-MODIFIED:20260119T150151Z
UID:10009869-1763542800-1763546400@www.pfh.org.uk
SUMMARY:Hairdressers Service
DESCRIPTION:Contact Scheme Manager for appointments
URL:https://www.pfh.org.uk/event/hairdressers-service-3/2025-11-19/
LOCATION:Ada Holmes\, Ada Holmes Cir\, Hull\, HU6 9PB\, United Kingdom
CATEGORIES:Resident Events
ATTACH;FMTTYPE=image/jpeg:https://www.pfh.org.uk/wp-content/uploads/2024/02/blonde-woman-getting-her-hair-done.jpg
GEO:53.7823313;-0.3719218
X-APPLE-STRUCTURED-LOCATION;VALUE=URI;X-ADDRESS=Ada Holmes Ada Holmes Cir Hull HU6 9PB United Kingdom;X-APPLE-RADIUS=500;X-TITLE=Ada Holmes Cir:geo:-0.3719218,53.7823313
END:VEVENT
BEGIN:VEVENT
DTSTART;TZID=Europe/London:20251112T090000
DTEND;TZID=Europe/London:20251112T100000
DTSTAMP:20260420T163435
CREATED:20240815T140611Z
LAST-MODIFIED:20260119T150151Z
UID:10009868-1762938000-1762941600@www.pfh.org.uk
SUMMARY:Hairdressers Service
DESCRIPTION:Contact Scheme Manager for appointments
URL:https://www.pfh.org.uk/event/hairdressers-service-3/2025-11-12/
LOCATION:Ada Holmes\, Ada Holmes Cir\, Hull\, HU6 9PB\, United Kingdom
CATEGORIES:Resident Events
ATTACH;FMTTYPE=image/jpeg:https://www.pfh.org.uk/wp-content/uploads/2024/02/blonde-woman-getting-her-hair-done.jpg
GEO:53.7823313;-0.3719218
X-APPLE-STRUCTURED-LOCATION;VALUE=URI;X-ADDRESS=Ada Holmes Ada Holmes Cir Hull HU6 9PB United Kingdom;X-APPLE-RADIUS=500;X-TITLE=Ada Holmes Cir:geo:-0.3719218,53.7823313
END:VEVENT
BEGIN:VEVENT
DTSTART;TZID=Europe/London:20251105T090000
DTEND;TZID=Europe/London:20251105T100000
DTSTAMP:20260420T163435
CREATED:20240815T140611Z
LAST-MODIFIED:20260119T150151Z
UID:10009867-1762333200-1762336800@www.pfh.org.uk
SUMMARY:Hairdressers Service
DESCRIPTION:Contact Scheme Manager for appointments
URL:https://www.pfh.org.uk/event/hairdressers-service-3/2025-11-05/
LOCATION:Ada Holmes\, Ada Holmes Cir\, Hull\, HU6 9PB\, United Kingdom
CATEGORIES:Resident Events
ATTACH;FMTTYPE=image/jpeg:https://www.pfh.org.uk/wp-content/uploads/2024/02/blonde-woman-getting-her-hair-done.jpg
GEO:53.7823313;-0.3719218
X-APPLE-STRUCTURED-LOCATION;VALUE=URI;X-ADDRESS=Ada Holmes Ada Holmes Cir Hull HU6 9PB United Kingdom;X-APPLE-RADIUS=500;X-TITLE=Ada Holmes Cir:geo:-0.3719218,53.7823313
END:VEVENT
BEGIN:VEVENT
DTSTART;TZID=Europe/London:20251029T090000
DTEND;TZID=Europe/London:20251029T100000
DTSTAMP:20260420T163435
CREATED:20240815T140611Z
LAST-MODIFIED:20260119T150151Z
UID:10009866-1761728400-1761732000@www.pfh.org.uk
SUMMARY:Hairdressers Service
DESCRIPTION:Contact Scheme Manager for appointments
URL:https://www.pfh.org.uk/event/hairdressers-service-3/2025-10-29/
LOCATION:Ada Holmes\, Ada Holmes Cir\, Hull\, HU6 9PB\, United Kingdom
CATEGORIES:Resident Events
ATTACH;FMTTYPE=image/jpeg:https://www.pfh.org.uk/wp-content/uploads/2024/02/blonde-woman-getting-her-hair-done.jpg
GEO:53.7823313;-0.3719218
X-APPLE-STRUCTURED-LOCATION;VALUE=URI;X-ADDRESS=Ada Holmes Ada Holmes Cir Hull HU6 9PB United Kingdom;X-APPLE-RADIUS=500;X-TITLE=Ada Holmes Cir:geo:-0.3719218,53.7823313
END:VEVENT
BEGIN:VEVENT
DTSTART;TZID=Europe/London:20251022T090000
DTEND;TZID=Europe/London:20251022T100000
DTSTAMP:20260420T163435
CREATED:20240815T140611Z
LAST-MODIFIED:20260119T150151Z
UID:10009865-1761123600-1761127200@www.pfh.org.uk
SUMMARY:Hairdressers Service
DESCRIPTION:Contact Scheme Manager for appointments
URL:https://www.pfh.org.uk/event/hairdressers-service-3/2025-10-22/
LOCATION:Ada Holmes\, Ada Holmes Cir\, Hull\, HU6 9PB\, United Kingdom
CATEGORIES:Resident Events
ATTACH;FMTTYPE=image/jpeg:https://www.pfh.org.uk/wp-content/uploads/2024/02/blonde-woman-getting-her-hair-done.jpg
GEO:53.7823313;-0.3719218
X-APPLE-STRUCTURED-LOCATION;VALUE=URI;X-ADDRESS=Ada Holmes Ada Holmes Cir Hull HU6 9PB United Kingdom;X-APPLE-RADIUS=500;X-TITLE=Ada Holmes Cir:geo:-0.3719218,53.7823313
END:VEVENT
BEGIN:VEVENT
DTSTART;TZID=Europe/London:20251015T090000
DTEND;TZID=Europe/London:20251015T100000
DTSTAMP:20260420T163435
CREATED:20240815T140611Z
LAST-MODIFIED:20260119T150151Z
UID:10009864-1760518800-1760522400@www.pfh.org.uk
SUMMARY:Hairdressers Service
DESCRIPTION:Contact Scheme Manager for appointments
URL:https://www.pfh.org.uk/event/hairdressers-service-3/2025-10-15/
LOCATION:Ada Holmes\, Ada Holmes Cir\, Hull\, HU6 9PB\, United Kingdom
CATEGORIES:Resident Events
ATTACH;FMTTYPE=image/jpeg:https://www.pfh.org.uk/wp-content/uploads/2024/02/blonde-woman-getting-her-hair-done.jpg
GEO:53.7823313;-0.3719218
X-APPLE-STRUCTURED-LOCATION;VALUE=URI;X-ADDRESS=Ada Holmes Ada Holmes Cir Hull HU6 9PB United Kingdom;X-APPLE-RADIUS=500;X-TITLE=Ada Holmes Cir:geo:-0.3719218,53.7823313
END:VEVENT
BEGIN:VEVENT
DTSTART;TZID=Europe/London:20251008T090000
DTEND;TZID=Europe/London:20251008T100000
DTSTAMP:20260420T163435
CREATED:20240815T140611Z
LAST-MODIFIED:20260119T150151Z
UID:10009863-1759914000-1759917600@www.pfh.org.uk
SUMMARY:Hairdressers Service
DESCRIPTION:Contact Scheme Manager for appointments
URL:https://www.pfh.org.uk/event/hairdressers-service-3/2025-10-08/
LOCATION:Ada Holmes\, Ada Holmes Cir\, Hull\, HU6 9PB\, United Kingdom
CATEGORIES:Resident Events
ATTACH;FMTTYPE=image/jpeg:https://www.pfh.org.uk/wp-content/uploads/2024/02/blonde-woman-getting-her-hair-done.jpg
GEO:53.7823313;-0.3719218
X-APPLE-STRUCTURED-LOCATION;VALUE=URI;X-ADDRESS=Ada Holmes Ada Holmes Cir Hull HU6 9PB United Kingdom;X-APPLE-RADIUS=500;X-TITLE=Ada Holmes Cir:geo:-0.3719218,53.7823313
END:VEVENT
BEGIN:VEVENT
DTSTART;TZID=Europe/London:20251001T090000
DTEND;TZID=Europe/London:20251001T100000
DTSTAMP:20260420T163435
CREATED:20240815T140611Z
LAST-MODIFIED:20260119T150151Z
UID:10009862-1759309200-1759312800@www.pfh.org.uk
SUMMARY:Hairdressers Service
DESCRIPTION:Contact Scheme Manager for appointments
URL:https://www.pfh.org.uk/event/hairdressers-service-3/2025-10-01/
LOCATION:Ada Holmes\, Ada Holmes Cir\, Hull\, HU6 9PB\, United Kingdom
CATEGORIES:Resident Events
ATTACH;FMTTYPE=image/jpeg:https://www.pfh.org.uk/wp-content/uploads/2024/02/blonde-woman-getting-her-hair-done.jpg
GEO:53.7823313;-0.3719218
X-APPLE-STRUCTURED-LOCATION;VALUE=URI;X-ADDRESS=Ada Holmes Ada Holmes Cir Hull HU6 9PB United Kingdom;X-APPLE-RADIUS=500;X-TITLE=Ada Holmes Cir:geo:-0.3719218,53.7823313
END:VEVENT
BEGIN:VEVENT
DTSTART;TZID=Europe/London:20250924T090000
DTEND;TZID=Europe/London:20250924T100000
DTSTAMP:20260420T163435
CREATED:20240815T140611Z
LAST-MODIFIED:20260119T150151Z
UID:10009861-1758704400-1758708000@www.pfh.org.uk
SUMMARY:Hairdressers Service
DESCRIPTION:Contact Scheme Manager for appointments
URL:https://www.pfh.org.uk/event/hairdressers-service-3/2025-09-24/
LOCATION:Ada Holmes\, Ada Holmes Cir\, Hull\, HU6 9PB\, United Kingdom
CATEGORIES:Resident Events
ATTACH;FMTTYPE=image/jpeg:https://www.pfh.org.uk/wp-content/uploads/2024/02/blonde-woman-getting-her-hair-done.jpg
GEO:53.7823313;-0.3719218
X-APPLE-STRUCTURED-LOCATION;VALUE=URI;X-ADDRESS=Ada Holmes Ada Holmes Cir Hull HU6 9PB United Kingdom;X-APPLE-RADIUS=500;X-TITLE=Ada Holmes Cir:geo:-0.3719218,53.7823313
END:VEVENT
END:VCALENDAR