BEGIN:VCALENDAR
VERSION:2.0
PRODID:-//PFH Pickering &amp; Ferens Homes - ECPv6.15.20//NONSGML v1.0//EN
CALSCALE:GREGORIAN
METHOD:PUBLISH
X-ORIGINAL-URL:https://www.pfh.org.uk
X-WR-CALDESC:Events for PFH Pickering &amp; Ferens Homes
REFRESH-INTERVAL;VALUE=DURATION:PT1H
X-Robots-Tag:noindex
X-PUBLISHED-TTL:PT1H
BEGIN:VTIMEZONE
TZID:Europe/London
BEGIN:DAYLIGHT
TZOFFSETFROM:+0000
TZOFFSETTO:+0100
TZNAME:BST
DTSTART:20260329T010000
END:DAYLIGHT
BEGIN:STANDARD
TZOFFSETFROM:+0100
TZOFFSETTO:+0000
TZNAME:GMT
DTSTART:20261025T010000
END:STANDARD
BEGIN:DAYLIGHT
TZOFFSETFROM:+0000
TZOFFSETTO:+0100
TZNAME:BST
DTSTART:20270328T010000
END:DAYLIGHT
BEGIN:STANDARD
TZOFFSETFROM:+0100
TZOFFSETTO:+0000
TZNAME:GMT
DTSTART:20271031T010000
END:STANDARD
BEGIN:DAYLIGHT
TZOFFSETFROM:+0000
TZOFFSETTO:+0100
TZNAME:BST
DTSTART:20280326T010000
END:DAYLIGHT
BEGIN:STANDARD
TZOFFSETFROM:+0100
TZOFFSETTO:+0000
TZNAME:GMT
DTSTART:20281029T010000
END:STANDARD
BEGIN:DAYLIGHT
TZOFFSETFROM:+0000
TZOFFSETTO:+0100
TZNAME:BST
DTSTART:20290325T010000
END:DAYLIGHT
BEGIN:STANDARD
TZOFFSETFROM:+0100
TZOFFSETTO:+0000
TZNAME:GMT
DTSTART:20291028T010000
END:STANDARD
END:VTIMEZONE
BEGIN:VEVENT
DTSTART;TZID=Europe/London:20271130T113000
DTEND;TZID=Europe/London:20271130T133000
DTSTAMP:20260419T132135
CREATED:20260119T142234Z
LAST-MODIFIED:20260119T143320Z
UID:10018164-1827574200-1827581400@www.pfh.org.uk
SUMMARY:Broadway Lunch Club
DESCRIPTION:£3\nContact Sue at pop in 07946 549 241
URL:https://www.pfh.org.uk/event/broadway-lunch-club/2027-11-30/
CATEGORIES:Open to Everyone,Resident Events
ATTACH;FMTTYPE=image/jpeg:https://www.pfh.org.uk/wp-content/uploads/2024/02/lunch-club.jpg
END:VEVENT
BEGIN:VEVENT
DTSTART;TZID=Europe/London:20271207T113000
DTEND;TZID=Europe/London:20271207T133000
DTSTAMP:20260419T132135
CREATED:20260119T142234Z
LAST-MODIFIED:20260119T143320Z
UID:10018165-1828179000-1828186200@www.pfh.org.uk
SUMMARY:Broadway Lunch Club
DESCRIPTION:£3\nContact Sue at pop in 07946 549 241
URL:https://www.pfh.org.uk/event/broadway-lunch-club/2027-12-07/
CATEGORIES:Open to Everyone,Resident Events
ATTACH;FMTTYPE=image/jpeg:https://www.pfh.org.uk/wp-content/uploads/2024/02/lunch-club.jpg
END:VEVENT
BEGIN:VEVENT
DTSTART;TZID=Europe/London:20271214T113000
DTEND;TZID=Europe/London:20271214T133000
DTSTAMP:20260419T132135
CREATED:20260119T142234Z
LAST-MODIFIED:20260119T143320Z
UID:10018166-1828783800-1828791000@www.pfh.org.uk
SUMMARY:Broadway Lunch Club
DESCRIPTION:£3\nContact Sue at pop in 07946 549 241
URL:https://www.pfh.org.uk/event/broadway-lunch-club/2027-12-14/
CATEGORIES:Open to Everyone,Resident Events
ATTACH;FMTTYPE=image/jpeg:https://www.pfh.org.uk/wp-content/uploads/2024/02/lunch-club.jpg
END:VEVENT
BEGIN:VEVENT
DTSTART;TZID=Europe/London:20271221T113000
DTEND;TZID=Europe/London:20271221T133000
DTSTAMP:20260419T132135
CREATED:20260119T142234Z
LAST-MODIFIED:20260119T143320Z
UID:10018167-1829388600-1829395800@www.pfh.org.uk
SUMMARY:Broadway Lunch Club
DESCRIPTION:£3\nContact Sue at pop in 07946 549 241
URL:https://www.pfh.org.uk/event/broadway-lunch-club/2027-12-21/
CATEGORIES:Open to Everyone,Resident Events
ATTACH;FMTTYPE=image/jpeg:https://www.pfh.org.uk/wp-content/uploads/2024/02/lunch-club.jpg
END:VEVENT
BEGIN:VEVENT
DTSTART;TZID=Europe/London:20271228T113000
DTEND;TZID=Europe/London:20271228T133000
DTSTAMP:20260419T132135
CREATED:20260119T142234Z
LAST-MODIFIED:20260119T143320Z
UID:10018168-1829993400-1830000600@www.pfh.org.uk
SUMMARY:Broadway Lunch Club
DESCRIPTION:£3\nContact Sue at pop in 07946 549 241
URL:https://www.pfh.org.uk/event/broadway-lunch-club/2027-12-28/
CATEGORIES:Open to Everyone,Resident Events
ATTACH;FMTTYPE=image/jpeg:https://www.pfh.org.uk/wp-content/uploads/2024/02/lunch-club.jpg
END:VEVENT
BEGIN:VEVENT
DTSTART;TZID=Europe/London:20280104T113000
DTEND;TZID=Europe/London:20280104T133000
DTSTAMP:20260419T132135
CREATED:20260119T142234Z
LAST-MODIFIED:20260119T143320Z
UID:10018169-1830598200-1830605400@www.pfh.org.uk
SUMMARY:Broadway Lunch Club
DESCRIPTION:£3\nContact Sue at pop in 07946 549 241
URL:https://www.pfh.org.uk/event/broadway-lunch-club/2028-01-04/
CATEGORIES:Open to Everyone,Resident Events
ATTACH;FMTTYPE=image/jpeg:https://www.pfh.org.uk/wp-content/uploads/2024/02/lunch-club.jpg
END:VEVENT
BEGIN:VEVENT
DTSTART;TZID=Europe/London:20280111T113000
DTEND;TZID=Europe/London:20280111T133000
DTSTAMP:20260419T132135
CREATED:20260119T142234Z
LAST-MODIFIED:20260119T143320Z
UID:10018170-1831203000-1831210200@www.pfh.org.uk
SUMMARY:Broadway Lunch Club
DESCRIPTION:£3\nContact Sue at pop in 07946 549 241
URL:https://www.pfh.org.uk/event/broadway-lunch-club/2028-01-11/
CATEGORIES:Open to Everyone,Resident Events
ATTACH;FMTTYPE=image/jpeg:https://www.pfh.org.uk/wp-content/uploads/2024/02/lunch-club.jpg
END:VEVENT
BEGIN:VEVENT
DTSTART;TZID=Europe/London:20280118T113000
DTEND;TZID=Europe/London:20280118T133000
DTSTAMP:20260419T132135
CREATED:20260119T142234Z
LAST-MODIFIED:20260119T143320Z
UID:10018171-1831807800-1831815000@www.pfh.org.uk
SUMMARY:Broadway Lunch Club
DESCRIPTION:£3\nContact Sue at pop in 07946 549 241
URL:https://www.pfh.org.uk/event/broadway-lunch-club/2028-01-18/
CATEGORIES:Open to Everyone,Resident Events
ATTACH;FMTTYPE=image/jpeg:https://www.pfh.org.uk/wp-content/uploads/2024/02/lunch-club.jpg
END:VEVENT
BEGIN:VEVENT
DTSTART;TZID=Europe/London:20280125T113000
DTEND;TZID=Europe/London:20280125T133000
DTSTAMP:20260419T132135
CREATED:20260119T142234Z
LAST-MODIFIED:20260119T143320Z
UID:10018172-1832412600-1832419800@www.pfh.org.uk
SUMMARY:Broadway Lunch Club
DESCRIPTION:£3\nContact Sue at pop in 07946 549 241
URL:https://www.pfh.org.uk/event/broadway-lunch-club/2028-01-25/
CATEGORIES:Open to Everyone,Resident Events
ATTACH;FMTTYPE=image/jpeg:https://www.pfh.org.uk/wp-content/uploads/2024/02/lunch-club.jpg
END:VEVENT
BEGIN:VEVENT
DTSTART;TZID=Europe/London:20280201T113000
DTEND;TZID=Europe/London:20280201T133000
DTSTAMP:20260419T132135
CREATED:20260119T142234Z
LAST-MODIFIED:20260119T143320Z
UID:10018173-1833017400-1833024600@www.pfh.org.uk
SUMMARY:Broadway Lunch Club
DESCRIPTION:£3\nContact Sue at pop in 07946 549 241
URL:https://www.pfh.org.uk/event/broadway-lunch-club/2028-02-01/
CATEGORIES:Open to Everyone,Resident Events
ATTACH;FMTTYPE=image/jpeg:https://www.pfh.org.uk/wp-content/uploads/2024/02/lunch-club.jpg
END:VEVENT
BEGIN:VEVENT
DTSTART;TZID=Europe/London:20280208T113000
DTEND;TZID=Europe/London:20280208T133000
DTSTAMP:20260419T132135
CREATED:20260119T142234Z
LAST-MODIFIED:20260119T143320Z
UID:10018174-1833622200-1833629400@www.pfh.org.uk
SUMMARY:Broadway Lunch Club
DESCRIPTION:£3\nContact Sue at pop in 07946 549 241
URL:https://www.pfh.org.uk/event/broadway-lunch-club/2028-02-08/
CATEGORIES:Open to Everyone,Resident Events
ATTACH;FMTTYPE=image/jpeg:https://www.pfh.org.uk/wp-content/uploads/2024/02/lunch-club.jpg
END:VEVENT
BEGIN:VEVENT
DTSTART;TZID=Europe/London:20280215T113000
DTEND;TZID=Europe/London:20280215T133000
DTSTAMP:20260419T132135
CREATED:20260119T142234Z
LAST-MODIFIED:20260119T143320Z
UID:10018175-1834227000-1834234200@www.pfh.org.uk
SUMMARY:Broadway Lunch Club
DESCRIPTION:£3\nContact Sue at pop in 07946 549 241
URL:https://www.pfh.org.uk/event/broadway-lunch-club/2028-02-15/
CATEGORIES:Open to Everyone,Resident Events
ATTACH;FMTTYPE=image/jpeg:https://www.pfh.org.uk/wp-content/uploads/2024/02/lunch-club.jpg
END:VEVENT
BEGIN:VEVENT
DTSTART;TZID=Europe/London:20280222T113000
DTEND;TZID=Europe/London:20280222T133000
DTSTAMP:20260419T132135
CREATED:20260119T142234Z
LAST-MODIFIED:20260119T143320Z
UID:10018176-1834831800-1834839000@www.pfh.org.uk
SUMMARY:Broadway Lunch Club
DESCRIPTION:£3\nContact Sue at pop in 07946 549 241
URL:https://www.pfh.org.uk/event/broadway-lunch-club/2028-02-22/
CATEGORIES:Open to Everyone,Resident Events
ATTACH;FMTTYPE=image/jpeg:https://www.pfh.org.uk/wp-content/uploads/2024/02/lunch-club.jpg
END:VEVENT
BEGIN:VEVENT
DTSTART;TZID=Europe/London:20280229T113000
DTEND;TZID=Europe/London:20280229T133000
DTSTAMP:20260419T132135
CREATED:20260119T142234Z
LAST-MODIFIED:20260119T143320Z
UID:10018177-1835436600-1835443800@www.pfh.org.uk
SUMMARY:Broadway Lunch Club
DESCRIPTION:£3\nContact Sue at pop in 07946 549 241
URL:https://www.pfh.org.uk/event/broadway-lunch-club/2028-02-29/
CATEGORIES:Open to Everyone,Resident Events
ATTACH;FMTTYPE=image/jpeg:https://www.pfh.org.uk/wp-content/uploads/2024/02/lunch-club.jpg
END:VEVENT
BEGIN:VEVENT
DTSTART;TZID=Europe/London:20280307T113000
DTEND;TZID=Europe/London:20280307T133000
DTSTAMP:20260419T132135
CREATED:20260119T142234Z
LAST-MODIFIED:20260119T143320Z
UID:10018178-1836041400-1836048600@www.pfh.org.uk
SUMMARY:Broadway Lunch Club
DESCRIPTION:£3\nContact Sue at pop in 07946 549 241
URL:https://www.pfh.org.uk/event/broadway-lunch-club/2028-03-07/
CATEGORIES:Open to Everyone,Resident Events
ATTACH;FMTTYPE=image/jpeg:https://www.pfh.org.uk/wp-content/uploads/2024/02/lunch-club.jpg
END:VEVENT
BEGIN:VEVENT
DTSTART;TZID=Europe/London:20280314T113000
DTEND;TZID=Europe/London:20280314T133000
DTSTAMP:20260419T132135
CREATED:20260119T142234Z
LAST-MODIFIED:20260119T143320Z
UID:10018179-1836646200-1836653400@www.pfh.org.uk
SUMMARY:Broadway Lunch Club
DESCRIPTION:£3\nContact Sue at pop in 07946 549 241
URL:https://www.pfh.org.uk/event/broadway-lunch-club/2028-03-14/
CATEGORIES:Open to Everyone,Resident Events
ATTACH;FMTTYPE=image/jpeg:https://www.pfh.org.uk/wp-content/uploads/2024/02/lunch-club.jpg
END:VEVENT
BEGIN:VEVENT
DTSTART;TZID=Europe/London:20280321T113000
DTEND;TZID=Europe/London:20280321T133000
DTSTAMP:20260419T132135
CREATED:20260119T142234Z
LAST-MODIFIED:20260119T143320Z
UID:10018180-1837251000-1837258200@www.pfh.org.uk
SUMMARY:Broadway Lunch Club
DESCRIPTION:£3\nContact Sue at pop in 07946 549 241
URL:https://www.pfh.org.uk/event/broadway-lunch-club/2028-03-21/
CATEGORIES:Open to Everyone,Resident Events
ATTACH;FMTTYPE=image/jpeg:https://www.pfh.org.uk/wp-content/uploads/2024/02/lunch-club.jpg
END:VEVENT
BEGIN:VEVENT
DTSTART;TZID=Europe/London:20280328T113000
DTEND;TZID=Europe/London:20280328T133000
DTSTAMP:20260419T132135
CREATED:20260119T142234Z
LAST-MODIFIED:20260119T143320Z
UID:10018181-1837855800-1837863000@www.pfh.org.uk
SUMMARY:Broadway Lunch Club
DESCRIPTION:£3\nContact Sue at pop in 07946 549 241
URL:https://www.pfh.org.uk/event/broadway-lunch-club/2028-03-28/
CATEGORIES:Open to Everyone,Resident Events
ATTACH;FMTTYPE=image/jpeg:https://www.pfh.org.uk/wp-content/uploads/2024/02/lunch-club.jpg
END:VEVENT
BEGIN:VEVENT
DTSTART;TZID=Europe/London:20280404T113000
DTEND;TZID=Europe/London:20280404T133000
DTSTAMP:20260419T132135
CREATED:20260119T142234Z
LAST-MODIFIED:20260119T143320Z
UID:10018182-1838460600-1838467800@www.pfh.org.uk
SUMMARY:Broadway Lunch Club
DESCRIPTION:£3\nContact Sue at pop in 07946 549 241
URL:https://www.pfh.org.uk/event/broadway-lunch-club/2028-04-04/
CATEGORIES:Open to Everyone,Resident Events
ATTACH;FMTTYPE=image/jpeg:https://www.pfh.org.uk/wp-content/uploads/2024/02/lunch-club.jpg
END:VEVENT
BEGIN:VEVENT
DTSTART;TZID=Europe/London:20280411T113000
DTEND;TZID=Europe/London:20280411T133000
DTSTAMP:20260419T132135
CREATED:20260119T142234Z
LAST-MODIFIED:20260119T143320Z
UID:10018183-1839065400-1839072600@www.pfh.org.uk
SUMMARY:Broadway Lunch Club
DESCRIPTION:£3\nContact Sue at pop in 07946 549 241
URL:https://www.pfh.org.uk/event/broadway-lunch-club/2028-04-11/
CATEGORIES:Open to Everyone,Resident Events
ATTACH;FMTTYPE=image/jpeg:https://www.pfh.org.uk/wp-content/uploads/2024/02/lunch-club.jpg
END:VEVENT
BEGIN:VEVENT
DTSTART;TZID=Europe/London:20280418T113000
DTEND;TZID=Europe/London:20280418T133000
DTSTAMP:20260419T132135
CREATED:20260119T142234Z
LAST-MODIFIED:20260119T143320Z
UID:10018184-1839670200-1839677400@www.pfh.org.uk
SUMMARY:Broadway Lunch Club
DESCRIPTION:£3\nContact Sue at pop in 07946 549 241
URL:https://www.pfh.org.uk/event/broadway-lunch-club/2028-04-18/
CATEGORIES:Open to Everyone,Resident Events
ATTACH;FMTTYPE=image/jpeg:https://www.pfh.org.uk/wp-content/uploads/2024/02/lunch-club.jpg
END:VEVENT
BEGIN:VEVENT
DTSTART;TZID=Europe/London:20280425T113000
DTEND;TZID=Europe/London:20280425T133000
DTSTAMP:20260419T132135
CREATED:20260119T142234Z
LAST-MODIFIED:20260119T143320Z
UID:10018185-1840275000-1840282200@www.pfh.org.uk
SUMMARY:Broadway Lunch Club
DESCRIPTION:£3\nContact Sue at pop in 07946 549 241
URL:https://www.pfh.org.uk/event/broadway-lunch-club/2028-04-25/
CATEGORIES:Open to Everyone,Resident Events
ATTACH;FMTTYPE=image/jpeg:https://www.pfh.org.uk/wp-content/uploads/2024/02/lunch-club.jpg
END:VEVENT
BEGIN:VEVENT
DTSTART;TZID=Europe/London:20280502T113000
DTEND;TZID=Europe/London:20280502T133000
DTSTAMP:20260419T132135
CREATED:20260119T142234Z
LAST-MODIFIED:20260119T143320Z
UID:10018186-1840879800-1840887000@www.pfh.org.uk
SUMMARY:Broadway Lunch Club
DESCRIPTION:£3\nContact Sue at pop in 07946 549 241
URL:https://www.pfh.org.uk/event/broadway-lunch-club/2028-05-02/
CATEGORIES:Open to Everyone,Resident Events
ATTACH;FMTTYPE=image/jpeg:https://www.pfh.org.uk/wp-content/uploads/2024/02/lunch-club.jpg
END:VEVENT
BEGIN:VEVENT
DTSTART;TZID=Europe/London:20280509T113000
DTEND;TZID=Europe/London:20280509T133000
DTSTAMP:20260419T132135
CREATED:20260119T142234Z
LAST-MODIFIED:20260119T143320Z
UID:10018187-1841484600-1841491800@www.pfh.org.uk
SUMMARY:Broadway Lunch Club
DESCRIPTION:£3\nContact Sue at pop in 07946 549 241
URL:https://www.pfh.org.uk/event/broadway-lunch-club/2028-05-09/
CATEGORIES:Open to Everyone,Resident Events
ATTACH;FMTTYPE=image/jpeg:https://www.pfh.org.uk/wp-content/uploads/2024/02/lunch-club.jpg
END:VEVENT
BEGIN:VEVENT
DTSTART;TZID=Europe/London:20280516T113000
DTEND;TZID=Europe/London:20280516T133000
DTSTAMP:20260419T132135
CREATED:20260119T142234Z
LAST-MODIFIED:20260119T143320Z
UID:10018188-1842089400-1842096600@www.pfh.org.uk
SUMMARY:Broadway Lunch Club
DESCRIPTION:£3\nContact Sue at pop in 07946 549 241
URL:https://www.pfh.org.uk/event/broadway-lunch-club/2028-05-16/
CATEGORIES:Open to Everyone,Resident Events
ATTACH;FMTTYPE=image/jpeg:https://www.pfh.org.uk/wp-content/uploads/2024/02/lunch-club.jpg
END:VEVENT
BEGIN:VEVENT
DTSTART;TZID=Europe/London:20280523T113000
DTEND;TZID=Europe/London:20280523T133000
DTSTAMP:20260419T132135
CREATED:20260119T142234Z
LAST-MODIFIED:20260119T143320Z
UID:10018189-1842694200-1842701400@www.pfh.org.uk
SUMMARY:Broadway Lunch Club
DESCRIPTION:£3\nContact Sue at pop in 07946 549 241
URL:https://www.pfh.org.uk/event/broadway-lunch-club/2028-05-23/
CATEGORIES:Open to Everyone,Resident Events
ATTACH;FMTTYPE=image/jpeg:https://www.pfh.org.uk/wp-content/uploads/2024/02/lunch-club.jpg
END:VEVENT
BEGIN:VEVENT
DTSTART;TZID=Europe/London:20280530T113000
DTEND;TZID=Europe/London:20280530T133000
DTSTAMP:20260419T132135
CREATED:20260119T142234Z
LAST-MODIFIED:20260119T143320Z
UID:10018190-1843299000-1843306200@www.pfh.org.uk
SUMMARY:Broadway Lunch Club
DESCRIPTION:£3\nContact Sue at pop in 07946 549 241
URL:https://www.pfh.org.uk/event/broadway-lunch-club/2028-05-30/
CATEGORIES:Open to Everyone,Resident Events
ATTACH;FMTTYPE=image/jpeg:https://www.pfh.org.uk/wp-content/uploads/2024/02/lunch-club.jpg
END:VEVENT
BEGIN:VEVENT
DTSTART;TZID=Europe/London:20280606T113000
DTEND;TZID=Europe/London:20280606T133000
DTSTAMP:20260419T132135
CREATED:20260119T142234Z
LAST-MODIFIED:20260119T143320Z
UID:10018191-1843903800-1843911000@www.pfh.org.uk
SUMMARY:Broadway Lunch Club
DESCRIPTION:£3\nContact Sue at pop in 07946 549 241
URL:https://www.pfh.org.uk/event/broadway-lunch-club/2028-06-06/
CATEGORIES:Open to Everyone,Resident Events
ATTACH;FMTTYPE=image/jpeg:https://www.pfh.org.uk/wp-content/uploads/2024/02/lunch-club.jpg
END:VEVENT
BEGIN:VEVENT
DTSTART;TZID=Europe/London:20280613T113000
DTEND;TZID=Europe/London:20280613T133000
DTSTAMP:20260419T132135
CREATED:20260119T142234Z
LAST-MODIFIED:20260119T143320Z
UID:10018192-1844508600-1844515800@www.pfh.org.uk
SUMMARY:Broadway Lunch Club
DESCRIPTION:£3\nContact Sue at pop in 07946 549 241
URL:https://www.pfh.org.uk/event/broadway-lunch-club/2028-06-13/
CATEGORIES:Open to Everyone,Resident Events
ATTACH;FMTTYPE=image/jpeg:https://www.pfh.org.uk/wp-content/uploads/2024/02/lunch-club.jpg
END:VEVENT
BEGIN:VEVENT
DTSTART;TZID=Europe/London:20280620T113000
DTEND;TZID=Europe/London:20280620T133000
DTSTAMP:20260419T132135
CREATED:20260119T142234Z
LAST-MODIFIED:20260119T143320Z
UID:10018193-1845113400-1845120600@www.pfh.org.uk
SUMMARY:Broadway Lunch Club
DESCRIPTION:£3\nContact Sue at pop in 07946 549 241
URL:https://www.pfh.org.uk/event/broadway-lunch-club/2028-06-20/
CATEGORIES:Open to Everyone,Resident Events
ATTACH;FMTTYPE=image/jpeg:https://www.pfh.org.uk/wp-content/uploads/2024/02/lunch-club.jpg
END:VEVENT
END:VCALENDAR