BEGIN:VCALENDAR
VERSION:2.0
PRODID:-//PFH Pickering &amp; Ferens Homes - ECPv6.15.20//NONSGML v1.0//EN
CALSCALE:GREGORIAN
METHOD:PUBLISH
X-ORIGINAL-URL:https://www.pfh.org.uk
X-WR-CALDESC:Events for PFH Pickering &amp; Ferens Homes
REFRESH-INTERVAL;VALUE=DURATION:PT1H
X-Robots-Tag:noindex
X-PUBLISHED-TTL:PT1H
BEGIN:VTIMEZONE
TZID:Europe/London
BEGIN:DAYLIGHT
TZOFFSETFROM:+0000
TZOFFSETTO:+0100
TZNAME:BST
DTSTART:20250330T010000
END:DAYLIGHT
BEGIN:STANDARD
TZOFFSETFROM:+0100
TZOFFSETTO:+0000
TZNAME:GMT
DTSTART:20251026T010000
END:STANDARD
BEGIN:DAYLIGHT
TZOFFSETFROM:+0000
TZOFFSETTO:+0100
TZNAME:BST
DTSTART:20260329T010000
END:DAYLIGHT
BEGIN:STANDARD
TZOFFSETFROM:+0100
TZOFFSETTO:+0000
TZNAME:GMT
DTSTART:20261025T010000
END:STANDARD
BEGIN:DAYLIGHT
TZOFFSETFROM:+0000
TZOFFSETTO:+0100
TZNAME:BST
DTSTART:20270328T010000
END:DAYLIGHT
BEGIN:STANDARD
TZOFFSETFROM:+0100
TZOFFSETTO:+0000
TZNAME:GMT
DTSTART:20271031T010000
END:STANDARD
END:VTIMEZONE
BEGIN:VEVENT
DTSTART;TZID=Europe/London:20260514T133000
DTEND;TZID=Europe/London:20260514T153000
DTSTAMP:20260426T040657
CREATED:20260119T150402Z
LAST-MODIFIED:20260119T150402Z
UID:10020487-1778765400-1778772600@www.pfh.org.uk
SUMMARY:Ada Film Club
DESCRIPTION:Resident Led
URL:https://www.pfh.org.uk/event/ada-film-club/2026-05-14/
LOCATION:Ada Holmes\, Ada Holmes Cir\, Hull\, HU6 9PB\, United Kingdom
CATEGORIES:Open to Everyone,Resident Events
ATTACH;FMTTYPE=image/jpeg:https://www.pfh.org.uk/wp-content/uploads/2024/03/3d-glasses-on-popcorn-7991378-683x1024.jpg
GEO:53.7823313;-0.3719218
X-APPLE-STRUCTURED-LOCATION;VALUE=URI;X-ADDRESS=Ada Holmes Ada Holmes Cir Hull HU6 9PB United Kingdom;X-APPLE-RADIUS=500;X-TITLE=Ada Holmes Cir:geo:-0.3719218,53.7823313
END:VEVENT
BEGIN:VEVENT
DTSTART;TZID=Europe/London:20260515T103000
DTEND;TZID=Europe/London:20260515T113000
DTSTAMP:20260426T040657
CREATED:20260119T150534Z
LAST-MODIFIED:20260119T150534Z
UID:10020746-1778841000-1778844600@www.pfh.org.uk
SUMMARY:Friday Friends
DESCRIPTION:Activity morning with Steph and Carol
URL:https://www.pfh.org.uk/event/friday-friends/2026-05-15/
LOCATION:Ada Holmes\, Ada Holmes Cir\, Hull\, HU6 9PB\, United Kingdom
CATEGORIES:Open to Everyone,Resident Events
ATTACH;FMTTYPE=image/jpeg:https://www.pfh.org.uk/wp-content/uploads/2024/02/Front-Cover-image.jpg
GEO:53.7823313;-0.3719218
X-APPLE-STRUCTURED-LOCATION;VALUE=URI;X-ADDRESS=Ada Holmes Ada Holmes Cir Hull HU6 9PB United Kingdom;X-APPLE-RADIUS=500;X-TITLE=Ada Holmes Cir:geo:-0.3719218,53.7823313
END:VEVENT
BEGIN:VEVENT
DTSTART;TZID=Europe/London:20260515T140000
DTEND;TZID=Europe/London:20260515T150000
DTSTAMP:20260426T040657
CREATED:20260119T150002Z
LAST-MODIFIED:20260119T150002Z
UID:10020154-1778853600-1778857200@www.pfh.org.uk
SUMMARY:Bingo
DESCRIPTION:Fridays\, 2pm
URL:https://www.pfh.org.uk/event/bingo-6/2026-05-15/
LOCATION:Ada Holmes\, Ada Holmes Cir\, Hull\, HU6 9PB\, United Kingdom
CATEGORIES:Open to Everyone,Resident Events
ATTACH;FMTTYPE=image/jpeg:https://www.pfh.org.uk/wp-content/uploads/2024/02/people-playing-bingo.jpg
GEO:53.7823313;-0.3719218
X-APPLE-STRUCTURED-LOCATION;VALUE=URI;X-ADDRESS=Ada Holmes Ada Holmes Cir Hull HU6 9PB United Kingdom;X-APPLE-RADIUS=500;X-TITLE=Ada Holmes Cir:geo:-0.3719218,53.7823313
END:VEVENT
BEGIN:VEVENT
DTSTART;TZID=Europe/London:20260520T090000
DTEND;TZID=Europe/London:20260520T100000
DTSTAMP:20260426T040657
CREATED:20240815T140611Z
LAST-MODIFIED:20260119T150151Z
UID:10009895-1779267600-1779271200@www.pfh.org.uk
SUMMARY:Hairdressers Service
DESCRIPTION:Contact Scheme Manager for appointments
URL:https://www.pfh.org.uk/event/hairdressers-service-3/2026-05-20/
LOCATION:Ada Holmes\, Ada Holmes Cir\, Hull\, HU6 9PB\, United Kingdom
CATEGORIES:Resident Events
ATTACH;FMTTYPE=image/jpeg:https://www.pfh.org.uk/wp-content/uploads/2024/02/blonde-woman-getting-her-hair-done.jpg
GEO:53.7823313;-0.3719218
X-APPLE-STRUCTURED-LOCATION;VALUE=URI;X-ADDRESS=Ada Holmes Ada Holmes Cir Hull HU6 9PB United Kingdom;X-APPLE-RADIUS=500;X-TITLE=Ada Holmes Cir:geo:-0.3719218,53.7823313
END:VEVENT
BEGIN:VEVENT
DTSTART;TZID=Europe/London:20260521T103000
DTEND;TZID=Europe/London:20260521T120000
DTSTAMP:20260426T040657
CREATED:20240221T154949Z
LAST-MODIFIED:20240815T140810Z
UID:10010150-1779359400-1779364800@www.pfh.org.uk
SUMMARY:Coffee Morning
DESCRIPTION:
URL:https://www.pfh.org.uk/event/coffee-morning-5/2026-05-21/
LOCATION:Ada Holmes\, Ada Holmes Cir\, Hull\, HU6 9PB\, United Kingdom
CATEGORIES:Resident Events
ATTACH;FMTTYPE=image/jpeg:https://www.pfh.org.uk/wp-content/uploads/2024/02/coffee.jpg
GEO:53.7823313;-0.3719218
X-APPLE-STRUCTURED-LOCATION;VALUE=URI;X-ADDRESS=Ada Holmes Ada Holmes Cir Hull HU6 9PB United Kingdom;X-APPLE-RADIUS=500;X-TITLE=Ada Holmes Cir:geo:-0.3719218,53.7823313
END:VEVENT
BEGIN:VEVENT
DTSTART;TZID=Europe/London:20260521T133000
DTEND;TZID=Europe/London:20260521T153000
DTSTAMP:20260426T040657
CREATED:20260119T150402Z
LAST-MODIFIED:20260119T150402Z
UID:10020488-1779370200-1779377400@www.pfh.org.uk
SUMMARY:Ada Film Club
DESCRIPTION:Resident Led
URL:https://www.pfh.org.uk/event/ada-film-club/2026-05-21/
LOCATION:Ada Holmes\, Ada Holmes Cir\, Hull\, HU6 9PB\, United Kingdom
CATEGORIES:Open to Everyone,Resident Events
ATTACH;FMTTYPE=image/jpeg:https://www.pfh.org.uk/wp-content/uploads/2024/03/3d-glasses-on-popcorn-7991378-683x1024.jpg
GEO:53.7823313;-0.3719218
X-APPLE-STRUCTURED-LOCATION;VALUE=URI;X-ADDRESS=Ada Holmes Ada Holmes Cir Hull HU6 9PB United Kingdom;X-APPLE-RADIUS=500;X-TITLE=Ada Holmes Cir:geo:-0.3719218,53.7823313
END:VEVENT
BEGIN:VEVENT
DTSTART;TZID=Europe/London:20260522T103000
DTEND;TZID=Europe/London:20260522T113000
DTSTAMP:20260426T040657
CREATED:20260119T150534Z
LAST-MODIFIED:20260119T150534Z
UID:10020747-1779445800-1779449400@www.pfh.org.uk
SUMMARY:Friday Friends
DESCRIPTION:Activity morning with Steph and Carol
URL:https://www.pfh.org.uk/event/friday-friends/2026-05-22/
LOCATION:Ada Holmes\, Ada Holmes Cir\, Hull\, HU6 9PB\, United Kingdom
CATEGORIES:Open to Everyone,Resident Events
ATTACH;FMTTYPE=image/jpeg:https://www.pfh.org.uk/wp-content/uploads/2024/02/Front-Cover-image.jpg
GEO:53.7823313;-0.3719218
X-APPLE-STRUCTURED-LOCATION;VALUE=URI;X-ADDRESS=Ada Holmes Ada Holmes Cir Hull HU6 9PB United Kingdom;X-APPLE-RADIUS=500;X-TITLE=Ada Holmes Cir:geo:-0.3719218,53.7823313
END:VEVENT
BEGIN:VEVENT
DTSTART;TZID=Europe/London:20260522T140000
DTEND;TZID=Europe/London:20260522T150000
DTSTAMP:20260426T040657
CREATED:20260119T150002Z
LAST-MODIFIED:20260119T150002Z
UID:10020155-1779458400-1779462000@www.pfh.org.uk
SUMMARY:Bingo
DESCRIPTION:Fridays\, 2pm
URL:https://www.pfh.org.uk/event/bingo-6/2026-05-22/
LOCATION:Ada Holmes\, Ada Holmes Cir\, Hull\, HU6 9PB\, United Kingdom
CATEGORIES:Open to Everyone,Resident Events
ATTACH;FMTTYPE=image/jpeg:https://www.pfh.org.uk/wp-content/uploads/2024/02/people-playing-bingo.jpg
GEO:53.7823313;-0.3719218
X-APPLE-STRUCTURED-LOCATION;VALUE=URI;X-ADDRESS=Ada Holmes Ada Holmes Cir Hull HU6 9PB United Kingdom;X-APPLE-RADIUS=500;X-TITLE=Ada Holmes Cir:geo:-0.3719218,53.7823313
END:VEVENT
BEGIN:VEVENT
DTSTART;TZID=Europe/London:20260527T090000
DTEND;TZID=Europe/London:20260527T100000
DTSTAMP:20260426T040657
CREATED:20240815T140611Z
LAST-MODIFIED:20260119T150151Z
UID:10009896-1779872400-1779876000@www.pfh.org.uk
SUMMARY:Hairdressers Service
DESCRIPTION:Contact Scheme Manager for appointments
URL:https://www.pfh.org.uk/event/hairdressers-service-3/2026-05-27/
LOCATION:Ada Holmes\, Ada Holmes Cir\, Hull\, HU6 9PB\, United Kingdom
CATEGORIES:Resident Events
ATTACH;FMTTYPE=image/jpeg:https://www.pfh.org.uk/wp-content/uploads/2024/02/blonde-woman-getting-her-hair-done.jpg
GEO:53.7823313;-0.3719218
X-APPLE-STRUCTURED-LOCATION;VALUE=URI;X-ADDRESS=Ada Holmes Ada Holmes Cir Hull HU6 9PB United Kingdom;X-APPLE-RADIUS=500;X-TITLE=Ada Holmes Cir:geo:-0.3719218,53.7823313
END:VEVENT
BEGIN:VEVENT
DTSTART;TZID=Europe/London:20260528T103000
DTEND;TZID=Europe/London:20260528T120000
DTSTAMP:20260426T040657
CREATED:20240221T154949Z
LAST-MODIFIED:20240815T140810Z
UID:10010151-1779964200-1779969600@www.pfh.org.uk
SUMMARY:Coffee Morning
DESCRIPTION:
URL:https://www.pfh.org.uk/event/coffee-morning-5/2026-05-28/
LOCATION:Ada Holmes\, Ada Holmes Cir\, Hull\, HU6 9PB\, United Kingdom
CATEGORIES:Resident Events
ATTACH;FMTTYPE=image/jpeg:https://www.pfh.org.uk/wp-content/uploads/2024/02/coffee.jpg
GEO:53.7823313;-0.3719218
X-APPLE-STRUCTURED-LOCATION;VALUE=URI;X-ADDRESS=Ada Holmes Ada Holmes Cir Hull HU6 9PB United Kingdom;X-APPLE-RADIUS=500;X-TITLE=Ada Holmes Cir:geo:-0.3719218,53.7823313
END:VEVENT
BEGIN:VEVENT
DTSTART;TZID=Europe/London:20260528T133000
DTEND;TZID=Europe/London:20260528T153000
DTSTAMP:20260426T040657
CREATED:20260119T150402Z
LAST-MODIFIED:20260119T150402Z
UID:10020489-1779975000-1779982200@www.pfh.org.uk
SUMMARY:Ada Film Club
DESCRIPTION:Resident Led
URL:https://www.pfh.org.uk/event/ada-film-club/2026-05-28/
LOCATION:Ada Holmes\, Ada Holmes Cir\, Hull\, HU6 9PB\, United Kingdom
CATEGORIES:Open to Everyone,Resident Events
ATTACH;FMTTYPE=image/jpeg:https://www.pfh.org.uk/wp-content/uploads/2024/03/3d-glasses-on-popcorn-7991378-683x1024.jpg
GEO:53.7823313;-0.3719218
X-APPLE-STRUCTURED-LOCATION;VALUE=URI;X-ADDRESS=Ada Holmes Ada Holmes Cir Hull HU6 9PB United Kingdom;X-APPLE-RADIUS=500;X-TITLE=Ada Holmes Cir:geo:-0.3719218,53.7823313
END:VEVENT
BEGIN:VEVENT
DTSTART;TZID=Europe/London:20260529T103000
DTEND;TZID=Europe/London:20260529T113000
DTSTAMP:20260426T040657
CREATED:20260119T150534Z
LAST-MODIFIED:20260119T150534Z
UID:10020748-1780050600-1780054200@www.pfh.org.uk
SUMMARY:Friday Friends
DESCRIPTION:Activity morning with Steph and Carol
URL:https://www.pfh.org.uk/event/friday-friends/2026-05-29/
LOCATION:Ada Holmes\, Ada Holmes Cir\, Hull\, HU6 9PB\, United Kingdom
CATEGORIES:Open to Everyone,Resident Events
ATTACH;FMTTYPE=image/jpeg:https://www.pfh.org.uk/wp-content/uploads/2024/02/Front-Cover-image.jpg
GEO:53.7823313;-0.3719218
X-APPLE-STRUCTURED-LOCATION;VALUE=URI;X-ADDRESS=Ada Holmes Ada Holmes Cir Hull HU6 9PB United Kingdom;X-APPLE-RADIUS=500;X-TITLE=Ada Holmes Cir:geo:-0.3719218,53.7823313
END:VEVENT
BEGIN:VEVENT
DTSTART;TZID=Europe/London:20260529T140000
DTEND;TZID=Europe/London:20260529T150000
DTSTAMP:20260426T040657
CREATED:20260119T150002Z
LAST-MODIFIED:20260119T150002Z
UID:10020156-1780063200-1780066800@www.pfh.org.uk
SUMMARY:Bingo
DESCRIPTION:Fridays\, 2pm
URL:https://www.pfh.org.uk/event/bingo-6/2026-05-29/
LOCATION:Ada Holmes\, Ada Holmes Cir\, Hull\, HU6 9PB\, United Kingdom
CATEGORIES:Open to Everyone,Resident Events
ATTACH;FMTTYPE=image/jpeg:https://www.pfh.org.uk/wp-content/uploads/2024/02/people-playing-bingo.jpg
GEO:53.7823313;-0.3719218
X-APPLE-STRUCTURED-LOCATION;VALUE=URI;X-ADDRESS=Ada Holmes Ada Holmes Cir Hull HU6 9PB United Kingdom;X-APPLE-RADIUS=500;X-TITLE=Ada Holmes Cir:geo:-0.3719218,53.7823313
END:VEVENT
BEGIN:VEVENT
DTSTART;TZID=Europe/London:20260603T090000
DTEND;TZID=Europe/London:20260603T100000
DTSTAMP:20260426T040657
CREATED:20240815T140611Z
LAST-MODIFIED:20260119T150151Z
UID:10009897-1780477200-1780480800@www.pfh.org.uk
SUMMARY:Hairdressers Service
DESCRIPTION:Contact Scheme Manager for appointments
URL:https://www.pfh.org.uk/event/hairdressers-service-3/2026-06-03/
LOCATION:Ada Holmes\, Ada Holmes Cir\, Hull\, HU6 9PB\, United Kingdom
CATEGORIES:Resident Events
ATTACH;FMTTYPE=image/jpeg:https://www.pfh.org.uk/wp-content/uploads/2024/02/blonde-woman-getting-her-hair-done.jpg
GEO:53.7823313;-0.3719218
X-APPLE-STRUCTURED-LOCATION;VALUE=URI;X-ADDRESS=Ada Holmes Ada Holmes Cir Hull HU6 9PB United Kingdom;X-APPLE-RADIUS=500;X-TITLE=Ada Holmes Cir:geo:-0.3719218,53.7823313
END:VEVENT
BEGIN:VEVENT
DTSTART;TZID=Europe/London:20260604T103000
DTEND;TZID=Europe/London:20260604T120000
DTSTAMP:20260426T040657
CREATED:20240221T154949Z
LAST-MODIFIED:20240815T140810Z
UID:10010152-1780569000-1780574400@www.pfh.org.uk
SUMMARY:Coffee Morning
DESCRIPTION:
URL:https://www.pfh.org.uk/event/coffee-morning-5/2026-06-04/
LOCATION:Ada Holmes\, Ada Holmes Cir\, Hull\, HU6 9PB\, United Kingdom
CATEGORIES:Resident Events
ATTACH;FMTTYPE=image/jpeg:https://www.pfh.org.uk/wp-content/uploads/2024/02/coffee.jpg
GEO:53.7823313;-0.3719218
X-APPLE-STRUCTURED-LOCATION;VALUE=URI;X-ADDRESS=Ada Holmes Ada Holmes Cir Hull HU6 9PB United Kingdom;X-APPLE-RADIUS=500;X-TITLE=Ada Holmes Cir:geo:-0.3719218,53.7823313
END:VEVENT
BEGIN:VEVENT
DTSTART;TZID=Europe/London:20260604T133000
DTEND;TZID=Europe/London:20260604T153000
DTSTAMP:20260426T040657
CREATED:20260119T150402Z
LAST-MODIFIED:20260119T150402Z
UID:10020490-1780579800-1780587000@www.pfh.org.uk
SUMMARY:Ada Film Club
DESCRIPTION:Resident Led
URL:https://www.pfh.org.uk/event/ada-film-club/2026-06-04/
LOCATION:Ada Holmes\, Ada Holmes Cir\, Hull\, HU6 9PB\, United Kingdom
CATEGORIES:Open to Everyone,Resident Events
ATTACH;FMTTYPE=image/jpeg:https://www.pfh.org.uk/wp-content/uploads/2024/03/3d-glasses-on-popcorn-7991378-683x1024.jpg
GEO:53.7823313;-0.3719218
X-APPLE-STRUCTURED-LOCATION;VALUE=URI;X-ADDRESS=Ada Holmes Ada Holmes Cir Hull HU6 9PB United Kingdom;X-APPLE-RADIUS=500;X-TITLE=Ada Holmes Cir:geo:-0.3719218,53.7823313
END:VEVENT
BEGIN:VEVENT
DTSTART;TZID=Europe/London:20260605T103000
DTEND;TZID=Europe/London:20260605T113000
DTSTAMP:20260426T040657
CREATED:20260119T150534Z
LAST-MODIFIED:20260119T150534Z
UID:10020749-1780655400-1780659000@www.pfh.org.uk
SUMMARY:Friday Friends
DESCRIPTION:Activity morning with Steph and Carol
URL:https://www.pfh.org.uk/event/friday-friends/2026-06-05/
LOCATION:Ada Holmes\, Ada Holmes Cir\, Hull\, HU6 9PB\, United Kingdom
CATEGORIES:Open to Everyone,Resident Events
ATTACH;FMTTYPE=image/jpeg:https://www.pfh.org.uk/wp-content/uploads/2024/02/Front-Cover-image.jpg
GEO:53.7823313;-0.3719218
X-APPLE-STRUCTURED-LOCATION;VALUE=URI;X-ADDRESS=Ada Holmes Ada Holmes Cir Hull HU6 9PB United Kingdom;X-APPLE-RADIUS=500;X-TITLE=Ada Holmes Cir:geo:-0.3719218,53.7823313
END:VEVENT
BEGIN:VEVENT
DTSTART;TZID=Europe/London:20260605T140000
DTEND;TZID=Europe/London:20260605T150000
DTSTAMP:20260426T040657
CREATED:20260119T150002Z
LAST-MODIFIED:20260119T150002Z
UID:10020157-1780668000-1780671600@www.pfh.org.uk
SUMMARY:Bingo
DESCRIPTION:Fridays\, 2pm
URL:https://www.pfh.org.uk/event/bingo-6/2026-06-05/
LOCATION:Ada Holmes\, Ada Holmes Cir\, Hull\, HU6 9PB\, United Kingdom
CATEGORIES:Open to Everyone,Resident Events
ATTACH;FMTTYPE=image/jpeg:https://www.pfh.org.uk/wp-content/uploads/2024/02/people-playing-bingo.jpg
GEO:53.7823313;-0.3719218
X-APPLE-STRUCTURED-LOCATION;VALUE=URI;X-ADDRESS=Ada Holmes Ada Holmes Cir Hull HU6 9PB United Kingdom;X-APPLE-RADIUS=500;X-TITLE=Ada Holmes Cir:geo:-0.3719218,53.7823313
END:VEVENT
BEGIN:VEVENT
DTSTART;TZID=Europe/London:20260610T090000
DTEND;TZID=Europe/London:20260610T100000
DTSTAMP:20260426T040657
CREATED:20240815T140611Z
LAST-MODIFIED:20260119T150151Z
UID:10009898-1781082000-1781085600@www.pfh.org.uk
SUMMARY:Hairdressers Service
DESCRIPTION:Contact Scheme Manager for appointments
URL:https://www.pfh.org.uk/event/hairdressers-service-3/2026-06-10/
LOCATION:Ada Holmes\, Ada Holmes Cir\, Hull\, HU6 9PB\, United Kingdom
CATEGORIES:Resident Events
ATTACH;FMTTYPE=image/jpeg:https://www.pfh.org.uk/wp-content/uploads/2024/02/blonde-woman-getting-her-hair-done.jpg
GEO:53.7823313;-0.3719218
X-APPLE-STRUCTURED-LOCATION;VALUE=URI;X-ADDRESS=Ada Holmes Ada Holmes Cir Hull HU6 9PB United Kingdom;X-APPLE-RADIUS=500;X-TITLE=Ada Holmes Cir:geo:-0.3719218,53.7823313
END:VEVENT
BEGIN:VEVENT
DTSTART;TZID=Europe/London:20260611T103000
DTEND;TZID=Europe/London:20260611T120000
DTSTAMP:20260426T040657
CREATED:20240221T154949Z
LAST-MODIFIED:20240815T140810Z
UID:10010153-1781173800-1781179200@www.pfh.org.uk
SUMMARY:Coffee Morning
DESCRIPTION:
URL:https://www.pfh.org.uk/event/coffee-morning-5/2026-06-11/
LOCATION:Ada Holmes\, Ada Holmes Cir\, Hull\, HU6 9PB\, United Kingdom
CATEGORIES:Resident Events
ATTACH;FMTTYPE=image/jpeg:https://www.pfh.org.uk/wp-content/uploads/2024/02/coffee.jpg
GEO:53.7823313;-0.3719218
X-APPLE-STRUCTURED-LOCATION;VALUE=URI;X-ADDRESS=Ada Holmes Ada Holmes Cir Hull HU6 9PB United Kingdom;X-APPLE-RADIUS=500;X-TITLE=Ada Holmes Cir:geo:-0.3719218,53.7823313
END:VEVENT
BEGIN:VEVENT
DTSTART;TZID=Europe/London:20260611T133000
DTEND;TZID=Europe/London:20260611T153000
DTSTAMP:20260426T040657
CREATED:20260119T150402Z
LAST-MODIFIED:20260119T150402Z
UID:10020491-1781184600-1781191800@www.pfh.org.uk
SUMMARY:Ada Film Club
DESCRIPTION:Resident Led
URL:https://www.pfh.org.uk/event/ada-film-club/2026-06-11/
LOCATION:Ada Holmes\, Ada Holmes Cir\, Hull\, HU6 9PB\, United Kingdom
CATEGORIES:Open to Everyone,Resident Events
ATTACH;FMTTYPE=image/jpeg:https://www.pfh.org.uk/wp-content/uploads/2024/03/3d-glasses-on-popcorn-7991378-683x1024.jpg
GEO:53.7823313;-0.3719218
X-APPLE-STRUCTURED-LOCATION;VALUE=URI;X-ADDRESS=Ada Holmes Ada Holmes Cir Hull HU6 9PB United Kingdom;X-APPLE-RADIUS=500;X-TITLE=Ada Holmes Cir:geo:-0.3719218,53.7823313
END:VEVENT
BEGIN:VEVENT
DTSTART;TZID=Europe/London:20260612T103000
DTEND;TZID=Europe/London:20260612T113000
DTSTAMP:20260426T040657
CREATED:20260119T150534Z
LAST-MODIFIED:20260119T150534Z
UID:10020750-1781260200-1781263800@www.pfh.org.uk
SUMMARY:Friday Friends
DESCRIPTION:Activity morning with Steph and Carol
URL:https://www.pfh.org.uk/event/friday-friends/2026-06-12/
LOCATION:Ada Holmes\, Ada Holmes Cir\, Hull\, HU6 9PB\, United Kingdom
CATEGORIES:Open to Everyone,Resident Events
ATTACH;FMTTYPE=image/jpeg:https://www.pfh.org.uk/wp-content/uploads/2024/02/Front-Cover-image.jpg
GEO:53.7823313;-0.3719218
X-APPLE-STRUCTURED-LOCATION;VALUE=URI;X-ADDRESS=Ada Holmes Ada Holmes Cir Hull HU6 9PB United Kingdom;X-APPLE-RADIUS=500;X-TITLE=Ada Holmes Cir:geo:-0.3719218,53.7823313
END:VEVENT
BEGIN:VEVENT
DTSTART;TZID=Europe/London:20260612T140000
DTEND;TZID=Europe/London:20260612T150000
DTSTAMP:20260426T040657
CREATED:20260119T150002Z
LAST-MODIFIED:20260119T150002Z
UID:10020158-1781272800-1781276400@www.pfh.org.uk
SUMMARY:Bingo
DESCRIPTION:Fridays\, 2pm
URL:https://www.pfh.org.uk/event/bingo-6/2026-06-12/
LOCATION:Ada Holmes\, Ada Holmes Cir\, Hull\, HU6 9PB\, United Kingdom
CATEGORIES:Open to Everyone,Resident Events
ATTACH;FMTTYPE=image/jpeg:https://www.pfh.org.uk/wp-content/uploads/2024/02/people-playing-bingo.jpg
GEO:53.7823313;-0.3719218
X-APPLE-STRUCTURED-LOCATION;VALUE=URI;X-ADDRESS=Ada Holmes Ada Holmes Cir Hull HU6 9PB United Kingdom;X-APPLE-RADIUS=500;X-TITLE=Ada Holmes Cir:geo:-0.3719218,53.7823313
END:VEVENT
BEGIN:VEVENT
DTSTART;TZID=Europe/London:20260617T090000
DTEND;TZID=Europe/London:20260617T100000
DTSTAMP:20260426T040657
CREATED:20240815T140611Z
LAST-MODIFIED:20260119T150151Z
UID:10009899-1781686800-1781690400@www.pfh.org.uk
SUMMARY:Hairdressers Service
DESCRIPTION:Contact Scheme Manager for appointments
URL:https://www.pfh.org.uk/event/hairdressers-service-3/2026-06-17/
LOCATION:Ada Holmes\, Ada Holmes Cir\, Hull\, HU6 9PB\, United Kingdom
CATEGORIES:Resident Events
ATTACH;FMTTYPE=image/jpeg:https://www.pfh.org.uk/wp-content/uploads/2024/02/blonde-woman-getting-her-hair-done.jpg
GEO:53.7823313;-0.3719218
X-APPLE-STRUCTURED-LOCATION;VALUE=URI;X-ADDRESS=Ada Holmes Ada Holmes Cir Hull HU6 9PB United Kingdom;X-APPLE-RADIUS=500;X-TITLE=Ada Holmes Cir:geo:-0.3719218,53.7823313
END:VEVENT
BEGIN:VEVENT
DTSTART;TZID=Europe/London:20260618T103000
DTEND;TZID=Europe/London:20260618T120000
DTSTAMP:20260426T040657
CREATED:20240221T154949Z
LAST-MODIFIED:20240815T140810Z
UID:10010154-1781778600-1781784000@www.pfh.org.uk
SUMMARY:Coffee Morning
DESCRIPTION:
URL:https://www.pfh.org.uk/event/coffee-morning-5/2026-06-18/
LOCATION:Ada Holmes\, Ada Holmes Cir\, Hull\, HU6 9PB\, United Kingdom
CATEGORIES:Resident Events
ATTACH;FMTTYPE=image/jpeg:https://www.pfh.org.uk/wp-content/uploads/2024/02/coffee.jpg
GEO:53.7823313;-0.3719218
X-APPLE-STRUCTURED-LOCATION;VALUE=URI;X-ADDRESS=Ada Holmes Ada Holmes Cir Hull HU6 9PB United Kingdom;X-APPLE-RADIUS=500;X-TITLE=Ada Holmes Cir:geo:-0.3719218,53.7823313
END:VEVENT
BEGIN:VEVENT
DTSTART;TZID=Europe/London:20260618T133000
DTEND;TZID=Europe/London:20260618T153000
DTSTAMP:20260426T040657
CREATED:20260119T150402Z
LAST-MODIFIED:20260119T150402Z
UID:10020492-1781789400-1781796600@www.pfh.org.uk
SUMMARY:Ada Film Club
DESCRIPTION:Resident Led
URL:https://www.pfh.org.uk/event/ada-film-club/2026-06-18/
LOCATION:Ada Holmes\, Ada Holmes Cir\, Hull\, HU6 9PB\, United Kingdom
CATEGORIES:Open to Everyone,Resident Events
ATTACH;FMTTYPE=image/jpeg:https://www.pfh.org.uk/wp-content/uploads/2024/03/3d-glasses-on-popcorn-7991378-683x1024.jpg
GEO:53.7823313;-0.3719218
X-APPLE-STRUCTURED-LOCATION;VALUE=URI;X-ADDRESS=Ada Holmes Ada Holmes Cir Hull HU6 9PB United Kingdom;X-APPLE-RADIUS=500;X-TITLE=Ada Holmes Cir:geo:-0.3719218,53.7823313
END:VEVENT
BEGIN:VEVENT
DTSTART;TZID=Europe/London:20260619T103000
DTEND;TZID=Europe/London:20260619T113000
DTSTAMP:20260426T040657
CREATED:20260119T150534Z
LAST-MODIFIED:20260119T150534Z
UID:10020751-1781865000-1781868600@www.pfh.org.uk
SUMMARY:Friday Friends
DESCRIPTION:Activity morning with Steph and Carol
URL:https://www.pfh.org.uk/event/friday-friends/2026-06-19/
LOCATION:Ada Holmes\, Ada Holmes Cir\, Hull\, HU6 9PB\, United Kingdom
CATEGORIES:Open to Everyone,Resident Events
ATTACH;FMTTYPE=image/jpeg:https://www.pfh.org.uk/wp-content/uploads/2024/02/Front-Cover-image.jpg
GEO:53.7823313;-0.3719218
X-APPLE-STRUCTURED-LOCATION;VALUE=URI;X-ADDRESS=Ada Holmes Ada Holmes Cir Hull HU6 9PB United Kingdom;X-APPLE-RADIUS=500;X-TITLE=Ada Holmes Cir:geo:-0.3719218,53.7823313
END:VEVENT
BEGIN:VEVENT
DTSTART;TZID=Europe/London:20260619T140000
DTEND;TZID=Europe/London:20260619T150000
DTSTAMP:20260426T040657
CREATED:20260119T150002Z
LAST-MODIFIED:20260119T150002Z
UID:10020159-1781877600-1781881200@www.pfh.org.uk
SUMMARY:Bingo
DESCRIPTION:Fridays\, 2pm
URL:https://www.pfh.org.uk/event/bingo-6/2026-06-19/
LOCATION:Ada Holmes\, Ada Holmes Cir\, Hull\, HU6 9PB\, United Kingdom
CATEGORIES:Open to Everyone,Resident Events
ATTACH;FMTTYPE=image/jpeg:https://www.pfh.org.uk/wp-content/uploads/2024/02/people-playing-bingo.jpg
GEO:53.7823313;-0.3719218
X-APPLE-STRUCTURED-LOCATION;VALUE=URI;X-ADDRESS=Ada Holmes Ada Holmes Cir Hull HU6 9PB United Kingdom;X-APPLE-RADIUS=500;X-TITLE=Ada Holmes Cir:geo:-0.3719218,53.7823313
END:VEVENT
BEGIN:VEVENT
DTSTART;TZID=Europe/London:20260624T090000
DTEND;TZID=Europe/London:20260624T100000
DTSTAMP:20260426T040657
CREATED:20240815T140611Z
LAST-MODIFIED:20260119T150151Z
UID:10009900-1782291600-1782295200@www.pfh.org.uk
SUMMARY:Hairdressers Service
DESCRIPTION:Contact Scheme Manager for appointments
URL:https://www.pfh.org.uk/event/hairdressers-service-3/2026-06-24/
LOCATION:Ada Holmes\, Ada Holmes Cir\, Hull\, HU6 9PB\, United Kingdom
CATEGORIES:Resident Events
ATTACH;FMTTYPE=image/jpeg:https://www.pfh.org.uk/wp-content/uploads/2024/02/blonde-woman-getting-her-hair-done.jpg
GEO:53.7823313;-0.3719218
X-APPLE-STRUCTURED-LOCATION;VALUE=URI;X-ADDRESS=Ada Holmes Ada Holmes Cir Hull HU6 9PB United Kingdom;X-APPLE-RADIUS=500;X-TITLE=Ada Holmes Cir:geo:-0.3719218,53.7823313
END:VEVENT
BEGIN:VEVENT
DTSTART;TZID=Europe/London:20260625T103000
DTEND;TZID=Europe/London:20260625T120000
DTSTAMP:20260426T040657
CREATED:20240221T154949Z
LAST-MODIFIED:20240815T140810Z
UID:10010155-1782383400-1782388800@www.pfh.org.uk
SUMMARY:Coffee Morning
DESCRIPTION:
URL:https://www.pfh.org.uk/event/coffee-morning-5/2026-06-25/
LOCATION:Ada Holmes\, Ada Holmes Cir\, Hull\, HU6 9PB\, United Kingdom
CATEGORIES:Resident Events
ATTACH;FMTTYPE=image/jpeg:https://www.pfh.org.uk/wp-content/uploads/2024/02/coffee.jpg
GEO:53.7823313;-0.3719218
X-APPLE-STRUCTURED-LOCATION;VALUE=URI;X-ADDRESS=Ada Holmes Ada Holmes Cir Hull HU6 9PB United Kingdom;X-APPLE-RADIUS=500;X-TITLE=Ada Holmes Cir:geo:-0.3719218,53.7823313
END:VEVENT
END:VCALENDAR