BEGIN:VCALENDAR
VERSION:2.0
PRODID:-//PFH Pickering &amp; Ferens Homes - ECPv6.15.20//NONSGML v1.0//EN
CALSCALE:GREGORIAN
METHOD:PUBLISH
X-ORIGINAL-URL:https://www.pfh.org.uk
X-WR-CALDESC:Events for PFH Pickering &amp; Ferens Homes
REFRESH-INTERVAL;VALUE=DURATION:PT1H
X-Robots-Tag:noindex
X-PUBLISHED-TTL:PT1H
BEGIN:VTIMEZONE
TZID:Europe/London
BEGIN:DAYLIGHT
TZOFFSETFROM:+0000
TZOFFSETTO:+0100
TZNAME:BST
DTSTART:20250330T010000
END:DAYLIGHT
BEGIN:STANDARD
TZOFFSETFROM:+0100
TZOFFSETTO:+0000
TZNAME:GMT
DTSTART:20251026T010000
END:STANDARD
BEGIN:DAYLIGHT
TZOFFSETFROM:+0000
TZOFFSETTO:+0100
TZNAME:BST
DTSTART:20260329T010000
END:DAYLIGHT
BEGIN:STANDARD
TZOFFSETFROM:+0100
TZOFFSETTO:+0000
TZNAME:GMT
DTSTART:20261025T010000
END:STANDARD
BEGIN:DAYLIGHT
TZOFFSETFROM:+0000
TZOFFSETTO:+0100
TZNAME:BST
DTSTART:20270328T010000
END:DAYLIGHT
BEGIN:STANDARD
TZOFFSETFROM:+0100
TZOFFSETTO:+0000
TZNAME:GMT
DTSTART:20271031T010000
END:STANDARD
END:VTIMEZONE
BEGIN:VEVENT
DTSTART;TZID=Europe/London:20260331T110000
DTEND;TZID=Europe/London:20260331T123000
DTSTAMP:20260425T142423
CREATED:20240221T102955Z
LAST-MODIFIED:20240402T145131Z
UID:10001724-1774954800-1774960200@www.pfh.org.uk
SUMMARY:Singing for the Brain
DESCRIPTION:Contact Julie for places before attending
URL:https://www.pfh.org.uk/event/singing-for-the-brain/2026-03-31/
LOCATION:Florence Nightingale Court\, Florence Nightingale Ct\, Hull\, HU5 4BW\, United Kingdom
CATEGORIES:Resident Events
ATTACH;FMTTYPE=image/png:https://www.pfh.org.uk/wp-content/uploads/2024/02/Alzheimers_Society_logo.png
ORGANIZER;CN="Alzheimer's Society":MAILTO:hulleastriding@alzheimers.org.uk
GEO:53.7691182;-0.3807095
X-APPLE-STRUCTURED-LOCATION;VALUE=URI;X-ADDRESS=Florence Nightingale Court Florence Nightingale Ct Hull HU5 4BW United Kingdom;X-APPLE-RADIUS=500;X-TITLE=Florence Nightingale Ct:geo:-0.3807095,53.7691182
END:VEVENT
BEGIN:VEVENT
DTSTART;TZID=Europe/London:20260330T190000
DTEND;TZID=Europe/London:20260330T220000
DTSTAMP:20260425T142423
CREATED:20240221T110549Z
LAST-MODIFIED:20240815T131203Z
UID:10007828-1774897200-1774908000@www.pfh.org.uk
SUMMARY:Ladies in Red
DESCRIPTION:Singing group rehearsals – Contact Elaine 07871 080 810
URL:https://www.pfh.org.uk/event/ladies-in-red/2026-03-30/
LOCATION:Florence Nightingale Court\, Florence Nightingale Ct\, Hull\, HU5 4BW\, United Kingdom
CATEGORIES:Resident Events
ATTACH;FMTTYPE=image/jpeg:https://www.pfh.org.uk/wp-content/uploads/2024/02/ladies-singing-group.jpg
ORGANIZER;CN="PFH":MAILTO:info@pfh.org.uk
GEO:53.7691182;-0.3807095
X-APPLE-STRUCTURED-LOCATION;VALUE=URI;X-ADDRESS=Florence Nightingale Court Florence Nightingale Ct Hull HU5 4BW United Kingdom;X-APPLE-RADIUS=500;X-TITLE=Florence Nightingale Ct:geo:-0.3807095,53.7691182
END:VEVENT
BEGIN:VEVENT
DTSTART;TZID=Europe/London:20260330T110000
DTEND;TZID=Europe/London:20260330T120000
DTSTAMP:20260425T142423
CREATED:20260119T141441Z
LAST-MODIFIED:20260119T142929Z
UID:10017226-1774868400-1774872000@www.pfh.org.uk
SUMMARY:Exercise to music with Holly
DESCRIPTION:£3 each\, refreshments available after. \nContact 07395 447 272.
URL:https://www.pfh.org.uk/event/exercise-to-music-with-holly/2026-03-30/
LOCATION:Florence Nightingale Court\, Florence Nightingale Ct\, Hull\, HU5 4BW\, United Kingdom
CATEGORIES:Open to Everyone,Resident Events
ATTACH;FMTTYPE=image/jpeg:https://www.pfh.org.uk/wp-content/uploads/2024/01/Woman-in-exercise-class-with-arms-up.jpg
GEO:53.7691182;-0.3807095
X-APPLE-STRUCTURED-LOCATION;VALUE=URI;X-ADDRESS=Florence Nightingale Court Florence Nightingale Ct Hull HU5 4BW United Kingdom;X-APPLE-RADIUS=500;X-TITLE=Florence Nightingale Ct:geo:-0.3807095,53.7691182
END:VEVENT
BEGIN:VEVENT
DTSTART;TZID=Europe/London:20260329T103000
DTEND;TZID=Europe/London:20260329T123000
DTSTAMP:20260425T142423
CREATED:20240221T111025Z
LAST-MODIFIED:20240314T144633Z
UID:10001962-1774780200-1774787400@www.pfh.org.uk
SUMMARY:Church Service
DESCRIPTION:
URL:https://www.pfh.org.uk/event/church-service/2026-03-29/
LOCATION:Florence Nightingale Court\, Florence Nightingale Ct\, Hull\, HU5 4BW\, United Kingdom
CATEGORIES:Resident Events
ATTACH;FMTTYPE=image/jpeg:https://www.pfh.org.uk/wp-content/uploads/2024/02/christian-cross.jpg
GEO:53.7691182;-0.3807095
X-APPLE-STRUCTURED-LOCATION;VALUE=URI;X-ADDRESS=Florence Nightingale Court Florence Nightingale Ct Hull HU5 4BW United Kingdom;X-APPLE-RADIUS=500;X-TITLE=Florence Nightingale Ct:geo:-0.3807095,53.7691182
END:VEVENT
BEGIN:VEVENT
DTSTART;TZID=Europe/London:20260326T130000
DTEND;TZID=Europe/London:20260326T153000
DTSTAMP:20260425T142424
CREATED:20240220T164337Z
LAST-MODIFIED:20240815T130530Z
UID:10007574-1774530000-1774539000@www.pfh.org.uk
SUMMARY:Feel Good Thursdays
DESCRIPTION:With Age UK \n£5 per session \nContact Age UK on 01482 324 644
URL:https://www.pfh.org.uk/event/feel-good-thursdays/2026-03-26/
LOCATION:Florence Nightingale Court\, Florence Nightingale Ct\, Hull\, HU5 4BW\, United Kingdom
CATEGORIES:Resident Events
ATTACH;FMTTYPE=image/jpeg:https://www.pfh.org.uk/wp-content/uploads/2024/02/331406747_1552663315203290_1604971751715755828_n.jpg
GEO:53.7691182;-0.3807095
X-APPLE-STRUCTURED-LOCATION;VALUE=URI;X-ADDRESS=Florence Nightingale Court Florence Nightingale Ct Hull HU5 4BW United Kingdom;X-APPLE-RADIUS=500;X-TITLE=Florence Nightingale Ct:geo:-0.3807095,53.7691182
END:VEVENT
BEGIN:VEVENT
DTSTART;TZID=Europe/London:20260326T110000
DTEND;TZID=Europe/London:20260326T120000
DTSTAMP:20260425T142424
CREATED:20260119T141628Z
LAST-MODIFIED:20260119T143359Z
UID:10018334-1774522800-1774526400@www.pfh.org.uk
SUMMARY:Tai Chi
DESCRIPTION:Thursdays 11am – 12pm \n£3 per session with Janet 07864 629 105
URL:https://www.pfh.org.uk/event/tai-chi-2/2026-03-26/
LOCATION:Florence Nightingale Court\, Florence Nightingale Ct\, Hull\, HU5 4BW\, United Kingdom
CATEGORIES:Open to Everyone,Resident Events
ATTACH;FMTTYPE=image/jpeg:https://www.pfh.org.uk/wp-content/uploads/2024/03/man-in-black-outfit-practicing-tai-chi-8461244-1024x684.jpg
GEO:53.7691182;-0.3807095
X-APPLE-STRUCTURED-LOCATION;VALUE=URI;X-ADDRESS=Florence Nightingale Court Florence Nightingale Ct Hull HU5 4BW United Kingdom;X-APPLE-RADIUS=500;X-TITLE=Florence Nightingale Ct:geo:-0.3807095,53.7691182
END:VEVENT
BEGIN:VEVENT
DTSTART;TZID=Europe/London:20260325T133000
DTEND;TZID=Europe/London:20260325T153000
DTSTAMP:20260425T142424
CREATED:20260119T141049Z
LAST-MODIFIED:20260119T153712Z
UID:10016966-1774445400-1774452600@www.pfh.org.uk
SUMMARY:The Hands of Friendship Knitting/Craft group
DESCRIPTION:Wednesdays 1:30pm – 3:30pm \nWith Hull Community Knitting Group. \nContact Sharon on 07894 568 458.
URL:https://www.pfh.org.uk/event/the-hands-of-friendship-knitting-craft-group/2026-03-25/
LOCATION:Florence Nightingale Court\, Florence Nightingale Ct\, Hull\, HU5 4BW\, United Kingdom
CATEGORIES:Open to Everyone,Resident Events
ATTACH;FMTTYPE=image/jpeg:https://www.pfh.org.uk/wp-content/uploads/2024/02/wool-knitting-needles-basket.jpg
GEO:53.7691182;-0.3807095
X-APPLE-STRUCTURED-LOCATION;VALUE=URI;X-ADDRESS=Florence Nightingale Court Florence Nightingale Ct Hull HU5 4BW United Kingdom;X-APPLE-RADIUS=500;X-TITLE=Florence Nightingale Ct:geo:-0.3807095,53.7691182
END:VEVENT
BEGIN:VEVENT
DTSTART;TZID=Europe/London:20260325T110000
DTEND;TZID=Europe/London:20260325T123000
DTSTAMP:20260425T142424
CREATED:20240221T104414Z
LAST-MODIFIED:20240815T130817Z
UID:10001823-1774436400-1774441800@www.pfh.org.uk
SUMMARY:Carers Support Group
DESCRIPTION:For carers supporting people living with Dementia – contact Julie on 07943 802 509 for places before attending.
URL:https://www.pfh.org.uk/event/carers-support-group/2026-03-25/
LOCATION:Florence Nightingale Court\, Florence Nightingale Ct\, Hull\, HU5 4BW\, United Kingdom
CATEGORIES:Resident Events
ATTACH;FMTTYPE=image/jpeg:https://www.pfh.org.uk/wp-content/uploads/2024/02/carer-support.jpg
ORGANIZER;CN="Alzheimer's Society":MAILTO:hulleastriding@alzheimers.org.uk
GEO:53.7691182;-0.3807095
X-APPLE-STRUCTURED-LOCATION;VALUE=URI;X-ADDRESS=Florence Nightingale Court Florence Nightingale Ct Hull HU5 4BW United Kingdom;X-APPLE-RADIUS=500;X-TITLE=Florence Nightingale Ct:geo:-0.3807095,53.7691182
END:VEVENT
BEGIN:VEVENT
DTSTART;TZID=Europe/London:20260323T190000
DTEND;TZID=Europe/London:20260323T220000
DTSTAMP:20260425T142424
CREATED:20240221T110549Z
LAST-MODIFIED:20240815T131203Z
UID:10007827-1774292400-1774303200@www.pfh.org.uk
SUMMARY:Ladies in Red
DESCRIPTION:Singing group rehearsals – Contact Elaine 07871 080 810
URL:https://www.pfh.org.uk/event/ladies-in-red/2026-03-23/
LOCATION:Florence Nightingale Court\, Florence Nightingale Ct\, Hull\, HU5 4BW\, United Kingdom
CATEGORIES:Resident Events
ATTACH;FMTTYPE=image/jpeg:https://www.pfh.org.uk/wp-content/uploads/2024/02/ladies-singing-group.jpg
ORGANIZER;CN="PFH":MAILTO:info@pfh.org.uk
GEO:53.7691182;-0.3807095
X-APPLE-STRUCTURED-LOCATION;VALUE=URI;X-ADDRESS=Florence Nightingale Court Florence Nightingale Ct Hull HU5 4BW United Kingdom;X-APPLE-RADIUS=500;X-TITLE=Florence Nightingale Ct:geo:-0.3807095,53.7691182
END:VEVENT
BEGIN:VEVENT
DTSTART;TZID=Europe/London:20260323T110000
DTEND;TZID=Europe/London:20260323T120000
DTSTAMP:20260425T142424
CREATED:20260119T141441Z
LAST-MODIFIED:20260119T142929Z
UID:10017225-1774263600-1774267200@www.pfh.org.uk
SUMMARY:Exercise to music with Holly
DESCRIPTION:£3 each\, refreshments available after. \nContact 07395 447 272.
URL:https://www.pfh.org.uk/event/exercise-to-music-with-holly/2026-03-23/
LOCATION:Florence Nightingale Court\, Florence Nightingale Ct\, Hull\, HU5 4BW\, United Kingdom
CATEGORIES:Open to Everyone,Resident Events
ATTACH;FMTTYPE=image/jpeg:https://www.pfh.org.uk/wp-content/uploads/2024/01/Woman-in-exercise-class-with-arms-up.jpg
GEO:53.7691182;-0.3807095
X-APPLE-STRUCTURED-LOCATION;VALUE=URI;X-ADDRESS=Florence Nightingale Court Florence Nightingale Ct Hull HU5 4BW United Kingdom;X-APPLE-RADIUS=500;X-TITLE=Florence Nightingale Ct:geo:-0.3807095,53.7691182
END:VEVENT
BEGIN:VEVENT
DTSTART;TZID=Europe/London:20260322T103000
DTEND;TZID=Europe/London:20260322T123000
DTSTAMP:20260425T142424
CREATED:20240221T111025Z
LAST-MODIFIED:20240314T144633Z
UID:10001961-1774175400-1774182600@www.pfh.org.uk
SUMMARY:Church Service
DESCRIPTION:
URL:https://www.pfh.org.uk/event/church-service/2026-03-22/
LOCATION:Florence Nightingale Court\, Florence Nightingale Ct\, Hull\, HU5 4BW\, United Kingdom
CATEGORIES:Resident Events
ATTACH;FMTTYPE=image/jpeg:https://www.pfh.org.uk/wp-content/uploads/2024/02/christian-cross.jpg
GEO:53.7691182;-0.3807095
X-APPLE-STRUCTURED-LOCATION;VALUE=URI;X-ADDRESS=Florence Nightingale Court Florence Nightingale Ct Hull HU5 4BW United Kingdom;X-APPLE-RADIUS=500;X-TITLE=Florence Nightingale Ct:geo:-0.3807095,53.7691182
END:VEVENT
BEGIN:VEVENT
DTSTART;TZID=Europe/London:20260319T130000
DTEND;TZID=Europe/London:20260319T153000
DTSTAMP:20260425T142424
CREATED:20240220T164337Z
LAST-MODIFIED:20240815T130530Z
UID:10007573-1773925200-1773934200@www.pfh.org.uk
SUMMARY:Feel Good Thursdays
DESCRIPTION:With Age UK \n£5 per session \nContact Age UK on 01482 324 644
URL:https://www.pfh.org.uk/event/feel-good-thursdays/2026-03-19/
LOCATION:Florence Nightingale Court\, Florence Nightingale Ct\, Hull\, HU5 4BW\, United Kingdom
CATEGORIES:Resident Events
ATTACH;FMTTYPE=image/jpeg:https://www.pfh.org.uk/wp-content/uploads/2024/02/331406747_1552663315203290_1604971751715755828_n.jpg
GEO:53.7691182;-0.3807095
X-APPLE-STRUCTURED-LOCATION;VALUE=URI;X-ADDRESS=Florence Nightingale Court Florence Nightingale Ct Hull HU5 4BW United Kingdom;X-APPLE-RADIUS=500;X-TITLE=Florence Nightingale Ct:geo:-0.3807095,53.7691182
END:VEVENT
BEGIN:VEVENT
DTSTART;TZID=Europe/London:20260319T110000
DTEND;TZID=Europe/London:20260319T120000
DTSTAMP:20260425T142424
CREATED:20260119T141628Z
LAST-MODIFIED:20260119T143359Z
UID:10018333-1773918000-1773921600@www.pfh.org.uk
SUMMARY:Tai Chi
DESCRIPTION:Thursdays 11am – 12pm \n£3 per session with Janet 07864 629 105
URL:https://www.pfh.org.uk/event/tai-chi-2/2026-03-19/
LOCATION:Florence Nightingale Court\, Florence Nightingale Ct\, Hull\, HU5 4BW\, United Kingdom
CATEGORIES:Open to Everyone,Resident Events
ATTACH;FMTTYPE=image/jpeg:https://www.pfh.org.uk/wp-content/uploads/2024/03/man-in-black-outfit-practicing-tai-chi-8461244-1024x684.jpg
GEO:53.7691182;-0.3807095
X-APPLE-STRUCTURED-LOCATION;VALUE=URI;X-ADDRESS=Florence Nightingale Court Florence Nightingale Ct Hull HU5 4BW United Kingdom;X-APPLE-RADIUS=500;X-TITLE=Florence Nightingale Ct:geo:-0.3807095,53.7691182
END:VEVENT
BEGIN:VEVENT
DTSTART;TZID=Europe/London:20260318T133000
DTEND;TZID=Europe/London:20260318T153000
DTSTAMP:20260425T142424
CREATED:20260119T141049Z
LAST-MODIFIED:20260119T153712Z
UID:10016965-1773840600-1773847800@www.pfh.org.uk
SUMMARY:The Hands of Friendship Knitting/Craft group
DESCRIPTION:Wednesdays 1:30pm – 3:30pm \nWith Hull Community Knitting Group. \nContact Sharon on 07894 568 458.
URL:https://www.pfh.org.uk/event/the-hands-of-friendship-knitting-craft-group/2026-03-18/
LOCATION:Florence Nightingale Court\, Florence Nightingale Ct\, Hull\, HU5 4BW\, United Kingdom
CATEGORIES:Open to Everyone,Resident Events
ATTACH;FMTTYPE=image/jpeg:https://www.pfh.org.uk/wp-content/uploads/2024/02/wool-knitting-needles-basket.jpg
GEO:53.7691182;-0.3807095
X-APPLE-STRUCTURED-LOCATION;VALUE=URI;X-ADDRESS=Florence Nightingale Court Florence Nightingale Ct Hull HU5 4BW United Kingdom;X-APPLE-RADIUS=500;X-TITLE=Florence Nightingale Ct:geo:-0.3807095,53.7691182
END:VEVENT
BEGIN:VEVENT
DTSTART;TZID=Europe/London:20260317T140000
DTEND;TZID=Europe/London:20260317T160000
DTSTAMP:20260425T142424
CREATED:20240209T105456Z
LAST-MODIFIED:20240402T144653Z
UID:10000308-1773756000-1773763200@www.pfh.org.uk
SUMMARY:Forever Young Club
DESCRIPTION:Barrington Pop in\nFlorence Nightingale Court. (behind Goodfellowship) HU5 4BW\nTuesday 2pm – 4pm (Fortnightly)\nDelivered by Hull Libraries.\nContact Cath 01482 331 254.
URL:https://www.pfh.org.uk/event/forever-young-club/2026-03-17/
LOCATION:Florence Nightingale Court\, Florence Nightingale Ct\, Hull\, HU5 4BW\, United Kingdom
CATEGORIES:Resident Events
ATTACH;FMTTYPE=image/jpeg:https://www.pfh.org.uk/wp-content/uploads/2024/03/https___cdn.evbuc_.com_images_252214359_219712523589_1_original.jpg
GEO:53.7691182;-0.3807095
X-APPLE-STRUCTURED-LOCATION;VALUE=URI;X-ADDRESS=Florence Nightingale Court Florence Nightingale Ct Hull HU5 4BW United Kingdom;X-APPLE-RADIUS=500;X-TITLE=Florence Nightingale Ct:geo:-0.3807095,53.7691182
END:VEVENT
BEGIN:VEVENT
DTSTART;TZID=Europe/London:20260317T110000
DTEND;TZID=Europe/London:20260317T123000
DTSTAMP:20260425T142424
CREATED:20240221T102955Z
LAST-MODIFIED:20240402T145131Z
UID:10001723-1773745200-1773750600@www.pfh.org.uk
SUMMARY:Singing for the Brain
DESCRIPTION:Contact Julie for places before attending
URL:https://www.pfh.org.uk/event/singing-for-the-brain/2026-03-17/
LOCATION:Florence Nightingale Court\, Florence Nightingale Ct\, Hull\, HU5 4BW\, United Kingdom
CATEGORIES:Resident Events
ATTACH;FMTTYPE=image/png:https://www.pfh.org.uk/wp-content/uploads/2024/02/Alzheimers_Society_logo.png
ORGANIZER;CN="Alzheimer's Society":MAILTO:hulleastriding@alzheimers.org.uk
GEO:53.7691182;-0.3807095
X-APPLE-STRUCTURED-LOCATION;VALUE=URI;X-ADDRESS=Florence Nightingale Court Florence Nightingale Ct Hull HU5 4BW United Kingdom;X-APPLE-RADIUS=500;X-TITLE=Florence Nightingale Ct:geo:-0.3807095,53.7691182
END:VEVENT
BEGIN:VEVENT
DTSTART;TZID=Europe/London:20260316T190000
DTEND;TZID=Europe/London:20260316T220000
DTSTAMP:20260425T142424
CREATED:20240221T110549Z
LAST-MODIFIED:20240815T131203Z
UID:10007826-1773687600-1773698400@www.pfh.org.uk
SUMMARY:Ladies in Red
DESCRIPTION:Singing group rehearsals – Contact Elaine 07871 080 810
URL:https://www.pfh.org.uk/event/ladies-in-red/2026-03-16/
LOCATION:Florence Nightingale Court\, Florence Nightingale Ct\, Hull\, HU5 4BW\, United Kingdom
CATEGORIES:Resident Events
ATTACH;FMTTYPE=image/jpeg:https://www.pfh.org.uk/wp-content/uploads/2024/02/ladies-singing-group.jpg
ORGANIZER;CN="PFH":MAILTO:info@pfh.org.uk
GEO:53.7691182;-0.3807095
X-APPLE-STRUCTURED-LOCATION;VALUE=URI;X-ADDRESS=Florence Nightingale Court Florence Nightingale Ct Hull HU5 4BW United Kingdom;X-APPLE-RADIUS=500;X-TITLE=Florence Nightingale Ct:geo:-0.3807095,53.7691182
END:VEVENT
BEGIN:VEVENT
DTSTART;TZID=Europe/London:20260316T110000
DTEND;TZID=Europe/London:20260316T120000
DTSTAMP:20260425T142424
CREATED:20260119T141441Z
LAST-MODIFIED:20260119T142929Z
UID:10017224-1773658800-1773662400@www.pfh.org.uk
SUMMARY:Exercise to music with Holly
DESCRIPTION:£3 each\, refreshments available after. \nContact 07395 447 272.
URL:https://www.pfh.org.uk/event/exercise-to-music-with-holly/2026-03-16/
LOCATION:Florence Nightingale Court\, Florence Nightingale Ct\, Hull\, HU5 4BW\, United Kingdom
CATEGORIES:Open to Everyone,Resident Events
ATTACH;FMTTYPE=image/jpeg:https://www.pfh.org.uk/wp-content/uploads/2024/01/Woman-in-exercise-class-with-arms-up.jpg
GEO:53.7691182;-0.3807095
X-APPLE-STRUCTURED-LOCATION;VALUE=URI;X-ADDRESS=Florence Nightingale Court Florence Nightingale Ct Hull HU5 4BW United Kingdom;X-APPLE-RADIUS=500;X-TITLE=Florence Nightingale Ct:geo:-0.3807095,53.7691182
END:VEVENT
BEGIN:VEVENT
DTSTART;TZID=Europe/London:20260315T103000
DTEND;TZID=Europe/London:20260315T123000
DTSTAMP:20260425T142424
CREATED:20240221T111025Z
LAST-MODIFIED:20240314T144633Z
UID:10001960-1773570600-1773577800@www.pfh.org.uk
SUMMARY:Church Service
DESCRIPTION:
URL:https://www.pfh.org.uk/event/church-service/2026-03-15/
LOCATION:Florence Nightingale Court\, Florence Nightingale Ct\, Hull\, HU5 4BW\, United Kingdom
CATEGORIES:Resident Events
ATTACH;FMTTYPE=image/jpeg:https://www.pfh.org.uk/wp-content/uploads/2024/02/christian-cross.jpg
GEO:53.7691182;-0.3807095
X-APPLE-STRUCTURED-LOCATION;VALUE=URI;X-ADDRESS=Florence Nightingale Court Florence Nightingale Ct Hull HU5 4BW United Kingdom;X-APPLE-RADIUS=500;X-TITLE=Florence Nightingale Ct:geo:-0.3807095,53.7691182
END:VEVENT
BEGIN:VEVENT
DTSTART;TZID=Europe/London:20260312T130000
DTEND;TZID=Europe/London:20260312T153000
DTSTAMP:20260425T142424
CREATED:20240220T164337Z
LAST-MODIFIED:20240815T130530Z
UID:10007572-1773320400-1773329400@www.pfh.org.uk
SUMMARY:Feel Good Thursdays
DESCRIPTION:With Age UK \n£5 per session \nContact Age UK on 01482 324 644
URL:https://www.pfh.org.uk/event/feel-good-thursdays/2026-03-12/
LOCATION:Florence Nightingale Court\, Florence Nightingale Ct\, Hull\, HU5 4BW\, United Kingdom
CATEGORIES:Resident Events
ATTACH;FMTTYPE=image/jpeg:https://www.pfh.org.uk/wp-content/uploads/2024/02/331406747_1552663315203290_1604971751715755828_n.jpg
GEO:53.7691182;-0.3807095
X-APPLE-STRUCTURED-LOCATION;VALUE=URI;X-ADDRESS=Florence Nightingale Court Florence Nightingale Ct Hull HU5 4BW United Kingdom;X-APPLE-RADIUS=500;X-TITLE=Florence Nightingale Ct:geo:-0.3807095,53.7691182
END:VEVENT
BEGIN:VEVENT
DTSTART;TZID=Europe/London:20260312T110000
DTEND;TZID=Europe/London:20260312T120000
DTSTAMP:20260425T142424
CREATED:20260119T141628Z
LAST-MODIFIED:20260119T143359Z
UID:10018332-1773313200-1773316800@www.pfh.org.uk
SUMMARY:Tai Chi
DESCRIPTION:Thursdays 11am – 12pm \n£3 per session with Janet 07864 629 105
URL:https://www.pfh.org.uk/event/tai-chi-2/2026-03-12/
LOCATION:Florence Nightingale Court\, Florence Nightingale Ct\, Hull\, HU5 4BW\, United Kingdom
CATEGORIES:Open to Everyone,Resident Events
ATTACH;FMTTYPE=image/jpeg:https://www.pfh.org.uk/wp-content/uploads/2024/03/man-in-black-outfit-practicing-tai-chi-8461244-1024x684.jpg
GEO:53.7691182;-0.3807095
X-APPLE-STRUCTURED-LOCATION;VALUE=URI;X-ADDRESS=Florence Nightingale Court Florence Nightingale Ct Hull HU5 4BW United Kingdom;X-APPLE-RADIUS=500;X-TITLE=Florence Nightingale Ct:geo:-0.3807095,53.7691182
END:VEVENT
BEGIN:VEVENT
DTSTART;TZID=Europe/London:20260311T133000
DTEND;TZID=Europe/London:20260311T153000
DTSTAMP:20260425T142424
CREATED:20260119T141049Z
LAST-MODIFIED:20260119T153712Z
UID:10016964-1773235800-1773243000@www.pfh.org.uk
SUMMARY:The Hands of Friendship Knitting/Craft group
DESCRIPTION:Wednesdays 1:30pm – 3:30pm \nWith Hull Community Knitting Group. \nContact Sharon on 07894 568 458.
URL:https://www.pfh.org.uk/event/the-hands-of-friendship-knitting-craft-group/2026-03-11/
LOCATION:Florence Nightingale Court\, Florence Nightingale Ct\, Hull\, HU5 4BW\, United Kingdom
CATEGORIES:Open to Everyone,Resident Events
ATTACH;FMTTYPE=image/jpeg:https://www.pfh.org.uk/wp-content/uploads/2024/02/wool-knitting-needles-basket.jpg
GEO:53.7691182;-0.3807095
X-APPLE-STRUCTURED-LOCATION;VALUE=URI;X-ADDRESS=Florence Nightingale Court Florence Nightingale Ct Hull HU5 4BW United Kingdom;X-APPLE-RADIUS=500;X-TITLE=Florence Nightingale Ct:geo:-0.3807095,53.7691182
END:VEVENT
BEGIN:VEVENT
DTSTART;TZID=Europe/London:20260309T190000
DTEND;TZID=Europe/London:20260309T220000
DTSTAMP:20260425T142424
CREATED:20240221T110549Z
LAST-MODIFIED:20240815T131203Z
UID:10007825-1773082800-1773093600@www.pfh.org.uk
SUMMARY:Ladies in Red
DESCRIPTION:Singing group rehearsals – Contact Elaine 07871 080 810
URL:https://www.pfh.org.uk/event/ladies-in-red/2026-03-09/
LOCATION:Florence Nightingale Court\, Florence Nightingale Ct\, Hull\, HU5 4BW\, United Kingdom
CATEGORIES:Resident Events
ATTACH;FMTTYPE=image/jpeg:https://www.pfh.org.uk/wp-content/uploads/2024/02/ladies-singing-group.jpg
ORGANIZER;CN="PFH":MAILTO:info@pfh.org.uk
GEO:53.7691182;-0.3807095
X-APPLE-STRUCTURED-LOCATION;VALUE=URI;X-ADDRESS=Florence Nightingale Court Florence Nightingale Ct Hull HU5 4BW United Kingdom;X-APPLE-RADIUS=500;X-TITLE=Florence Nightingale Ct:geo:-0.3807095,53.7691182
END:VEVENT
BEGIN:VEVENT
DTSTART;TZID=Europe/London:20260309T110000
DTEND;TZID=Europe/London:20260309T120000
DTSTAMP:20260425T142424
CREATED:20260119T141441Z
LAST-MODIFIED:20260119T142929Z
UID:10017223-1773054000-1773057600@www.pfh.org.uk
SUMMARY:Exercise to music with Holly
DESCRIPTION:£3 each\, refreshments available after. \nContact 07395 447 272.
URL:https://www.pfh.org.uk/event/exercise-to-music-with-holly/2026-03-09/
LOCATION:Florence Nightingale Court\, Florence Nightingale Ct\, Hull\, HU5 4BW\, United Kingdom
CATEGORIES:Open to Everyone,Resident Events
ATTACH;FMTTYPE=image/jpeg:https://www.pfh.org.uk/wp-content/uploads/2024/01/Woman-in-exercise-class-with-arms-up.jpg
GEO:53.7691182;-0.3807095
X-APPLE-STRUCTURED-LOCATION;VALUE=URI;X-ADDRESS=Florence Nightingale Court Florence Nightingale Ct Hull HU5 4BW United Kingdom;X-APPLE-RADIUS=500;X-TITLE=Florence Nightingale Ct:geo:-0.3807095,53.7691182
END:VEVENT
BEGIN:VEVENT
DTSTART;TZID=Europe/London:20260308T103000
DTEND;TZID=Europe/London:20260308T123000
DTSTAMP:20260425T142424
CREATED:20240221T111025Z
LAST-MODIFIED:20240314T144633Z
UID:10001959-1772965800-1772973000@www.pfh.org.uk
SUMMARY:Church Service
DESCRIPTION:
URL:https://www.pfh.org.uk/event/church-service/2026-03-08/
LOCATION:Florence Nightingale Court\, Florence Nightingale Ct\, Hull\, HU5 4BW\, United Kingdom
CATEGORIES:Resident Events
ATTACH;FMTTYPE=image/jpeg:https://www.pfh.org.uk/wp-content/uploads/2024/02/christian-cross.jpg
GEO:53.7691182;-0.3807095
X-APPLE-STRUCTURED-LOCATION;VALUE=URI;X-ADDRESS=Florence Nightingale Court Florence Nightingale Ct Hull HU5 4BW United Kingdom;X-APPLE-RADIUS=500;X-TITLE=Florence Nightingale Ct:geo:-0.3807095,53.7691182
END:VEVENT
BEGIN:VEVENT
DTSTART;TZID=Europe/London:20260305T130000
DTEND;TZID=Europe/London:20260305T153000
DTSTAMP:20260425T142424
CREATED:20240220T164337Z
LAST-MODIFIED:20240815T130530Z
UID:10007571-1772715600-1772724600@www.pfh.org.uk
SUMMARY:Feel Good Thursdays
DESCRIPTION:With Age UK \n£5 per session \nContact Age UK on 01482 324 644
URL:https://www.pfh.org.uk/event/feel-good-thursdays/2026-03-05/
LOCATION:Florence Nightingale Court\, Florence Nightingale Ct\, Hull\, HU5 4BW\, United Kingdom
CATEGORIES:Resident Events
ATTACH;FMTTYPE=image/jpeg:https://www.pfh.org.uk/wp-content/uploads/2024/02/331406747_1552663315203290_1604971751715755828_n.jpg
GEO:53.7691182;-0.3807095
X-APPLE-STRUCTURED-LOCATION;VALUE=URI;X-ADDRESS=Florence Nightingale Court Florence Nightingale Ct Hull HU5 4BW United Kingdom;X-APPLE-RADIUS=500;X-TITLE=Florence Nightingale Ct:geo:-0.3807095,53.7691182
END:VEVENT
BEGIN:VEVENT
DTSTART;TZID=Europe/London:20260305T110000
DTEND;TZID=Europe/London:20260305T120000
DTSTAMP:20260425T142424
CREATED:20260119T141628Z
LAST-MODIFIED:20260119T143359Z
UID:10018331-1772708400-1772712000@www.pfh.org.uk
SUMMARY:Tai Chi
DESCRIPTION:Thursdays 11am – 12pm \n£3 per session with Janet 07864 629 105
URL:https://www.pfh.org.uk/event/tai-chi-2/2026-03-05/
LOCATION:Florence Nightingale Court\, Florence Nightingale Ct\, Hull\, HU5 4BW\, United Kingdom
CATEGORIES:Open to Everyone,Resident Events
ATTACH;FMTTYPE=image/jpeg:https://www.pfh.org.uk/wp-content/uploads/2024/03/man-in-black-outfit-practicing-tai-chi-8461244-1024x684.jpg
GEO:53.7691182;-0.3807095
X-APPLE-STRUCTURED-LOCATION;VALUE=URI;X-ADDRESS=Florence Nightingale Court Florence Nightingale Ct Hull HU5 4BW United Kingdom;X-APPLE-RADIUS=500;X-TITLE=Florence Nightingale Ct:geo:-0.3807095,53.7691182
END:VEVENT
BEGIN:VEVENT
DTSTART;TZID=Europe/London:20260304T133000
DTEND;TZID=Europe/London:20260304T153000
DTSTAMP:20260425T142424
CREATED:20260119T141049Z
LAST-MODIFIED:20260119T153712Z
UID:10016963-1772631000-1772638200@www.pfh.org.uk
SUMMARY:The Hands of Friendship Knitting/Craft group
DESCRIPTION:Wednesdays 1:30pm – 3:30pm \nWith Hull Community Knitting Group. \nContact Sharon on 07894 568 458.
URL:https://www.pfh.org.uk/event/the-hands-of-friendship-knitting-craft-group/2026-03-04/
LOCATION:Florence Nightingale Court\, Florence Nightingale Ct\, Hull\, HU5 4BW\, United Kingdom
CATEGORIES:Open to Everyone,Resident Events
ATTACH;FMTTYPE=image/jpeg:https://www.pfh.org.uk/wp-content/uploads/2024/02/wool-knitting-needles-basket.jpg
GEO:53.7691182;-0.3807095
X-APPLE-STRUCTURED-LOCATION;VALUE=URI;X-ADDRESS=Florence Nightingale Court Florence Nightingale Ct Hull HU5 4BW United Kingdom;X-APPLE-RADIUS=500;X-TITLE=Florence Nightingale Ct:geo:-0.3807095,53.7691182
END:VEVENT
BEGIN:VEVENT
DTSTART;TZID=Europe/London:20260303T140000
DTEND;TZID=Europe/London:20260303T160000
DTSTAMP:20260425T142424
CREATED:20240209T105456Z
LAST-MODIFIED:20240402T144653Z
UID:10000307-1772546400-1772553600@www.pfh.org.uk
SUMMARY:Forever Young Club
DESCRIPTION:Barrington Pop in\nFlorence Nightingale Court. (behind Goodfellowship) HU5 4BW\nTuesday 2pm – 4pm (Fortnightly)\nDelivered by Hull Libraries.\nContact Cath 01482 331 254.
URL:https://www.pfh.org.uk/event/forever-young-club/2026-03-03/
LOCATION:Florence Nightingale Court\, Florence Nightingale Ct\, Hull\, HU5 4BW\, United Kingdom
CATEGORIES:Resident Events
ATTACH;FMTTYPE=image/jpeg:https://www.pfh.org.uk/wp-content/uploads/2024/03/https___cdn.evbuc_.com_images_252214359_219712523589_1_original.jpg
GEO:53.7691182;-0.3807095
X-APPLE-STRUCTURED-LOCATION;VALUE=URI;X-ADDRESS=Florence Nightingale Court Florence Nightingale Ct Hull HU5 4BW United Kingdom;X-APPLE-RADIUS=500;X-TITLE=Florence Nightingale Ct:geo:-0.3807095,53.7691182
END:VEVENT
BEGIN:VEVENT
DTSTART;TZID=Europe/London:20260303T110000
DTEND;TZID=Europe/London:20260303T123000
DTSTAMP:20260425T142424
CREATED:20240221T102955Z
LAST-MODIFIED:20240402T145131Z
UID:10001722-1772535600-1772541000@www.pfh.org.uk
SUMMARY:Singing for the Brain
DESCRIPTION:Contact Julie for places before attending
URL:https://www.pfh.org.uk/event/singing-for-the-brain/2026-03-03/
LOCATION:Florence Nightingale Court\, Florence Nightingale Ct\, Hull\, HU5 4BW\, United Kingdom
CATEGORIES:Resident Events
ATTACH;FMTTYPE=image/png:https://www.pfh.org.uk/wp-content/uploads/2024/02/Alzheimers_Society_logo.png
ORGANIZER;CN="Alzheimer's Society":MAILTO:hulleastriding@alzheimers.org.uk
GEO:53.7691182;-0.3807095
X-APPLE-STRUCTURED-LOCATION;VALUE=URI;X-ADDRESS=Florence Nightingale Court Florence Nightingale Ct Hull HU5 4BW United Kingdom;X-APPLE-RADIUS=500;X-TITLE=Florence Nightingale Ct:geo:-0.3807095,53.7691182
END:VEVENT
END:VCALENDAR