BEGIN:VCALENDAR
VERSION:2.0
PRODID:-//PFH Pickering &amp; Ferens Homes - ECPv6.15.20//NONSGML v1.0//EN
CALSCALE:GREGORIAN
METHOD:PUBLISH
X-WR-CALNAME:PFH Pickering &amp; Ferens Homes
X-ORIGINAL-URL:https://www.pfh.org.uk
X-WR-CALDESC:Events for PFH Pickering &amp; Ferens Homes
REFRESH-INTERVAL;VALUE=DURATION:PT1H
X-Robots-Tag:noindex
X-PUBLISHED-TTL:PT1H
BEGIN:VTIMEZONE
TZID:Europe/London
BEGIN:DAYLIGHT
TZOFFSETFROM:+0000
TZOFFSETTO:+0100
TZNAME:BST
DTSTART:20250330T010000
END:DAYLIGHT
BEGIN:STANDARD
TZOFFSETFROM:+0100
TZOFFSETTO:+0000
TZNAME:GMT
DTSTART:20251026T010000
END:STANDARD
BEGIN:DAYLIGHT
TZOFFSETFROM:+0000
TZOFFSETTO:+0100
TZNAME:BST
DTSTART:20260329T010000
END:DAYLIGHT
BEGIN:STANDARD
TZOFFSETFROM:+0100
TZOFFSETTO:+0000
TZNAME:GMT
DTSTART:20261025T010000
END:STANDARD
BEGIN:DAYLIGHT
TZOFFSETFROM:+0000
TZOFFSETTO:+0100
TZNAME:BST
DTSTART:20270328T010000
END:DAYLIGHT
BEGIN:STANDARD
TZOFFSETFROM:+0100
TZOFFSETTO:+0000
TZNAME:GMT
DTSTART:20271031T010000
END:STANDARD
END:VTIMEZONE
BEGIN:VEVENT
DTSTART;TZID=Europe/London:20260513T133000
DTEND;TZID=Europe/London:20260513T153000
DTSTAMP:20260426T012602
CREATED:20260119T153031Z
LAST-MODIFIED:20260119T153031Z
UID:10023153-1778679000-1778686200@www.pfh.org.uk
SUMMARY:Resident Led Bingo
DESCRIPTION:£1 per game. Refreshments available
URL:https://www.pfh.org.uk/event/resident-led-bingo/2026-05-13/
LOCATION:Humber View\, Camilla Cl\, Hull\, HU9 1UE\, United Kingdom
CATEGORIES:Open to Everyone,Resident Events
ATTACH;FMTTYPE=image/jpeg:https://www.pfh.org.uk/wp-content/uploads/2024/02/people-playing-bingo.jpg
GEO:53.7391243;-0.3273038
X-APPLE-STRUCTURED-LOCATION;VALUE=URI;X-ADDRESS=Humber View Camilla Cl Hull HU9 1UE United Kingdom;X-APPLE-RADIUS=500;X-TITLE=Camilla Cl:geo:-0.3273038,53.7391243
END:VEVENT
BEGIN:VEVENT
DTSTART;TZID=Europe/London:20260513T140000
DTEND;TZID=Europe/London:20260513T150000
DTSTAMP:20260426T012602
CREATED:20240305T093532Z
LAST-MODIFIED:20240815T144617Z
UID:10013105-1778680800-1778684400@www.pfh.org.uk
SUMMARY:Chair Exercise to Music
DESCRIPTION:Humber View\nCamilla Close. Victoria Dock HU9 1UE\nWednesday 2:00pm – 3:00pm
URL:https://www.pfh.org.uk/event/chair-exercise-to-music/2026-05-13/
LOCATION:Humber View\, Camilla Cl\, Hull\, HU9 1UE\, United Kingdom
CATEGORIES:Resident Events
ATTACH;FMTTYPE=image/jpeg:https://www.pfh.org.uk/wp-content/uploads/2024/03/shutterstock_1955793040-1.jpg
GEO:53.7391243;-0.3273038
X-APPLE-STRUCTURED-LOCATION;VALUE=URI;X-ADDRESS=Humber View Camilla Cl Hull HU9 1UE United Kingdom;X-APPLE-RADIUS=500;X-TITLE=Camilla Cl:geo:-0.3273038,53.7391243
END:VEVENT
BEGIN:VEVENT
DTSTART;TZID=Europe/London:20260513T140000
DTEND;TZID=Europe/London:20260513T150000
DTSTAMP:20260426T012602
CREATED:20250113T095756Z
LAST-MODIFIED:20250113T095756Z
UID:10016695-1778680800-1778684400@www.pfh.org.uk
SUMMARY:Chair Exercise to Music
DESCRIPTION:
URL:https://www.pfh.org.uk/event/chair-exercise-to-music-2/2026-05-13/
LOCATION:Humber View\, Camilla Cl\, Hull\, HU9 1UE\, United Kingdom
ATTACH;FMTTYPE=image/jpeg:https://www.pfh.org.uk/wp-content/uploads/2025/01/shutterstock_2252528419.jpg
GEO:53.7391243;-0.3273038
X-APPLE-STRUCTURED-LOCATION;VALUE=URI;X-ADDRESS=Humber View Camilla Cl Hull HU9 1UE United Kingdom;X-APPLE-RADIUS=500;X-TITLE=Camilla Cl:geo:-0.3273038,53.7391243
END:VEVENT
BEGIN:VEVENT
DTSTART;TZID=Europe/London:20260514T190000
DTEND;TZID=Europe/London:20260514T210000
DTSTAMP:20260426T012602
CREATED:20260119T152645Z
LAST-MODIFIED:20260119T152645Z
UID:10022132-1778785200-1778792400@www.pfh.org.uk
SUMMARY:Scrabble
DESCRIPTION:Tuesday and Thursday 7pm – 9pm
URL:https://www.pfh.org.uk/event/scrabble/2026-05-14/
LOCATION:Humber View\, Camilla Cl\, Hull\, HU9 1UE\, United Kingdom
CATEGORIES:Resident Events,Residents
ATTACH;FMTTYPE=image/jpeg:https://www.pfh.org.uk/wp-content/uploads/2026/01/shutterstock_2386784097-scaled.jpg
GEO:53.7391243;-0.3273038
X-APPLE-STRUCTURED-LOCATION;VALUE=URI;X-ADDRESS=Humber View Camilla Cl Hull HU9 1UE United Kingdom;X-APPLE-RADIUS=500;X-TITLE=Camilla Cl:geo:-0.3273038,53.7391243
END:VEVENT
BEGIN:VEVENT
DTSTART;TZID=Europe/London:20260515T100000
DTEND;TZID=Europe/London:20260515T113000
DTSTAMP:20260426T012602
CREATED:20250113T095532Z
LAST-MODIFIED:20250113T095532Z
UID:10016433-1778839200-1778844600@www.pfh.org.uk
SUMMARY:Coffee Morning\, Chat & Quiz
DESCRIPTION:
URL:https://www.pfh.org.uk/event/coffee-morning-chat-quiz/2026-05-15/
LOCATION:Humber View\, Camilla Cl\, Hull\, HU9 1UE\, United Kingdom
ATTACH;FMTTYPE=image/jpeg:https://www.pfh.org.uk/wp-content/uploads/2025/01/shutterstock_2240036883-scaled.jpg
GEO:53.7391243;-0.3273038
X-APPLE-STRUCTURED-LOCATION;VALUE=URI;X-ADDRESS=Humber View Camilla Cl Hull HU9 1UE United Kingdom;X-APPLE-RADIUS=500;X-TITLE=Camilla Cl:geo:-0.3273038,53.7391243
END:VEVENT
BEGIN:VEVENT
DTSTART;TZID=Europe/London:20260515T103000
DTEND;TZID=Europe/London:20260515T120000
DTSTAMP:20260426T012602
CREATED:20260119T152927Z
LAST-MODIFIED:20260119T152927Z
UID:10022894-1778841000-1778846400@www.pfh.org.uk
SUMMARY:Scheme Managers Coffee Morning and Quiz
DESCRIPTION:
URL:https://www.pfh.org.uk/event/scheme-managers-coffee-morning-and-quiz/2026-05-15/
LOCATION:Humber View\, Camilla Cl\, Hull\, HU9 1UE\, United Kingdom
CATEGORIES:Resident Events,Residents
ATTACH;FMTTYPE=image/jpeg:https://www.pfh.org.uk/wp-content/uploads/2024/02/coffee.jpg
GEO:53.7391243;-0.3273038
X-APPLE-STRUCTURED-LOCATION;VALUE=URI;X-ADDRESS=Humber View Camilla Cl Hull HU9 1UE United Kingdom;X-APPLE-RADIUS=500;X-TITLE=Camilla Cl:geo:-0.3273038,53.7391243
END:VEVENT
BEGIN:VEVENT
DTSTART;TZID=Europe/London:20260518T140000
DTEND;TZID=Europe/London:20260518T150000
DTSTAMP:20260426T012602
CREATED:20260119T152812Z
LAST-MODIFIED:20260119T152812Z
UID:10022636-1779112800-1779116400@www.pfh.org.uk
SUMMARY:Exercise to music with Holly
DESCRIPTION:£3 per session – open to everyone
URL:https://www.pfh.org.uk/event/exercise-to-music-with-holly-2/2026-05-18/
LOCATION:Humber View\, Camilla Cl\, Hull\, HU9 1UE\, United Kingdom
CATEGORIES:Open to Everyone,Resident Events
ATTACH;FMTTYPE=image/jpeg:https://www.pfh.org.uk/wp-content/uploads/2024/01/Two-women-dancing-in-dance-studio.jpg
GEO:53.7391243;-0.3273038
X-APPLE-STRUCTURED-LOCATION;VALUE=URI;X-ADDRESS=Humber View Camilla Cl Hull HU9 1UE United Kingdom;X-APPLE-RADIUS=500;X-TITLE=Camilla Cl:geo:-0.3273038,53.7391243
END:VEVENT
BEGIN:VEVENT
DTSTART;TZID=Europe/London:20260518T190000
DTEND;TZID=Europe/London:20260518T210000
DTSTAMP:20260426T012602
CREATED:20240221T150103Z
LAST-MODIFIED:20240815T144809Z
UID:10013360-1779130800-1779138000@www.pfh.org.uk
SUMMARY:Dominoes
DESCRIPTION:Join in on the fun with our Dominoes night
URL:https://www.pfh.org.uk/event/dominoes/2026-05-18/
LOCATION:Humber View\, Camilla Cl\, Hull\, HU9 1UE\, United Kingdom
CATEGORIES:Resident Events
ATTACH;FMTTYPE=image/jpeg:https://www.pfh.org.uk/wp-content/uploads/2024/02/dominoes.jpg
GEO:53.7391243;-0.3273038
X-APPLE-STRUCTURED-LOCATION;VALUE=URI;X-ADDRESS=Humber View Camilla Cl Hull HU9 1UE United Kingdom;X-APPLE-RADIUS=500;X-TITLE=Camilla Cl:geo:-0.3273038,53.7391243
END:VEVENT
BEGIN:VEVENT
DTSTART;TZID=Europe/London:20260519T083000
DTEND;TZID=Europe/London:20260519T140000
DTSTAMP:20260426T012602
CREATED:20240815T145319Z
LAST-MODIFIED:20240815T145319Z
UID:10014176-1779179400-1779199200@www.pfh.org.uk
SUMMARY:Hairdressers Service
DESCRIPTION:Contact scheme manager Tara – 01482 313 524
URL:https://www.pfh.org.uk/event/hairdressers-service-4/2026-05-19/
LOCATION:Humber View\, Camilla Cl\, Hull\, HU9 1UE\, United Kingdom
CATEGORIES:Resident Events
ATTACH;FMTTYPE=image/jpeg:https://www.pfh.org.uk/wp-content/uploads/2024/02/blonde-woman-getting-her-hair-done.jpg
GEO:53.7391243;-0.3273038
X-APPLE-STRUCTURED-LOCATION;VALUE=URI;X-ADDRESS=Humber View Camilla Cl Hull HU9 1UE United Kingdom;X-APPLE-RADIUS=500;X-TITLE=Camilla Cl:geo:-0.3273038,53.7391243
END:VEVENT
BEGIN:VEVENT
DTSTART;TZID=Europe/London:20260519T190000
DTEND;TZID=Europe/London:20260519T210000
DTSTAMP:20260426T012602
CREATED:20260119T152645Z
LAST-MODIFIED:20260119T152645Z
UID:10022133-1779217200-1779224400@www.pfh.org.uk
SUMMARY:Scrabble
DESCRIPTION:Tuesday and Thursday 7pm – 9pm
URL:https://www.pfh.org.uk/event/scrabble/2026-05-19/
LOCATION:Humber View\, Camilla Cl\, Hull\, HU9 1UE\, United Kingdom
CATEGORIES:Resident Events,Residents
ATTACH;FMTTYPE=image/jpeg:https://www.pfh.org.uk/wp-content/uploads/2026/01/shutterstock_2386784097-scaled.jpg
GEO:53.7391243;-0.3273038
X-APPLE-STRUCTURED-LOCATION;VALUE=URI;X-ADDRESS=Humber View Camilla Cl Hull HU9 1UE United Kingdom;X-APPLE-RADIUS=500;X-TITLE=Camilla Cl:geo:-0.3273038,53.7391243
END:VEVENT
BEGIN:VEVENT
DTSTART;TZID=Europe/London:20260520T133000
DTEND;TZID=Europe/London:20260520T153000
DTSTAMP:20260426T012602
CREATED:20260119T153031Z
LAST-MODIFIED:20260119T153031Z
UID:10023154-1779283800-1779291000@www.pfh.org.uk
SUMMARY:Resident Led Bingo
DESCRIPTION:£1 per game. Refreshments available
URL:https://www.pfh.org.uk/event/resident-led-bingo/2026-05-20/
LOCATION:Humber View\, Camilla Cl\, Hull\, HU9 1UE\, United Kingdom
CATEGORIES:Open to Everyone,Resident Events
ATTACH;FMTTYPE=image/jpeg:https://www.pfh.org.uk/wp-content/uploads/2024/02/people-playing-bingo.jpg
GEO:53.7391243;-0.3273038
X-APPLE-STRUCTURED-LOCATION;VALUE=URI;X-ADDRESS=Humber View Camilla Cl Hull HU9 1UE United Kingdom;X-APPLE-RADIUS=500;X-TITLE=Camilla Cl:geo:-0.3273038,53.7391243
END:VEVENT
BEGIN:VEVENT
DTSTART;TZID=Europe/London:20260520T140000
DTEND;TZID=Europe/London:20260520T150000
DTSTAMP:20260426T012602
CREATED:20240305T093532Z
LAST-MODIFIED:20240815T144617Z
UID:10013106-1779285600-1779289200@www.pfh.org.uk
SUMMARY:Chair Exercise to Music
DESCRIPTION:Humber View\nCamilla Close. Victoria Dock HU9 1UE\nWednesday 2:00pm – 3:00pm
URL:https://www.pfh.org.uk/event/chair-exercise-to-music/2026-05-20/
LOCATION:Humber View\, Camilla Cl\, Hull\, HU9 1UE\, United Kingdom
CATEGORIES:Resident Events
ATTACH;FMTTYPE=image/jpeg:https://www.pfh.org.uk/wp-content/uploads/2024/03/shutterstock_1955793040-1.jpg
GEO:53.7391243;-0.3273038
X-APPLE-STRUCTURED-LOCATION;VALUE=URI;X-ADDRESS=Humber View Camilla Cl Hull HU9 1UE United Kingdom;X-APPLE-RADIUS=500;X-TITLE=Camilla Cl:geo:-0.3273038,53.7391243
END:VEVENT
BEGIN:VEVENT
DTSTART;TZID=Europe/London:20260520T140000
DTEND;TZID=Europe/London:20260520T150000
DTSTAMP:20260426T012602
CREATED:20250113T095756Z
LAST-MODIFIED:20250113T095756Z
UID:10016696-1779285600-1779289200@www.pfh.org.uk
SUMMARY:Chair Exercise to Music
DESCRIPTION:
URL:https://www.pfh.org.uk/event/chair-exercise-to-music-2/2026-05-20/
LOCATION:Humber View\, Camilla Cl\, Hull\, HU9 1UE\, United Kingdom
ATTACH;FMTTYPE=image/jpeg:https://www.pfh.org.uk/wp-content/uploads/2025/01/shutterstock_2252528419.jpg
GEO:53.7391243;-0.3273038
X-APPLE-STRUCTURED-LOCATION;VALUE=URI;X-ADDRESS=Humber View Camilla Cl Hull HU9 1UE United Kingdom;X-APPLE-RADIUS=500;X-TITLE=Camilla Cl:geo:-0.3273038,53.7391243
END:VEVENT
BEGIN:VEVENT
DTSTART;TZID=Europe/London:20260521T190000
DTEND;TZID=Europe/London:20260521T210000
DTSTAMP:20260426T012602
CREATED:20260119T152645Z
LAST-MODIFIED:20260119T152645Z
UID:10022134-1779390000-1779397200@www.pfh.org.uk
SUMMARY:Scrabble
DESCRIPTION:Tuesday and Thursday 7pm – 9pm
URL:https://www.pfh.org.uk/event/scrabble/2026-05-21/
LOCATION:Humber View\, Camilla Cl\, Hull\, HU9 1UE\, United Kingdom
CATEGORIES:Resident Events,Residents
ATTACH;FMTTYPE=image/jpeg:https://www.pfh.org.uk/wp-content/uploads/2026/01/shutterstock_2386784097-scaled.jpg
GEO:53.7391243;-0.3273038
X-APPLE-STRUCTURED-LOCATION;VALUE=URI;X-ADDRESS=Humber View Camilla Cl Hull HU9 1UE United Kingdom;X-APPLE-RADIUS=500;X-TITLE=Camilla Cl:geo:-0.3273038,53.7391243
END:VEVENT
BEGIN:VEVENT
DTSTART;TZID=Europe/London:20260522T100000
DTEND;TZID=Europe/London:20260522T113000
DTSTAMP:20260426T012602
CREATED:20250113T095532Z
LAST-MODIFIED:20250113T095532Z
UID:10016434-1779444000-1779449400@www.pfh.org.uk
SUMMARY:Coffee Morning\, Chat & Quiz
DESCRIPTION:
URL:https://www.pfh.org.uk/event/coffee-morning-chat-quiz/2026-05-22/
LOCATION:Humber View\, Camilla Cl\, Hull\, HU9 1UE\, United Kingdom
ATTACH;FMTTYPE=image/jpeg:https://www.pfh.org.uk/wp-content/uploads/2025/01/shutterstock_2240036883-scaled.jpg
GEO:53.7391243;-0.3273038
X-APPLE-STRUCTURED-LOCATION;VALUE=URI;X-ADDRESS=Humber View Camilla Cl Hull HU9 1UE United Kingdom;X-APPLE-RADIUS=500;X-TITLE=Camilla Cl:geo:-0.3273038,53.7391243
END:VEVENT
BEGIN:VEVENT
DTSTART;TZID=Europe/London:20260522T103000
DTEND;TZID=Europe/London:20260522T120000
DTSTAMP:20260426T012602
CREATED:20260119T152927Z
LAST-MODIFIED:20260119T152927Z
UID:10022895-1779445800-1779451200@www.pfh.org.uk
SUMMARY:Scheme Managers Coffee Morning and Quiz
DESCRIPTION:
URL:https://www.pfh.org.uk/event/scheme-managers-coffee-morning-and-quiz/2026-05-22/
LOCATION:Humber View\, Camilla Cl\, Hull\, HU9 1UE\, United Kingdom
CATEGORIES:Resident Events,Residents
ATTACH;FMTTYPE=image/jpeg:https://www.pfh.org.uk/wp-content/uploads/2024/02/coffee.jpg
GEO:53.7391243;-0.3273038
X-APPLE-STRUCTURED-LOCATION;VALUE=URI;X-ADDRESS=Humber View Camilla Cl Hull HU9 1UE United Kingdom;X-APPLE-RADIUS=500;X-TITLE=Camilla Cl:geo:-0.3273038,53.7391243
END:VEVENT
BEGIN:VEVENT
DTSTART;TZID=Europe/London:20260525T140000
DTEND;TZID=Europe/London:20260525T150000
DTSTAMP:20260426T012602
CREATED:20260119T152812Z
LAST-MODIFIED:20260119T152812Z
UID:10022637-1779717600-1779721200@www.pfh.org.uk
SUMMARY:Exercise to music with Holly
DESCRIPTION:£3 per session – open to everyone
URL:https://www.pfh.org.uk/event/exercise-to-music-with-holly-2/2026-05-25/
LOCATION:Humber View\, Camilla Cl\, Hull\, HU9 1UE\, United Kingdom
CATEGORIES:Open to Everyone,Resident Events
ATTACH;FMTTYPE=image/jpeg:https://www.pfh.org.uk/wp-content/uploads/2024/01/Two-women-dancing-in-dance-studio.jpg
GEO:53.7391243;-0.3273038
X-APPLE-STRUCTURED-LOCATION;VALUE=URI;X-ADDRESS=Humber View Camilla Cl Hull HU9 1UE United Kingdom;X-APPLE-RADIUS=500;X-TITLE=Camilla Cl:geo:-0.3273038,53.7391243
END:VEVENT
BEGIN:VEVENT
DTSTART;TZID=Europe/London:20260525T190000
DTEND;TZID=Europe/London:20260525T210000
DTSTAMP:20260426T012602
CREATED:20240221T150103Z
LAST-MODIFIED:20240815T144809Z
UID:10013361-1779735600-1779742800@www.pfh.org.uk
SUMMARY:Dominoes
DESCRIPTION:Join in on the fun with our Dominoes night
URL:https://www.pfh.org.uk/event/dominoes/2026-05-25/
LOCATION:Humber View\, Camilla Cl\, Hull\, HU9 1UE\, United Kingdom
CATEGORIES:Resident Events
ATTACH;FMTTYPE=image/jpeg:https://www.pfh.org.uk/wp-content/uploads/2024/02/dominoes.jpg
GEO:53.7391243;-0.3273038
X-APPLE-STRUCTURED-LOCATION;VALUE=URI;X-ADDRESS=Humber View Camilla Cl Hull HU9 1UE United Kingdom;X-APPLE-RADIUS=500;X-TITLE=Camilla Cl:geo:-0.3273038,53.7391243
END:VEVENT
BEGIN:VEVENT
DTSTART;TZID=Europe/London:20260526T083000
DTEND;TZID=Europe/London:20260526T140000
DTSTAMP:20260426T012602
CREATED:20240815T145319Z
LAST-MODIFIED:20240815T145319Z
UID:10014177-1779784200-1779804000@www.pfh.org.uk
SUMMARY:Hairdressers Service
DESCRIPTION:Contact scheme manager Tara – 01482 313 524
URL:https://www.pfh.org.uk/event/hairdressers-service-4/2026-05-26/
LOCATION:Humber View\, Camilla Cl\, Hull\, HU9 1UE\, United Kingdom
CATEGORIES:Resident Events
ATTACH;FMTTYPE=image/jpeg:https://www.pfh.org.uk/wp-content/uploads/2024/02/blonde-woman-getting-her-hair-done.jpg
GEO:53.7391243;-0.3273038
X-APPLE-STRUCTURED-LOCATION;VALUE=URI;X-ADDRESS=Humber View Camilla Cl Hull HU9 1UE United Kingdom;X-APPLE-RADIUS=500;X-TITLE=Camilla Cl:geo:-0.3273038,53.7391243
END:VEVENT
BEGIN:VEVENT
DTSTART;TZID=Europe/London:20260526T190000
DTEND;TZID=Europe/London:20260526T210000
DTSTAMP:20260426T012602
CREATED:20260119T152645Z
LAST-MODIFIED:20260119T152645Z
UID:10022135-1779822000-1779829200@www.pfh.org.uk
SUMMARY:Scrabble
DESCRIPTION:Tuesday and Thursday 7pm – 9pm
URL:https://www.pfh.org.uk/event/scrabble/2026-05-26/
LOCATION:Humber View\, Camilla Cl\, Hull\, HU9 1UE\, United Kingdom
CATEGORIES:Resident Events,Residents
ATTACH;FMTTYPE=image/jpeg:https://www.pfh.org.uk/wp-content/uploads/2026/01/shutterstock_2386784097-scaled.jpg
GEO:53.7391243;-0.3273038
X-APPLE-STRUCTURED-LOCATION;VALUE=URI;X-ADDRESS=Humber View Camilla Cl Hull HU9 1UE United Kingdom;X-APPLE-RADIUS=500;X-TITLE=Camilla Cl:geo:-0.3273038,53.7391243
END:VEVENT
BEGIN:VEVENT
DTSTART;TZID=Europe/London:20260527T133000
DTEND;TZID=Europe/London:20260527T153000
DTSTAMP:20260426T012602
CREATED:20260119T153031Z
LAST-MODIFIED:20260119T153031Z
UID:10023155-1779888600-1779895800@www.pfh.org.uk
SUMMARY:Resident Led Bingo
DESCRIPTION:£1 per game. Refreshments available
URL:https://www.pfh.org.uk/event/resident-led-bingo/2026-05-27/
LOCATION:Humber View\, Camilla Cl\, Hull\, HU9 1UE\, United Kingdom
CATEGORIES:Open to Everyone,Resident Events
ATTACH;FMTTYPE=image/jpeg:https://www.pfh.org.uk/wp-content/uploads/2024/02/people-playing-bingo.jpg
GEO:53.7391243;-0.3273038
X-APPLE-STRUCTURED-LOCATION;VALUE=URI;X-ADDRESS=Humber View Camilla Cl Hull HU9 1UE United Kingdom;X-APPLE-RADIUS=500;X-TITLE=Camilla Cl:geo:-0.3273038,53.7391243
END:VEVENT
BEGIN:VEVENT
DTSTART;TZID=Europe/London:20260527T140000
DTEND;TZID=Europe/London:20260527T150000
DTSTAMP:20260426T012602
CREATED:20240305T093532Z
LAST-MODIFIED:20240815T144617Z
UID:10013107-1779890400-1779894000@www.pfh.org.uk
SUMMARY:Chair Exercise to Music
DESCRIPTION:Humber View\nCamilla Close. Victoria Dock HU9 1UE\nWednesday 2:00pm – 3:00pm
URL:https://www.pfh.org.uk/event/chair-exercise-to-music/2026-05-27/
LOCATION:Humber View\, Camilla Cl\, Hull\, HU9 1UE\, United Kingdom
CATEGORIES:Resident Events
ATTACH;FMTTYPE=image/jpeg:https://www.pfh.org.uk/wp-content/uploads/2024/03/shutterstock_1955793040-1.jpg
GEO:53.7391243;-0.3273038
X-APPLE-STRUCTURED-LOCATION;VALUE=URI;X-ADDRESS=Humber View Camilla Cl Hull HU9 1UE United Kingdom;X-APPLE-RADIUS=500;X-TITLE=Camilla Cl:geo:-0.3273038,53.7391243
END:VEVENT
BEGIN:VEVENT
DTSTART;TZID=Europe/London:20260527T140000
DTEND;TZID=Europe/London:20260527T150000
DTSTAMP:20260426T012602
CREATED:20250113T095756Z
LAST-MODIFIED:20250113T095756Z
UID:10016697-1779890400-1779894000@www.pfh.org.uk
SUMMARY:Chair Exercise to Music
DESCRIPTION:
URL:https://www.pfh.org.uk/event/chair-exercise-to-music-2/2026-05-27/
LOCATION:Humber View\, Camilla Cl\, Hull\, HU9 1UE\, United Kingdom
ATTACH;FMTTYPE=image/jpeg:https://www.pfh.org.uk/wp-content/uploads/2025/01/shutterstock_2252528419.jpg
GEO:53.7391243;-0.3273038
X-APPLE-STRUCTURED-LOCATION;VALUE=URI;X-ADDRESS=Humber View Camilla Cl Hull HU9 1UE United Kingdom;X-APPLE-RADIUS=500;X-TITLE=Camilla Cl:geo:-0.3273038,53.7391243
END:VEVENT
BEGIN:VEVENT
DTSTART;TZID=Europe/London:20260528T190000
DTEND;TZID=Europe/London:20260528T210000
DTSTAMP:20260426T012602
CREATED:20260119T152645Z
LAST-MODIFIED:20260119T152645Z
UID:10022136-1779994800-1780002000@www.pfh.org.uk
SUMMARY:Scrabble
DESCRIPTION:Tuesday and Thursday 7pm – 9pm
URL:https://www.pfh.org.uk/event/scrabble/2026-05-28/
LOCATION:Humber View\, Camilla Cl\, Hull\, HU9 1UE\, United Kingdom
CATEGORIES:Resident Events,Residents
ATTACH;FMTTYPE=image/jpeg:https://www.pfh.org.uk/wp-content/uploads/2026/01/shutterstock_2386784097-scaled.jpg
GEO:53.7391243;-0.3273038
X-APPLE-STRUCTURED-LOCATION;VALUE=URI;X-ADDRESS=Humber View Camilla Cl Hull HU9 1UE United Kingdom;X-APPLE-RADIUS=500;X-TITLE=Camilla Cl:geo:-0.3273038,53.7391243
END:VEVENT
BEGIN:VEVENT
DTSTART;TZID=Europe/London:20260529T100000
DTEND;TZID=Europe/London:20260529T113000
DTSTAMP:20260426T012602
CREATED:20250113T095532Z
LAST-MODIFIED:20250113T095532Z
UID:10016435-1780048800-1780054200@www.pfh.org.uk
SUMMARY:Coffee Morning\, Chat & Quiz
DESCRIPTION:
URL:https://www.pfh.org.uk/event/coffee-morning-chat-quiz/2026-05-29/
LOCATION:Humber View\, Camilla Cl\, Hull\, HU9 1UE\, United Kingdom
ATTACH;FMTTYPE=image/jpeg:https://www.pfh.org.uk/wp-content/uploads/2025/01/shutterstock_2240036883-scaled.jpg
GEO:53.7391243;-0.3273038
X-APPLE-STRUCTURED-LOCATION;VALUE=URI;X-ADDRESS=Humber View Camilla Cl Hull HU9 1UE United Kingdom;X-APPLE-RADIUS=500;X-TITLE=Camilla Cl:geo:-0.3273038,53.7391243
END:VEVENT
BEGIN:VEVENT
DTSTART;TZID=Europe/London:20260529T103000
DTEND;TZID=Europe/London:20260529T120000
DTSTAMP:20260426T012602
CREATED:20260119T152927Z
LAST-MODIFIED:20260119T152927Z
UID:10022896-1780050600-1780056000@www.pfh.org.uk
SUMMARY:Scheme Managers Coffee Morning and Quiz
DESCRIPTION:
URL:https://www.pfh.org.uk/event/scheme-managers-coffee-morning-and-quiz/2026-05-29/
LOCATION:Humber View\, Camilla Cl\, Hull\, HU9 1UE\, United Kingdom
CATEGORIES:Resident Events,Residents
ATTACH;FMTTYPE=image/jpeg:https://www.pfh.org.uk/wp-content/uploads/2024/02/coffee.jpg
GEO:53.7391243;-0.3273038
X-APPLE-STRUCTURED-LOCATION;VALUE=URI;X-ADDRESS=Humber View Camilla Cl Hull HU9 1UE United Kingdom;X-APPLE-RADIUS=500;X-TITLE=Camilla Cl:geo:-0.3273038,53.7391243
END:VEVENT
BEGIN:VEVENT
DTSTART;TZID=Europe/London:20260601T140000
DTEND;TZID=Europe/London:20260601T150000
DTSTAMP:20260426T012602
CREATED:20260119T152812Z
LAST-MODIFIED:20260119T152812Z
UID:10022638-1780322400-1780326000@www.pfh.org.uk
SUMMARY:Exercise to music with Holly
DESCRIPTION:£3 per session – open to everyone
URL:https://www.pfh.org.uk/event/exercise-to-music-with-holly-2/2026-06-01/
LOCATION:Humber View\, Camilla Cl\, Hull\, HU9 1UE\, United Kingdom
CATEGORIES:Open to Everyone,Resident Events
ATTACH;FMTTYPE=image/jpeg:https://www.pfh.org.uk/wp-content/uploads/2024/01/Two-women-dancing-in-dance-studio.jpg
GEO:53.7391243;-0.3273038
X-APPLE-STRUCTURED-LOCATION;VALUE=URI;X-ADDRESS=Humber View Camilla Cl Hull HU9 1UE United Kingdom;X-APPLE-RADIUS=500;X-TITLE=Camilla Cl:geo:-0.3273038,53.7391243
END:VEVENT
BEGIN:VEVENT
DTSTART;TZID=Europe/London:20260601T190000
DTEND;TZID=Europe/London:20260601T210000
DTSTAMP:20260426T012602
CREATED:20240221T150103Z
LAST-MODIFIED:20240815T144809Z
UID:10013362-1780340400-1780347600@www.pfh.org.uk
SUMMARY:Dominoes
DESCRIPTION:Join in on the fun with our Dominoes night
URL:https://www.pfh.org.uk/event/dominoes/2026-06-01/
LOCATION:Humber View\, Camilla Cl\, Hull\, HU9 1UE\, United Kingdom
CATEGORIES:Resident Events
ATTACH;FMTTYPE=image/jpeg:https://www.pfh.org.uk/wp-content/uploads/2024/02/dominoes.jpg
GEO:53.7391243;-0.3273038
X-APPLE-STRUCTURED-LOCATION;VALUE=URI;X-ADDRESS=Humber View Camilla Cl Hull HU9 1UE United Kingdom;X-APPLE-RADIUS=500;X-TITLE=Camilla Cl:geo:-0.3273038,53.7391243
END:VEVENT
BEGIN:VEVENT
DTSTART;TZID=Europe/London:20260602T083000
DTEND;TZID=Europe/London:20260602T140000
DTSTAMP:20260426T012602
CREATED:20240815T145319Z
LAST-MODIFIED:20240815T145319Z
UID:10014178-1780389000-1780408800@www.pfh.org.uk
SUMMARY:Hairdressers Service
DESCRIPTION:Contact scheme manager Tara – 01482 313 524
URL:https://www.pfh.org.uk/event/hairdressers-service-4/2026-06-02/
LOCATION:Humber View\, Camilla Cl\, Hull\, HU9 1UE\, United Kingdom
CATEGORIES:Resident Events
ATTACH;FMTTYPE=image/jpeg:https://www.pfh.org.uk/wp-content/uploads/2024/02/blonde-woman-getting-her-hair-done.jpg
GEO:53.7391243;-0.3273038
X-APPLE-STRUCTURED-LOCATION;VALUE=URI;X-ADDRESS=Humber View Camilla Cl Hull HU9 1UE United Kingdom;X-APPLE-RADIUS=500;X-TITLE=Camilla Cl:geo:-0.3273038,53.7391243
END:VEVENT
BEGIN:VEVENT
DTSTART;TZID=Europe/London:20260602T190000
DTEND;TZID=Europe/London:20260602T210000
DTSTAMP:20260426T012602
CREATED:20260119T152645Z
LAST-MODIFIED:20260119T152645Z
UID:10022137-1780426800-1780434000@www.pfh.org.uk
SUMMARY:Scrabble
DESCRIPTION:Tuesday and Thursday 7pm – 9pm
URL:https://www.pfh.org.uk/event/scrabble/2026-06-02/
LOCATION:Humber View\, Camilla Cl\, Hull\, HU9 1UE\, United Kingdom
CATEGORIES:Resident Events,Residents
ATTACH;FMTTYPE=image/jpeg:https://www.pfh.org.uk/wp-content/uploads/2026/01/shutterstock_2386784097-scaled.jpg
GEO:53.7391243;-0.3273038
X-APPLE-STRUCTURED-LOCATION;VALUE=URI;X-ADDRESS=Humber View Camilla Cl Hull HU9 1UE United Kingdom;X-APPLE-RADIUS=500;X-TITLE=Camilla Cl:geo:-0.3273038,53.7391243
END:VEVENT
END:VCALENDAR